Workbook

Sheet Anleitung
B2: Arbeitszeitnachweis 2025
B3: Für eine beschäftigte Person: zwölf Monatsblätter mit Soll, Saldo und Überstundenkonto, eine Jahresauswertung.
B5: Der Weg in drei Schritten
B6: 1. Stammdaten füllen | C6: Betrieb, Name der beschäftigten Person, Bundesland, die vereinbarte Wochenarbeitszeit und die Überstunden aus dem Vorjahr. Das Bundesland steuert die Feiertage in allen Monatsblättern.
B7: 2. Tage eintragen | C7: Im Monatsblatt je Tag die Art wählen und bei Arbeit Beginn, Ende und die Pause in Minuten eintragen. Dauer, Soll und Saldo rechnet die Datei. Urlaub, Krank und Feiertag haben kein Soll; Frei steht für Freizeitausgleich und geht vom Überstundenkonto ab.
B8: 3. Auswertung lesen | C8: Das Blatt Auswertung zeigt je Monat Stunden, Soll, Saldo und den Stand des Überstundenkontos, dazu die Tage mit Aufzeichnung und die Zahl der Hinweise.
B10: Was die Datei aufzeichnet
B11: Die Vorschrift | C11: Was sie verlangt
B12: § 17 Absatz 1 Mindestlohngesetz | C12: Beginn, Ende und Dauer der täglichen Arbeitszeit aufzeichnen, spätestens sieben Tage nach der Arbeitsleistung, und die Aufzeichnung zwei Jahre aufbewahren.
B13: § 16 Absatz 2 Arbeitszeitgesetz | C13: Die über acht Stunden hinausgehende Arbeitszeit aufzeichnen und die Aufzeichnung zwei Jahre aufbewahren.
B14: § 3 Arbeitszeitgesetz | C14: Werktäglich acht Stunden, verlängerbar auf zehn, wenn im Ausgleichszeitraum von sechs Kalendermonaten oder 24 Wochen im Schnitt acht Stunden nicht überschritten werden.
B15: § 4 Arbeitszeitgesetz | C15: Ruhepause von 30 Minuten bei mehr als sechs Stunden Arbeitszeit, von 45 Minuten bei mehr als neun Stunden.
B16: § 5 Absatz 1 Arbeitszeitgesetz | C16: Nach Beendigung der Arbeitszeit eine ununterbrochene Ruhezeit von mindestens elf Stunden.
B18: Was die Datei nicht tut
C19: Sie sagt nicht, ob dieser Betrieb aufzeichnungspflichtig ist, und sie sagt nicht, ob eine eingetragene Arbeitszeit zulässig war. Das Arbeitszeitgesetz kennt Ausnahmen über Tarifverträge, Betriebsvereinbarungen und Aufsichtsbehörden. Die Spalte Hinweis markiert, was auffällt, und nennt die Vorschrift dazu. Die Beurteilung des Einzelfalls gehört zu einer Beratung und nicht in eine Tabelle.
B21: Für weitere Personen
C22: Der Nachweis wird je Person geführt. Für eine zweite Person wird diese Datei kopiert und in den Stammdaten der Name geändert.
B24: Für das ganze Team
C25: Ohne Kopieren und ohne Abtippen: Mit Personalplaner24 stempelt jede Person am eigenen Handy, Soll, Saldo, Überstundenkonto und Stundenzettel entstehen von selbst. personalplaner24.de

Sheet Stammdaten
B2: Stammdaten
B4: Betrieb | D4: Steht im Kopf jedes Monatsblatts.
B5: Beschäftigte Person | D5: Der Nachweis wird je Person geführt.
B6: Bundesland | C6: BY | D6: Steuert die Feiertage in allen Monatsblättern.
B7: Jahr | C7: 2025 | D7: Wird in den Monatsblättern angezeigt.
B8: Vereinbarte Wochenstunden | C8: 40 | D8: Geht in die Auswertung ein.
B9: Arbeitstage je Woche | C9: 5 | D9: Montag bis Freitag bei 5. Bestimmt das Soll je Tag.
B10: Überstunden aus dem Vorjahr (h) | C10: 0 | D10: Startwert des Überstundenkontos, minus für Minusstunden.
B12: Die Kürzel der Bundesländer
B13: BB | C13: Brandenburg
B14: BE | C14: Berlin
B15: BW | C15: Baden-Württemberg
B16: BY | C16: Bayern
B17: HB | C17: Bremen
B18: HE | C18: Hessen
B19: HH | C19: Hamburg
B20: MV | C20: Mecklenburg-Vorpommern
B21: NI | C21: Niedersachsen
B22: NW | C22: Nordrhein-Westfalen
B23: RP | C23: Rheinland-Pfalz
B24: SH | C24: Schleswig-Holstein
... B28: TH | C28: Thüringen

Sheet Januar
A2: Arbeitszeitnachweis Januar 2025
A3: Betrieb | B3: =Stammdaten!$C$4
A4: Person | B4: =Stammdaten!$C$5
A6: Datum | B6: Tag | C6: Feiertag | D6: Art | E6: Beginn | F6: Ende | G6: Pause (min) | H6: Dauer (h) | I6: Soll (h) | J6: Saldo (h) | K6: Hinweis | L6: Bemerkung
A7: 45658 | B7: Mi | C7: =IFERROR(IF(INDEX(Feiertage!$D$6:$S$24,MATCH($A7,Feiertage!$B$6:$B$24,0),MATCH(Stammdaten!$C$6,Feiertage!$D$5:$S$5,0))="x",INDEX(Feiertage!$C$6:$C$24,MATCH($A7,Feiertage!$B$6:$B$24,0)),""),"") | H7: =IF(OR($E7="",$F7=""),"",MOD($F7-$E7,1)*24-$G7/60) | I7: =IF(NOT(OR($D7<>"",ISNUMBER($H7))),"",IF(OR($C7<>"",$D7="Urlaub",$D7="Krank",$D7="Feiertag"),0,IF(WEEKDAY($A7,2)<=Stammdaten!$C$9,Stammdaten!$C$8/Stammdaten!$C$9,0))) | J7: =IF($I7="","",IF(ISNUMBER($H7),$H7,0)-$I7) | K7: =IF(OR($D7="Urlaub",$D7="Krank",$D7="Feiertag",$D7="Frei"),"",IF(AND(ISNUMBER($H7),$H7<0),"Pause länger als die Anwesenheit. ","")&IF(AND(ISNUMBER($H7),$H7>8),"über 8 h (§ 3 ArbZG). ","")&IF(AND(ISNUMBER($H7),$H7>9),IF($G7<45,"Pause unter 45 min (§ 4 ArbZG). ",""),IF(AND(ISNUMBER($H7),$H7>6),IF($G7<30,"Pause unter 30 min (§ 4 ArbZG). ",""),"")))
A8: 45659 | B8: Do | C8: =IFERROR(IF(INDEX(Feiertage!$D$6:$S$24,MATCH($A8,Feiertage!$B$6:$B$24,0),MATCH(Stammdaten!$C$6,Feiertage!$D$5:$S$5,0))="x",INDEX(Feiertage!$C$6:$C$24,MATCH($A8,Feiertage!$B$6:$B$24,0)),""),"") | H8: =IF(OR($E8="",$F8=""),"",MOD($F8-$E8,1)*24-$G8/60) | I8: =IF(NOT(OR($D8<>"",ISNUMBER($H8))),"",IF(OR($C8<>"",$D8="Urlaub",$D8="Krank",$D8="Feiertag"),0,IF(WEEKDAY($A8,2)<=Stammdaten!$C$9,Stammdaten!$C$8/Stammdaten!$C$9,0))) | J8: =IF($I8="","",IF(ISNUMBER($H8),$H8,0)-$I8) | K8: =IF(OR($D8="Urlaub",$D8="Krank",$D8="Feiertag",$D8="Frei"),"",IF(AND(ISNUMBER($H8),$H8<0),"Pause länger als die Anwesenheit. ","")&IF(AND(ISNUMBER($H8),$H8>8),"über 8 h (§ 3 ArbZG). ","")&IF(AND(ISNUMBER($H8),$H8>9),IF($G8<45,"Pause unter 45 min (§ 4 ArbZG). ",""),IF(AND(ISNUMBER($H8),$H8>6),IF($G8<30,"Pause unter 30 min (§ 4 ArbZG). ",""),""))&IF(AND(ISNUMBER($F7),ISNUMBER($E7),ISNUMBER($E8)),IF(IF($F7<$E7,($E8-$F7)*24,(1-$F7+$E8)*24)<11,"Ruhezeit unter 11 h (§ 5 ArbZG). ",""),""))
A9: 45660 | B9: Fr | C9: =IFERROR(IF(INDEX(Feiertage!$D$6:$S$24,MATCH($A9,Feiertage!$B$6:$B$24,0),MATCH(Stammdaten!$C$6,Feiertage!$D$5:$S$5,0))="x",INDEX(Feiertage!$C$6:$C$24,MATCH($A9,Feiertage!$B$6:$B$24,0)),""),"") | H9: =IF(OR($E9="",$F9=""),"",MOD($F9-$E9,1)*24-$G9/60) | I9: =IF(NOT(OR($D9<>"",ISNUMBER($H9))),"",IF(OR($C9<>"",$D9="Urlaub",$D9="Krank",$D9="Feiertag"),0,IF(WEEKDAY($A9,2)<=Stammdaten!$C$9,Stammdaten!$C$8/Stammdaten!$C$9,0))) | J9: =IF($I9="","",IF(ISNUMBER($H9),$H9,0)-$I9) | K9: =IF(OR($D9="Urlaub",$D9="Krank",$D9="Feiertag",$D9="Frei"),"",IF(AND(ISNUMBER($H9),$H9<0),"Pause länger als die Anwesenheit. ","")&IF(AND(ISNUMBER($H9),$H9>8),"über 8 h (§ 3 ArbZG). ","")&IF(AND(ISNUMBER($H9),$H9>9),IF($G9<45,"Pause unter 45 min (§ 4 ArbZG). ",""),IF(AND(ISNUMBER($H9),$H9>6),IF($G9<30,"Pause unter 30 min (§ 4 ArbZG). ",""),""))&IF(AND(ISNUMBER($F8),ISNUMBER($E8),ISNUMBER($E9)),IF(IF($F8<$E8,($E9-$F8)*24,(1-$F8+$E9)*24)<11,"Ruhezeit unter 11 h (§ 5 ArbZG). ",""),""))
A10: 45661 | B10: Sa | C10: =IFERROR(IF(INDEX(Feiertage!$D$6:$S$24,MATCH($A10,Feiertage!$B$6:$B$24,0),MATCH(Stammdaten!$C$6,Feiertage!$D$5:$S$5,0))="x",INDEX(Feiertage!$C$6:$C$24,MATCH($A10,Feiertage!$B$6:$B$24,0)),""),"") | H10: =IF(OR($E10="",$F10=""),"",MOD($F10-$E10,1)*24-$G10/60) | I10: =IF(NOT(OR($D10<>"",ISNUMBER($H10))),"",IF(OR($C10<>"",$D10="Urlaub",$D10="Krank",$D10="Feiertag"),0,IF(WEEKDAY($A10,2)<=Stammdaten!$C$9,Stammdaten!$C$8/Stammdaten!$C$9,0))) | J10: =IF($I10="","",IF(ISNUMBER($H10),$H10,0)-$I10) | K10: =IF(OR($D10="Urlaub",$D10="Krank",$D10="Feiertag",$D10="Frei"),"",IF(AND(ISNUMBER($H10),$H10<0),"Pause länger als die Anwesenheit. ","")&IF(AND(ISNUMBER($H10),$H10>8),"über 8 h (§ 3 ArbZG). ","")&IF(AND(ISNUMBER($H10),$H10>9),IF($G10<45,"Pause unter 45 min (§ 4 ArbZG). ",""),IF(AND(ISNUMBER($H10),$H10>6),IF($G10<30,"Pause unter 30 min (§ 4 ArbZG). ",""),""))&IF(AND(ISNUMBER($F9),ISNUMBER($E9),ISNUMBER($E10)),IF(IF($F9<$E9,($E10-$F9)*24,(1-$F9+$E10)*24)<11,"Ruhezeit unter 11 h (§ 5 ArbZG). ",""),""))
A11: 45662 | B11: So | C11: =IFERROR(IF(INDEX(Feiertage!$D$6:$S$24,MATCH($A11,Feiertage!$B$6:$B$24,0),MATCH(Stammdaten!$C$6,Feiertage!$D$5:$S$5,0))="x",INDEX(Feiertage!$C$6:$C$24,MATCH($A11,Feiertage!$B$6:$B$24,0)),""),"") | H11: =IF(OR($E11="",$F11=""),"",MOD($F11-$E11,1)*24-$G11/60) | I11: =IF(NOT(OR($D11<>"",ISNUMBER($H11))),"",IF(OR($C11<>"",$D11="Urlaub",$D11="Krank",$D11="Feiertag"),0,IF(WEEKDAY($A11,2)<=Stammdaten!$C$9,Stammdaten!$C$8/Stammdaten!$C$9,0))) | J11: =IF($I11="","",IF(ISNUMBER($H11),$H11,0)-$I11) | K11: =IF(OR($D11="Urlaub",$D11="Krank",$D11="Feiertag",$D11="Frei"),"",IF(AND(ISNUMBER($H11),$H11<0),"Pause länger als die Anwesenheit. ","")&IF(AND(ISNUMBER($H11),$H11>8),"über 8 h (§ 3 ArbZG). ","")&IF(AND(ISNUMBER($H11),$H11>9),IF($G11<45,"Pause unter 45 min (§ 4 ArbZG). ",""),IF(AND(ISNUMBER($H11),$H11>6),IF($G11<30,"Pause unter 30 min (§ 4 ArbZG). ",""),""))&IF(AND(ISNUMBER($F10),ISNUMBER($E10),ISNUMBER($E11)),IF(IF($F10<$E10,($E11-$F10)*24,(1-$F10+$E11)*24)<11,"Ruhezeit unter 11 h (§ 5 ArbZG). ",""),""))
A12: 45663 | B12: Mo | C12: =IFERROR(IF(INDEX(Feiertage!$D$6:$S$24,MATCH($A12,Feiertage!$B$6:$B$24,0),MATCH(Stammdaten!$C$6,Feiertage!$D$5:$S$5,0))="x",INDEX(Feiertage!$C$6:$C$24,MATCH($A12,Feiertage!$B$6:$B$24,0)),""),"") | H12: =IF(OR($E12="",$F12=""),"",MOD($F12-$E12,1)*24-$G12/60) | I12: =IF(NOT(OR($D12<>"",ISNUMBER($H12))),"",IF(OR($C12<>"",$D12="Urlaub",$D12="Krank",$D12="Feiertag"),0,IF(WEEKDAY($A12,2)<=Stammdaten!$C$9,Stammdaten!$C$8/Stammdaten!$C$9,0))) | J12: =IF($I12="","",IF(ISNUMBER($H12),$H12,0)-$I12) | K12: =IF(OR($D12="Urlaub",$D12="Krank",$D12="Feiertag",$D12="Frei"),"",IF(AND(ISNUMBER($H12),$H12<0),"Pause länger als die Anwesenheit. ","")&IF(AND(ISNUMBER($H12),$H12>8),"über 8 h (§ 3 ArbZG). ","")&IF(AND(ISNUMBER($H12),$H12>9),IF($G12<45,"Pause unter 45 min (§ 4 ArbZG). ",""),IF(AND(ISNUMBER($H12),$H12>6),IF($G12<30,"Pause unter 30 min (§ 4 ArbZG). ",""),""))&IF(AND(ISNUMBER($F11),ISNUMBER($E11),ISNUMBER($E12)),IF(IF($F11<$E11,($E12-$F11)*24,(1-$F11+$E12)*24)<11,"Ruhezeit unter 11 h (§ 5 ArbZG). ",""),""))
A13: 45664 | B13: Di | C13: =IFERROR(IF(INDEX(Feiertage!$D$6:$S$24,MATCH($A13,Feiertage!$B$6:$B$24,0),MATCH(Stammdaten!$C$6,Feiertage!$D$5:$S$5,0))="x",INDEX(Feiertage!$C$6:$C$24,MATCH($A13,Feiertage!$B$6:$B$24,0)),""),"") | H13: =IF(OR($E13="",$F13=""),"",MOD($F13-$E13,1)*24-$G13/60) | I13: =IF(NOT(OR($D13<>"",ISNUMBER($H13))),"",IF(OR($C13<>"",$D13="Urlaub",$D13="Krank",$D13="Feiertag"),0,IF(WEEKDAY($A13,2)<=Stammdaten!$C$9,Stammdaten!$C$8/Stammdaten!$C$9,0))) | J13: =IF($I13="","",IF(ISNUMBER($H13),$H13,0)-$I13) | K13: =IF(OR($D13="Urlaub",$D13="Krank",$D13="Feiertag",$D13="Frei"),"",IF(AND(ISNUMBER($H13),$H13<0),"Pause länger als die Anwesenheit. ","")&IF(AND(ISNUMBER($H13),$H13>8),"über 8 h (§ 3 ArbZG). ","")&IF(AND(ISNUMBER($H13),$H13>9),IF($G13<45,"Pause unter 45 min (§ 4 ArbZG). ",""),IF(AND(ISNUMBER($H13),$H13>6),IF($G13<30,"Pause unter 30 min (§ 4 ArbZG). ",""),""))&IF(AND(ISNUMBER($F12),ISNUMBER($E12),ISNUMBER($E13)),IF(IF($F12<$E12,($E13-$F12)*24,(1-$F12+$E13)*24)<11,"Ruhezeit unter 11 h (§ 5 ArbZG). ",""),""))
A14: 45665 | B14: Mi | C14: =IFERROR(IF(INDEX(Feiertage!$D$6:$S$24,MATCH($A14,Feiertage!$B$6:$B$24,0),MATCH(Stammdaten!$C$6,Feiertage!$D$5:$S$5,0))="x",INDEX(Feiertage!$C$6:$C$24,MATCH($A14,Feiertage!$B$6:$B$24,0)),""),"") | H14: =IF(OR($E14="",$F14=""),"",MOD($F14-$E14,1)*24-$G14/60) | I14: =IF(NOT(OR($D14<>"",ISNUMBER($H14))),"",IF(OR($C14<>"",$D14="Urlaub",$D14="Krank",$D14="Feiertag"),0,IF(WEEKDAY($A14,2)<=Stammdaten!$C$9,Stammdaten!$C$8/Stammdaten!$C$9,0))) | J14: =IF($I14="","",IF(ISNUMBER($H14),$H14,0)-$I14) | K14: =IF(OR($D14="Urlaub",$D14="Krank",$D14="Feiertag",$D14="Frei"),"",IF(AND(ISNUMBER($H14),$H14<0),"Pause länger als die Anwesenheit. ","")&IF(AND(ISNUMBER($H14),$H14>8),"über 8 h (§ 3 ArbZG). ","")&IF(AND(ISNUMBER($H14),$H14>9),IF($G14<45,"Pause unter 45 min (§ 4 ArbZG). ",""),IF(AND(ISNUMBER($H14),$H14>6),IF($G14<30,"Pause unter 30 min (§ 4 ArbZG). ",""),""))&IF(AND(ISNUMBER($F13),ISNUMBER($E13),ISNUMBER($E14)),IF(IF($F13<$E13,($E14-$F13)*24,(1-$F13+$E14)*24)<11,"Ruhezeit unter 11 h (§ 5 ArbZG). ",""),""))
A15: 45666 | B15: Do | C15: =IFERROR(IF(INDEX(Feiertage!$D$6:$S$24,MATCH($A15,Feiertage!$B$6:$B$24,0),MATCH(Stammdaten!$C$6,Feiertage!$D$5:$S$5,0))="x",INDEX(Feiertage!$C$6:$C$24,MATCH($A15,Feiertage!$B$6:$B$24,0)),""),"") | H15: =IF(OR($E15="",$F15=""),"",MOD($F15-$E15,1)*24-$G15/60) | I15: =IF(NOT(OR($D15<>"",ISNUMBER($H15))),"",IF(OR($C15<>"",$D15="Urlaub",$D15="Krank",$D15="Feiertag"),0,IF(WEEKDAY($A15,2)<=Stammdaten!$C$9,Stammdaten!$C$8/Stammdaten!$C$9,0))) | J15: =IF($I15="","",IF(ISNUMBER($H15),$H15,0)-$I15) | K15: =IF(OR($D15="Urlaub",$D15="Krank",$D15="Feiertag",$D15="Frei"),"",IF(AND(ISNUMBER($H15),$H15<0),"Pause länger als die Anwesenheit. ","")&IF(AND(ISNUMBER($H15),$H15>8),"über 8 h (§ 3 ArbZG). ","")&IF(AND(ISNUMBER($H15),$H15>9),IF($G15<45,"Pause unter 45 min (§ 4 ArbZG). ",""),IF(AND(ISNUMBER($H15),$H15>6),IF($G15<30,"Pause unter 30 min (§ 4 ArbZG). ",""),""))&IF(AND(ISNUMBER($F14),ISNUMBER($E14),ISNUMBER($E15)),IF(IF($F14<$E14,($E15-$F14)*24,(1-$F14+$E15)*24)<11,"Ruhezeit unter 11 h (§ 5 ArbZG). ",""),""))
A16: 45667 | B16: Fr | C16: =IFERROR(IF(INDEX(Feiertage!$D$6:$S$24,MATCH($A16,Feiertage!$B$6:$B$24,0),MATCH(Stammdaten!$C$6,Feiertage!$D$5:$S$5,0))="x",INDEX(Feiertage!$C$6:$C$24,MATCH($A16,Feiertage!$B$6:$B$24,0)),""),"") | H16: =IF(OR($E16="",$F16=""),"",MOD($F16-$E16,1)*24-$G16/60) | I16: =IF(NOT(OR($D16<>"",ISNUMBER($H16))),"",IF(OR($C16<>"",$D16="Urlaub",$D16="Krank",$D16="Feiertag"),0,IF(WEEKDAY($A16,2)<=Stammdaten!$C$9,Stammdaten!$C$8/Stammdaten!$C$9,0))) | J16: =IF($I16="","",IF(ISNUMBER($H16),$H16,0)-$I16) | K16: =IF(OR($D16="Urlaub",$D16="Krank",$D16="Feiertag",$D16="Frei"),"",IF(AND(ISNUMBER($H16),$H16<0),"Pause länger als die Anwesenheit. ","")&IF(AND(ISNUMBER($H16),$H16>8),"über 8 h (§ 3 ArbZG). ","")&IF(AND(ISNUMBER($H16),$H16>9),IF($G16<45,"Pause unter 45 min (§ 4 ArbZG). ",""),IF(AND(ISNUMBER($H16),$H16>6),IF($G16<30,"Pause unter 30 min (§ 4 ArbZG). ",""),""))&IF(AND(ISNUMBER($F15),ISNUMBER($E15),ISNUMBER($E16)),IF(IF($F15<$E15,($E16-$F15)*24,(1-$F15+$E16)*24)<11,"Ruhezeit unter 11 h (§ 5 ArbZG). ",""),""))
A17: 45668 | B17: Sa | C17: =IFERROR(IF(INDEX(Feiertage!$D$6:$S$24,MATCH($A17,Feiertage!$B$6:$B$24,0),MATCH(Stammdaten!$C$6,Feiertage!$D$5:$S$5,0))="x",INDEX(Feiertage!$C$6:$C$24,MATCH($A17,Feiertage!$B$6:$B$24,0)),""),"") | H17: =IF(OR($E17="",$F17=""),"",MOD($F17-$E17,1)*24-$G17/60) | I17: =IF(NOT(OR($D17<>"",ISNUMBER($H17))),"",IF(OR($C17<>"",$D17="Urlaub",$D17="Krank",$D17="Feiertag"),0,IF(WEEKDAY($A17,2)<=Stammdaten!$C$9,Stammdaten!$C$8/Stammdaten!$C$9,0))) | J17: =IF($I17="","",IF(ISNUMBER($H17),$H17,0)-$I17) | K17: =IF(OR($D17="Urlaub",$D17="Krank",$D17="Feiertag",$D17="Frei"),"",IF(AND(ISNUMBER($H17),$H17<0),"Pause länger als die Anwesenheit. ","")&IF(AND(ISNUMBER($H17),$H17>8),"über 8 h (§ 3 ArbZG). ","")&IF(AND(ISNUMBER($H17),$H17>9),IF($G17<45,"Pause unter 45 min (§ 4 ArbZG). ",""),IF(AND(ISNUMBER($H17),$H17>6),IF($G17<30,"Pause unter 30 min (§ 4 ArbZG). ",""),""))&IF(AND(ISNUMBER($F16),ISNUMBER($E16),ISNUMBER($E17)),IF(IF($F16<$E16,($E17-$F16)*24,(1-$F16+$E17)*24)<11,"Ruhezeit unter 11 h (§ 5 ArbZG). ",""),""))
A18: 45669 | B18: So | C18: =IFERROR(IF(INDEX(Feiertage!$D$6:$S$24,MATCH($A18,Feiertage!$B$6:$B$24,0),MATCH(Stammdaten!$C$6,Feiertage!$D$5:$S$5,0))="x",INDEX(Feiertage!$C$6:$C$24,MATCH($A18,Feiertage!$B$6:$B$24,0)),""),"") | H18: =IF(OR($E18="",$F18=""),"",MOD($F18-$E18,1)*24-$G18/60) | I18: =IF(NOT(OR($D18<>"",ISNUMBER($H18))),"",IF(OR($C18<>"",$D18="Urlaub",$D18="Krank",$D18="Feiertag"),0,IF(WEEKDAY($A18,2)<=Stammdaten!$C$9,Stammdaten!$C$8/Stammdaten!$C$9,0))) | J18: =IF($I18="","",IF(ISNUMBER($H18),$H18,0)-$I18) | K18: =IF(OR($D18="Urlaub",$D18="Krank",$D18="Feiertag",$D18="Frei"),"",IF(AND(ISNUMBER($H18),$H18<0),"Pause länger als die Anwesenheit. ","")&IF(AND(ISNUMBER($H18),$H18>8),"über 8 h (§ 3 ArbZG). ","")&IF(AND(ISNUMBER($H18),$H18>9),IF($G18<45,"Pause unter 45 min (§ 4 ArbZG). ",""),IF(AND(ISNUMBER($H18),$H18>6),IF($G18<30,"Pause unter 30 min (§ 4 ArbZG). ",""),""))&IF(AND(ISNUMBER($F17),ISNUMBER($E17),ISNUMBER($E18)),IF(IF($F17<$E17,($E18-$F17)*24,(1-$F17+$E18)*24)<11,"Ruhezeit unter 11 h (§ 5 ArbZG). ",""),""))
A19: 45670 | B19: Mo | C19: =IFERROR(IF(INDEX(Feiertage!$D$6:$S$24,MATCH($A19,Feiertage!$B$6:$B$24,0),MATCH(Stammdaten!$C$6,Feiertage!$D$5:$S$5,0))="x",INDEX(Feiertage!$C$6:$C$24,MATCH($A19,Feiertage!$B$6:$B$24,0)),""),"") | H19: =IF(OR($E19="",$F19=""),"",MOD($F19-$E19,1)*24-$G19/60) | I19: =IF(NOT(OR($D19<>"",ISNUMBER($H19))),"",IF(OR($C19<>"",$D19="Urlaub",$D19="Krank",$D19="Feiertag"),0,IF(WEEKDAY($A19,2)<=Stammdaten!$C$9,Stammdaten!$C$8/Stammdaten!$C$9,0))) | J19: =IF($I19="","",IF(ISNUMBER($H19),$H19,0)-$I19) | K19: =IF(OR($D19="Urlaub",$D19="Krank",$D19="Feiertag",$D19="Frei"),"",IF(AND(ISNUMBER($H19),$H19<0),"Pause länger als die Anwesenheit. ","")&IF(AND(ISNUMBER($H19),$H19>8),"über 8 h (§ 3 ArbZG). ","")&IF(AND(ISNUMBER($H19),$H19>9),IF($G19<45,"Pause unter 45 min (§ 4 ArbZG). ",""),IF(AND(ISNUMBER($H19),$H19>6),IF($G19<30,"Pause unter 30 min (§ 4 ArbZG). ",""),""))&IF(AND(ISNUMBER($F18),ISNUMBER($E18),ISNUMBER($E19)),IF(IF($F18<$E18,($E19-$F18)*24,(1-$F18+$E19)*24)<11,"Ruhezeit unter 11 h (§ 5 ArbZG). ",""),""))
... A37: 45688 | B37: Fr | C37: =IFERROR(IF(INDEX(Feiertage!$D$6:$S$24,MATCH($A37,Feiertage!$B$6:$B$24,0),MATCH(Stammdaten!$C$6,Feiertage!$D$5:$S$5,0))="x",INDEX(Feiertage!$C$6:$C$24,MATCH($A37,Feiertage!$B$6:$B$24,0)),""),"") | H37: =IF(OR($E37="",$F37=""),"",MOD($F37-$E37,1)*24-$G37/60) | I37: =IF(NOT(OR($D37<>"",ISNUMBER($H37))),"",IF(OR($C37<>"",$D37="Urlaub",$D37="Krank",$D37="Feiertag"),0,IF(WEEKDAY($A37,2)<=Stammdaten!$C$9,Stammdaten!$C$8/Stammdaten!$C$9,0))) | J37: =IF($I37="","",IF(ISNUMBER($H37),$H37,0)-$I37) | K37: =IF(OR($D37="Urlaub",$D37="Krank",$D37="Feiertag",$D37="Frei"),"",IF(AND(ISNUMBER($H37),$H37<0),"Pause länger als die Anwesenheit. ","")&IF(AND(ISNUMBER($H37),$H37>8),"über 8 h (§ 3 ArbZG). ","")&IF(AND(ISNUMBER($H37),$H37>9),IF($G37<45,"Pause unter 45 min (§ 4 ArbZG). ",""),IF(AND(ISNUMBER($H37),$H37>6),IF($G37<30,"Pause unter 30 min (§ 4 ArbZG). ",""),""))&IF(AND(ISNUMBER($F36),ISNUMBER($E36),ISNUMBER($E37)),IF(IF($F36<$E36,($E37-$F36)*24,(1-$F36+$E37)*24)<11,"Ruhezeit unter 11 h (§ 5 ArbZG). ",""),""))
A38: Summe | G38: =SUM($G$7:$G$37) | H38: =SUM($H$7:$H$37) | I38: =SUM($I$7:$I$37) | J38: =SUM($J$7:$J$37)
A39: Überstundenkonto am Monatsende | J39: =Auswertung!$H$6

Sheet Februar
A2: Arbeitszeitnachweis Februar 2025
A3: Betrieb | B3: =Stammdaten!$C$4
A4: Person | B4: =Stammdaten!$C$5
A6: Datum | B6: Tag | C6: Feiertag | D6: Art | E6: Beginn | F6: Ende | G6: Pause (min) | H6: Dauer (h) | I6: Soll (h) | J6: Saldo (h) | K6: Hinweis | L6: Bemerkung
A7: 45689 | B7: Sa | C7: =IFERROR(IF(INDEX(Feiertage!$D$6:$S$24,MATCH($A7,Feiertage!$B$6:$B$24,0),MATCH(Stammdaten!$C$6,Feiertage!$D$5:$S$5,0))="x",INDEX(Feiertage!$C$6:$C$24,MATCH($A7,Feiertage!$B$6:$B$24,0)),""),"") | H7: =IF(OR($E7="",$F7=""),"",MOD($F7-$E7,1)*24-$G7/60) | I7: =IF(NOT(OR($D7<>"",ISNUMBER($H7))),"",IF(OR($C7<>"",$D7="Urlaub",$D7="Krank",$D7="Feiertag"),0,IF(WEEKDAY($A7,2)<=Stammdaten!$C$9,Stammdaten!$C$8/Stammdaten!$C$9,0))) | J7: =IF($I7="","",IF(ISNUMBER($H7),$H7,0)-$I7) | K7: =IF(OR($D7="Urlaub",$D7="Krank",$D7="Feiertag",$D7="Frei"),"",IF(AND(ISNUMBER($H7),$H7<0),"Pause länger als die Anwesenheit. ","")&IF(AND(ISNUMBER($H7),$H7>8),"über 8 h (§ 3 ArbZG). ","")&IF(AND(ISNUMBER($H7),$H7>9),IF($G7<45,"Pause unter 45 min (§ 4 ArbZG). ",""),IF(AND(ISNUMBER($H7),$H7>6),IF($G7<30,"Pause unter 30 min (§ 4 ArbZG). ",""),"")))
A8: 45690 | B8: So | C8: =IFERROR(IF(INDEX(Feiertage!$D$6:$S$24,MATCH($A8,Feiertage!$B$6:$B$24,0),MATCH(Stammdaten!$C$6,Feiertage!$D$5:$S$5,0))="x",INDEX(Feiertage!$C$6:$C$24,MATCH($A8,Feiertage!$B$6:$B$24,0)),""),"") | H8: =IF(OR($E8="",$F8=""),"",MOD($F8-$E8,1)*24-$G8/60) | I8: =IF(NOT(OR($D8<>"",ISNUMBER($H8))),"",IF(OR($C8<>"",$D8="Urlaub",$D8="Krank",$D8="Feiertag"),0,IF(WEEKDAY($A8,2)<=Stammdaten!$C$9,Stammdaten!$C$8/Stammdaten!$C$9,0))) | J8: =IF($I8="","",IF(ISNUMBER($H8),$H8,0)-$I8) | K8: =IF(OR($D8="Urlaub",$D8="Krank",$D8="Feiertag",$D8="Frei"),"",IF(AND(ISNUMBER($H8),$H8<0),"Pause länger als die Anwesenheit. ","")&IF(AND(ISNUMBER($H8),$H8>8),"über 8 h (§ 3 ArbZG). ","")&IF(AND(ISNUMBER($H8),$H8>9),IF($G8<45,"Pause unter 45 min (§ 4 ArbZG). ",""),IF(AND(ISNUMBER($H8),$H8>6),IF($G8<30,"Pause unter 30 min (§ 4 ArbZG). ",""),""))&IF(AND(ISNUMBER($F7),ISNUMBER($E7),ISNUMBER($E8)),IF(IF($F7<$E7,($E8-$F7)*24,(1-$F7+$E8)*24)<11,"Ruhezeit unter 11 h (§ 5 ArbZG). ",""),""))
A9: 45691 | B9: Mo | C9: =IFERROR(IF(INDEX(Feiertage!$D$6:$S$24,MATCH($A9,Feiertage!$B$6:$B$24,0),MATCH(Stammdaten!$C$6,Feiertage!$D$5:$S$5,0))="x",INDEX(Feiertage!$C$6:$C$24,MATCH($A9,Feiertage!$B$6:$B$24,0)),""),"") | H9: =IF(OR($E9="",$F9=""),"",MOD($F9-$E9,1)*24-$G9/60) | I9: =IF(NOT(OR($D9<>"",ISNUMBER($H9))),"",IF(OR($C9<>"",$D9="Urlaub",$D9="Krank",$D9="Feiertag"),0,IF(WEEKDAY($A9,2)<=Stammdaten!$C$9,Stammdaten!$C$8/Stammdaten!$C$9,0))) | J9: =IF($I9="","",IF(ISNUMBER($H9),$H9,0)-$I9) | K9: =IF(OR($D9="Urlaub",$D9="Krank",$D9="Feiertag",$D9="Frei"),"",IF(AND(ISNUMBER($H9),$H9<0),"Pause länger als die Anwesenheit. ","")&IF(AND(ISNUMBER($H9),$H9>8),"über 8 h (§ 3 ArbZG). ","")&IF(AND(ISNUMBER($H9),$H9>9),IF($G9<45,"Pause unter 45 min (§ 4 ArbZG). ",""),IF(AND(ISNUMBER($H9),$H9>6),IF($G9<30,"Pause unter 30 min (§ 4 ArbZG). ",""),""))&IF(AND(ISNUMBER($F8),ISNUMBER($E8),ISNUMBER($E9)),IF(IF($F8<$E8,($E9-$F8)*24,(1-$F8+$E9)*24)<11,"Ruhezeit unter 11 h (§ 5 ArbZG). ",""),""))
A10: 45692 | B10: Di | C10: =IFERROR(IF(INDEX(Feiertage!$D$6:$S$24,MATCH($A10,Feiertage!$B$6:$B$24,0),MATCH(Stammdaten!$C$6,Feiertage!$D$5:$S$5,0))="x",INDEX(Feiertage!$C$6:$C$24,MATCH($A10,Feiertage!$B$6:$B$24,0)),""),"") | H10: =IF(OR($E10="",$F10=""),"",MOD($F10-$E10,1)*24-$G10/60) | I10: =IF(NOT(OR($D10<>"",ISNUMBER($H10))),"",IF(OR($C10<>"",$D10="Urlaub",$D10="Krank",$D10="Feiertag"),0,IF(WEEKDAY($A10,2)<=Stammdaten!$C$9,Stammdaten!$C$8/Stammdaten!$C$9,0))) | J10: =IF($I10="","",IF(ISNUMBER($H10),$H10,0)-$I10) | K10: =IF(OR($D10="Urlaub",$D10="Krank",$D10="Feiertag",$D10="Frei"),"",IF(AND(ISNUMBER($H10),$H10<0),"Pause länger als die Anwesenheit. ","")&IF(AND(ISNUMBER($H10),$H10>8),"über 8 h (§ 3 ArbZG). ","")&IF(AND(ISNUMBER($H10),$H10>9),IF($G10<45,"Pause unter 45 min (§ 4 ArbZG). ",""),IF(AND(ISNUMBER($H10),$H10>6),IF($G10<30,"Pause unter 30 min (§ 4 ArbZG). ",""),""))&IF(AND(ISNUMBER($F9),ISNUMBER($E9),ISNUMBER($E10)),IF(IF($F9<$E9,($E10-$F9)*24,(1-$F9+$E10)*24)<11,"Ruhezeit unter 11 h (§ 5 ArbZG). ",""),""))
A11: 45693 | B11: Mi | C11: =IFERROR(IF(INDEX(Feiertage!$D$6:$S$24,MATCH($A11,Feiertage!$B$6:$B$24,0),MATCH(Stammdaten!$C$6,Feiertage!$D$5:$S$5,0))="x",INDEX(Feiertage!$C$6:$C$24,MATCH($A11,Feiertage!$B$6:$B$24,0)),""),"") | H11: =IF(OR($E11="",$F11=""),"",MOD($F11-$E11,1)*24-$G11/60) | I11: =IF(NOT(OR($D11<>"",ISNUMBER($H11))),"",IF(OR($C11<>"",$D11="Urlaub",$D11="Krank",$D11="Feiertag"),0,IF(WEEKDAY($A11,2)<=Stammdaten!$C$9,Stammdaten!$C$8/Stammdaten!$C$9,0))) | J11: =IF($I11="","",IF(ISNUMBER($H11),$H11,0)-$I11) | K11: =IF(OR($D11="Urlaub",$D11="Krank",$D11="Feiertag",$D11="Frei"),"",IF(AND(ISNUMBER($H11),$H11<0),"Pause länger als die Anwesenheit. ","")&IF(AND(ISNUMBER($H11),$H11>8),"über 8 h (§ 3 ArbZG). ","")&IF(AND(ISNUMBER($H11),$H11>9),IF($G11<45,"Pause unter 45 min (§ 4 ArbZG). ",""),IF(AND(ISNUMBER($H11),$H11>6),IF($G11<30,"Pause unter 30 min (§ 4 ArbZG). ",""),""))&IF(AND(ISNUMBER($F10),ISNUMBER($E10),ISNUMBER($E11)),IF(IF($F10<$E10,($E11-$F10)*24,(1-$F10+$E11)*24)<11,"Ruhezeit unter 11 h (§ 5 ArbZG). ",""),""))
A12: 45694 | B12: Do | C12: =IFERROR(IF(INDEX(Feiertage!$D$6:$S$24,MATCH($A12,Feiertage!$B$6:$B$24,0),MATCH(Stammdaten!$C$6,Feiertage!$D$5:$S$5,0))="x",INDEX(Feiertage!$C$6:$C$24,MATCH($A12,Feiertage!$B$6:$B$24,0)),""),"") | H12: =IF(OR($E12="",$F12=""),"",MOD($F12-$E12,1)*24-$G12/60) | I12: =IF(NOT(OR($D12<>"",ISNUMBER($H12))),"",IF(OR($C12<>"",$D12="Urlaub",$D12="Krank",$D12="Feiertag"),0,IF(WEEKDAY($A12,2)<=Stammdaten!$C$9,Stammdaten!$C$8/Stammdaten!$C$9,0))) | J12: =IF($I12="","",IF(ISNUMBER($H12),$H12,0)-$I12) | K12: =IF(OR($D12="Urlaub",$D12="Krank",$D12="Feiertag",$D12="Frei"),"",IF(AND(ISNUMBER($H12),$H12<0),"Pause länger als die Anwesenheit. ","")&IF(AND(ISNUMBER($H12),$H12>8),"über 8 h (§ 3 ArbZG). ","")&IF(AND(ISNUMBER($H12),$H12>9),IF($G12<45,"Pause unter 45 min (§ 4 ArbZG). ",""),IF(AND(ISNUMBER($H12),$H12>6),IF($G12<30,"Pause unter 30 min (§ 4 ArbZG). ",""),""))&IF(AND(ISNUMBER($F11),ISNUMBER($E11),ISNUMBER($E12)),IF(IF($F11<$E11,($E12-$F11)*24,(1-$F11+$E12)*24)<11,"Ruhezeit unter 11 h (§ 5 ArbZG). ",""),""))
A13: 45695 | B13: Fr | C13: =IFERROR(IF(INDEX(Feiertage!$D$6:$S$24,MATCH($A13,Feiertage!$B$6:$B$24,0),MATCH(Stammdaten!$C$6,Feiertage!$D$5:$S$5,0))="x",INDEX(Feiertage!$C$6:$C$24,MATCH($A13,Feiertage!$B$6:$B$24,0)),""),"") | H13: =IF(OR($E13="",$F13=""),"",MOD($F13-$E13,1)*24-$G13/60) | I13: =IF(NOT(OR($D13<>"",ISNUMBER($H13))),"",IF(OR($C13<>"",$D13="Urlaub",$D13="Krank",$D13="Feiertag"),0,IF(WEEKDAY($A13,2)<=Stammdaten!$C$9,Stammdaten!$C$8/Stammdaten!$C$9,0))) | J13: =IF($I13="","",IF(ISNUMBER($H13),$H13,0)-$I13) | K13: =IF(OR($D13="Urlaub",$D13="Krank",$D13="Feiertag",$D13="Frei"),"",IF(AND(ISNUMBER($H13),$H13<0),"Pause länger als die Anwesenheit. ","")&IF(AND(ISNUMBER($H13),$H13>8),"über 8 h (§ 3 ArbZG). ","")&IF(AND(ISNUMBER($H13),$H13>9),IF($G13<45,"Pause unter 45 min (§ 4 ArbZG). ",""),IF(AND(ISNUMBER($H13),$H13>6),IF($G13<30,"Pause unter 30 min (§ 4 ArbZG). ",""),""))&IF(AND(ISNUMBER($F12),ISNUMBER($E12),ISNUMBER($E13)),IF(IF($F12<$E12,($E13-$F12)*24,(1-$F12+$E13)*24)<11,"Ruhezeit unter 11 h (§ 5 ArbZG). ",""),""))
A14: 45696 | B14: Sa | C14: =IFERROR(IF(INDEX(Feiertage!$D$6:$S$24,MATCH($A14,Feiertage!$B$6:$B$24,0),MATCH(Stammdaten!$C$6,Feiertage!$D$5:$S$5,0))="x",INDEX(Feiertage!$C$6:$C$24,MATCH($A14,Feiertage!$B$6:$B$24,0)),""),"") | H14: =IF(OR($E14="",$F14=""),"",MOD($F14-$E14,1)*24-$G14/60) | I14: =IF(NOT(OR($D14<>"",ISNUMBER($H14))),"",IF(OR($C14<>"",$D14="Urlaub",$D14="Krank",$D14="Feiertag"),0,IF(WEEKDAY($A14,2)<=Stammdaten!$C$9,Stammdaten!$C$8/Stammdaten!$C$9,0))) | J14: =IF($I14="","",IF(ISNUMBER($H14),$H14,0)-$I14) | K14: =IF(OR($D14="Urlaub",$D14="Krank",$D14="Feiertag",$D14="Frei"),"",IF(AND(ISNUMBER($H14),$H14<0),"Pause länger als die Anwesenheit. ","")&IF(AND(ISNUMBER($H14),$H14>8),"über 8 h (§ 3 ArbZG). ","")&IF(AND(ISNUMBER($H14),$H14>9),IF($G14<45,"Pause unter 45 min (§ 4 ArbZG). ",""),IF(AND(ISNUMBER($H14),$H14>6),IF($G14<30,"Pause unter 30 min (§ 4 ArbZG). ",""),""))&IF(AND(ISNUMBER($F13),ISNUMBER($E13),ISNUMBER($E14)),IF(IF($F13<$E13,($E14-$F13)*24,(1-$F13+$E14)*24)<11,"Ruhezeit unter 11 h (§ 5 ArbZG). ",""),""))
A15: 45697 | B15: So | C15: =IFERROR(IF(INDEX(Feiertage!$D$6:$S$24,MATCH($A15,Feiertage!$B$6:$B$24,0),MATCH(Stammdaten!$C$6,Feiertage!$D$5:$S$5,0))="x",INDEX(Feiertage!$C$6:$C$24,MATCH($A15,Feiertage!$B$6:$B$24,0)),""),"") | H15: =IF(OR($E15="",$F15=""),"",MOD($F15-$E15,1)*24-$G15/60) | I15: =IF(NOT(OR($D15<>"",ISNUMBER($H15))),"",IF(OR($C15<>"",$D15="Urlaub",$D15="Krank",$D15="Feiertag"),0,IF(WEEKDAY($A15,2)<=Stammdaten!$C$9,Stammdaten!$C$8/Stammdaten!$C$9,0))) | J15: =IF($I15="","",IF(ISNUMBER($H15),$H15,0)-$I15) | K15: =IF(OR($D15="Urlaub",$D15="Krank",$D15="Feiertag",$D15="Frei"),"",IF(AND(ISNUMBER($H15),$H15<0),"Pause länger als die Anwesenheit. ","")&IF(AND(ISNUMBER($H15),$H15>8),"über 8 h (§ 3 ArbZG). ","")&IF(AND(ISNUMBER($H15),$H15>9),IF($G15<45,"Pause unter 45 min (§ 4 ArbZG). ",""),IF(AND(ISNUMBER($H15),$H15>6),IF($G15<30,"Pause unter 30 min (§ 4 ArbZG). ",""),""))&IF(AND(ISNUMBER($F14),ISNUMBER($E14),ISNUMBER($E15)),IF(IF($F14<$E14,($E15-$F14)*24,(1-$F14+$E15)*24)<11,"Ruhezeit unter 11 h (§ 5 ArbZG). ",""),""))
A16: 45698 | B16: Mo | C16: =IFERROR(IF(INDEX(Feiertage!$D$6:$S$24,MATCH($A16,Feiertage!$B$6:$B$24,0),MATCH(Stammdaten!$C$6,Feiertage!$D$5:$S$5,0))="x",INDEX(Feiertage!$C$6:$C$24,MATCH($A16,Feiertage!$B$6:$B$24,0)),""),"") | H16: =IF(OR($E16="",$F16=""),"",MOD($F16-$E16,1)*24-$G16/60) | I16: =IF(NOT(OR($D16<>"",ISNUMBER($H16))),"",IF(OR($C16<>"",$D16="Urlaub",$D16="Krank",$D16="Feiertag"),0,IF(WEEKDAY($A16,2)<=Stammdaten!$C$9,Stammdaten!$C$8/Stammdaten!$C$9,0))) | J16: =IF($I16="","",IF(ISNUMBER($H16),$H16,0)-$I16) | K16: =IF(OR($D16="Urlaub",$D16="Krank",$D16="Feiertag",$D16="Frei"),"",IF(AND(ISNUMBER($H16),$H16<0),"Pause länger als die Anwesenheit. ","")&IF(AND(ISNUMBER($H16),$H16>8),"über 8 h (§ 3 ArbZG). ","")&IF(AND(ISNUMBER($H16),$H16>9),IF($G16<45,"Pause unter 45 min (§ 4 ArbZG). ",""),IF(AND(ISNUMBER($H16),$H16>6),IF($G16<30,"Pause unter 30 min (§ 4 ArbZG). ",""),""))&IF(AND(ISNUMBER($F15),ISNUMBER($E15),ISNUMBER($E16)),IF(IF($F15<$E15,($E16-$F15)*24,(1-$F15+$E16)*24)<11,"Ruhezeit unter 11 h (§ 5 ArbZG). ",""),""))
A17: 45699 | B17: Di | C17: =IFERROR(IF(INDEX(Feiertage!$D$6:$S$24,MATCH($A17,Feiertage!$B$6:$B$24,0),MATCH(Stammdaten!$C$6,Feiertage!$D$5:$S$5,0))="x",INDEX(Feiertage!$C$6:$C$24,MATCH($A17,Feiertage!$B$6:$B$24,0)),""),"") | H17: =IF(OR($E17="",$F17=""),"",MOD($F17-$E17,1)*24-$G17/60) | I17: =IF(NOT(OR($D17<>"",ISNUMBER($H17))),"",IF(OR($C17<>"",$D17="Urlaub",$D17="Krank",$D17="Feiertag"),0,IF(WEEKDAY($A17,2)<=Stammdaten!$C$9,Stammdaten!$C$8/Stammdaten!$C$9,0))) | J17: =IF($I17="","",IF(ISNUMBER($H17),$H17,0)-$I17) | K17: =IF(OR($D17="Urlaub",$D17="Krank",$D17="Feiertag",$D17="Frei"),"",IF(AND(ISNUMBER($H17),$H17<0),"Pause länger als die Anwesenheit. ","")&IF(AND(ISNUMBER($H17),$H17>8),"über 8 h (§ 3 ArbZG). ","")&IF(AND(ISNUMBER($H17),$H17>9),IF($G17<45,"Pause unter 45 min (§ 4 ArbZG). ",""),IF(AND(ISNUMBER($H17),$H17>6),IF($G17<30,"Pause unter 30 min (§ 4 ArbZG). ",""),""))&IF(AND(ISNUMBER($F16),ISNUMBER($E16),ISNUMBER($E17)),IF(IF($F16<$E16,($E17-$F16)*24,(1-$F16+$E17)*24)<11,"Ruhezeit unter 11 h (§ 5 ArbZG). ",""),""))
A18: 45700 | B18: Mi | C18: =IFERROR(IF(INDEX(Feiertage!$D$6:$S$24,MATCH($A18,Feiertage!$B$6:$B$24,0),MATCH(Stammdaten!$C$6,Feiertage!$D$5:$S$5,0))="x",INDEX(Feiertage!$C$6:$C$24,MATCH($A18,Feiertage!$B$6:$B$24,0)),""),"") | H18: =IF(OR($E18="",$F18=""),"",MOD($F18-$E18,1)*24-$G18/60) | I18: =IF(NOT(OR($D18<>"",ISNUMBER($H18))),"",IF(OR($C18<>"",$D18="Urlaub",$D18="Krank",$D18="Feiertag"),0,IF(WEEKDAY($A18,2)<=Stammdaten!$C$9,Stammdaten!$C$8/Stammdaten!$C$9,0))) | J18: =IF($I18="","",IF(ISNUMBER($H18),$H18,0)-$I18) | K18: =IF(OR($D18="Urlaub",$D18="Krank",$D18="Feiertag",$D18="Frei"),"",IF(AND(ISNUMBER($H18),$H18<0),"Pause länger als die Anwesenheit. ","")&IF(AND(ISNUMBER($H18),$H18>8),"über 8 h (§ 3 ArbZG). ","")&IF(AND(ISNUMBER($H18),$H18>9),IF($G18<45,"Pause unter 45 min (§ 4 ArbZG). ",""),IF(AND(ISNUMBER($H18),$H18>6),IF($G18<30,"Pause unter 30 min (§ 4 ArbZG). ",""),""))&IF(AND(ISNUMBER($F17),ISNUMBER($E17),ISNUMBER($E18)),IF(IF($F17<$E17,($E18-$F17)*24,(1-$F17+$E18)*24)<11,"Ruhezeit unter 11 h (§ 5 ArbZG). ",""),""))
A19: 45701 | B19: Do | C19: =IFERROR(IF(INDEX(Feiertage!$D$6:$S$24,MATCH($A19,Feiertage!$B$6:$B$24,0),MATCH(Stammdaten!$C$6,Feiertage!$D$5:$S$5,0))="x",INDEX(Feiertage!$C$6:$C$24,MATCH($A19,Feiertage!$B$6:$B$24,0)),""),"") | H19: =IF(OR($E19="",$F19=""),"",MOD($F19-$E19,1)*24-$G19/60) | I19: =IF(NOT(OR($D19<>"",ISNUMBER($H19))),"",IF(OR($C19<>"",$D19="Urlaub",$D19="Krank",$D19="Feiertag"),0,IF(WEEKDAY($A19,2)<=Stammdaten!$C$9,Stammdaten!$C$8/Stammdaten!$C$9,0))) | J19: =IF($I19="","",IF(ISNUMBER($H19),$H19,0)-$I19) | K19: =IF(OR($D19="Urlaub",$D19="Krank",$D19="Feiertag",$D19="Frei"),"",IF(AND(ISNUMBER($H19),$H19<0),"Pause länger als die Anwesenheit. ","")&IF(AND(ISNUMBER($H19),$H19>8),"über 8 h (§ 3 ArbZG). ","")&IF(AND(ISNUMBER($H19),$H19>9),IF($G19<45,"Pause unter 45 min (§ 4 ArbZG). ",""),IF(AND(ISNUMBER($H19),$H19>6),IF($G19<30,"Pause unter 30 min (§ 4 ArbZG). ",""),""))&IF(AND(ISNUMBER($F18),ISNUMBER($E18),ISNUMBER($E19)),IF(IF($F18<$E18,($E19-$F18)*24,(1-$F18+$E19)*24)<11,"Ruhezeit unter 11 h (§ 5 ArbZG). ",""),""))
... A34: 45716 | B34: Fr | C34: =IFERROR(IF(INDEX(Feiertage!$D$6:$S$24,MATCH($A34,Feiertage!$B$6:$B$24,0),MATCH(Stammdaten!$C$6,Feiertage!$D$5:$S$5,0))="x",INDEX(Feiertage!$C$6:$C$24,MATCH($A34,Feiertage!$B$6:$B$24,0)),""),"") | H34: =IF(OR($E34="",$F34=""),"",MOD($F34-$E34,1)*24-$G34/60) | I34: =IF(NOT(OR($D34<>"",ISNUMBER($H34))),"",IF(OR($C34<>"",$D34="Urlaub",$D34="Krank",$D34="Feiertag"),0,IF(WEEKDAY($A34,2)<=Stammdaten!$C$9,Stammdaten!$C$8/Stammdaten!$C$9,0))) | J34: =IF($I34="","",IF(ISNUMBER($H34),$H34,0)-$I34) | K34: =IF(OR($D34="Urlaub",$D34="Krank",$D34="Feiertag",$D34="Frei"),"",IF(AND(ISNUMBER($H34),$H34<0),"Pause länger als die Anwesenheit. ","")&IF(AND(ISNUMBER($H34),$H34>8),"über 8 h (§ 3 ArbZG). ","")&IF(AND(ISNUMBER($H34),$H34>9),IF($G34<45,"Pause unter 45 min (§ 4 ArbZG). ",""),IF(AND(ISNUMBER($H34),$H34>6),IF($G34<30,"Pause unter 30 min (§ 4 ArbZG). ",""),""))&IF(AND(ISNUMBER($F33),ISNUMBER($E33),ISNUMBER($E34)),IF(IF($F33<$E33,($E34-$F33)*24,(1-$F33+$E34)*24)<11,"Ruhezeit unter 11 h (§ 5 ArbZG). ",""),""))
A35: Summe | G35: =SUM($G$7:$G$34) | H35: =SUM($H$7:$H$34) | I35: =SUM($I$7:$I$34) | J35: =SUM($J$7:$J$34)
A36: Überstundenkonto am Monatsende | J36: =Auswertung!$H$7

Sheet März
A2: Arbeitszeitnachweis März 2025
A3: Betrieb | B3: =Stammdaten!$C$4
A4: Person | B4: =Stammdaten!$C$5
A6: Datum | B6: Tag | C6: Feiertag | D6: Art | E6: Beginn | F6: Ende | G6: Pause (min) | H6: Dauer (h) | I6: Soll (h) | J6: Saldo (h) | K6: Hinweis | L6: Bemerkung
A7: 45717 | B7: Sa | C7: =IFERROR(IF(INDEX(Feiertage!$D$6:$S$24,MATCH($A7,Feiertage!$B$6:$B$24,0),MATCH(Stammdaten!$C$6,Feiertage!$D$5:$S$5,0))="x",INDEX(Feiertage!$C$6:$C$24,MATCH($A7,Feiertage!$B$6:$B$24,0)),""),"") | H7: =IF(OR($E7="",$F7=""),"",MOD($F7-$E7,1)*24-$G7/60) | I7: =IF(NOT(OR($D7<>"",ISNUMBER($H7))),"",IF(OR($C7<>"",$D7="Urlaub",$D7="Krank",$D7="Feiertag"),0,IF(WEEKDAY($A7,2)<=Stammdaten!$C$9,Stammdaten!$C$8/Stammdaten!$C$9,0))) | J7: =IF($I7="","",IF(ISNUMBER($H7),$H7,0)-$I7) | K7: =IF(OR($D7="Urlaub",$D7="Krank",$D7="Feiertag",$D7="Frei"),"",IF(AND(ISNUMBER($H7),$H7<0),"Pause länger als die Anwesenheit. ","")&IF(AND(ISNUMBER($H7),$H7>8),"über 8 h (§ 3 ArbZG). ","")&IF(AND(ISNUMBER($H7),$H7>9),IF($G7<45,"Pause unter 45 min (§ 4 ArbZG). ",""),IF(AND(ISNUMBER($H7),$H7>6),IF($G7<30,"Pause unter 30 min (§ 4 ArbZG). ",""),"")))
A8: 45718 | B8: So | C8: =IFERROR(IF(INDEX(Feiertage!$D$6:$S$24,MATCH($A8,Feiertage!$B$6:$B$24,0),MATCH(Stammdaten!$C$6,Feiertage!$D$5:$S$5,0))="x",INDEX(Feiertage!$C$6:$C$24,MATCH($A8,Feiertage!$B$6:$B$24,0)),""),"") | H8: =IF(OR($E8="",$F8=""),"",MOD($F8-$E8,1)*24-$G8/60) | I8: =IF(NOT(OR($D8<>"",ISNUMBER($H8))),"",IF(OR($C8<>"",$D8="Urlaub",$D8="Krank",$D8="Feiertag"),0,IF(WEEKDAY($A8,2)<=Stammdaten!$C$9,Stammdaten!$C$8/Stammdaten!$C$9,0))) | J8: =IF($I8="","",IF(ISNUMBER($H8),$H8,0)-$I8) | K8: =IF(OR($D8="Urlaub",$D8="Krank",$D8="Feiertag",$D8="Frei"),"",IF(AND(ISNUMBER($H8),$H8<0),"Pause länger als die Anwesenheit. ","")&IF(AND(ISNUMBER($H8),$H8>8),"über 8 h (§ 3 ArbZG). ","")&IF(AND(ISNUMBER($H8),$H8>9),IF($G8<45,"Pause unter 45 min (§ 4 ArbZG). ",""),IF(AND(ISNUMBER($H8),$H8>6),IF($G8<30,"Pause unter 30 min (§ 4 ArbZG). ",""),""))&IF(AND(ISNUMBER($F7),ISNUMBER($E7),ISNUMBER($E8)),IF(IF($F7<$E7,($E8-$F7)*24,(1-$F7+$E8)*24)<11,"Ruhezeit unter 11 h (§ 5 ArbZG). ",""),""))
A9: 45719 | B9: Mo | C9: =IFERROR(IF(INDEX(Feiertage!$D$6:$S$24,MATCH($A9,Feiertage!$B$6:$B$24,0),MATCH(Stammdaten!$C$6,Feiertage!$D$5:$S$5,0))="x",INDEX(Feiertage!$C$6:$C$24,MATCH($A9,Feiertage!$B$6:$B$24,0)),""),"") | H9: =IF(OR($E9="",$F9=""),"",MOD($F9-$E9,1)*24-$G9/60) | I9: =IF(NOT(OR($D9<>"",ISNUMBER($H9))),"",IF(OR($C9<>"",$D9="Urlaub",$D9="Krank",$D9="Feiertag"),0,IF(WEEKDAY($A9,2)<=Stammdaten!$C$9,Stammdaten!$C$8/Stammdaten!$C$9,0))) | J9: =IF($I9="","",IF(ISNUMBER($H9),$H9,0)-$I9) | K9: =IF(OR($D9="Urlaub",$D9="Krank",$D9="Feiertag",$D9="Frei"),"",IF(AND(ISNUMBER($H9),$H9<0),"Pause länger als die Anwesenheit. ","")&IF(AND(ISNUMBER($H9),$H9>8),"über 8 h (§ 3 ArbZG). ","")&IF(AND(ISNUMBER($H9),$H9>9),IF($G9<45,"Pause unter 45 min (§ 4 ArbZG). ",""),IF(AND(ISNUMBER($H9),$H9>6),IF($G9<30,"Pause unter 30 min (§ 4 ArbZG). ",""),""))&IF(AND(ISNUMBER($F8),ISNUMBER($E8),ISNUMBER($E9)),IF(IF($F8<$E8,($E9-$F8)*24,(1-$F8+$E9)*24)<11,"Ruhezeit unter 11 h (§ 5 ArbZG). ",""),""))
A10: 45720 | B10: Di | C10: =IFERROR(IF(INDEX(Feiertage!$D$6:$S$24,MATCH($A10,Feiertage!$B$6:$B$24,0),MATCH(Stammdaten!$C$6,Feiertage!$D$5:$S$5,0))="x",INDEX(Feiertage!$C$6:$C$24,MATCH($A10,Feiertage!$B$6:$B$24,0)),""),"") | H10: =IF(OR($E10="",$F10=""),"",MOD($F10-$E10,1)*24-$G10/60) | I10: =IF(NOT(OR($D10<>"",ISNUMBER($H10))),"",IF(OR($C10<>"",$D10="Urlaub",$D10="Krank",$D10="Feiertag"),0,IF(WEEKDAY($A10,2)<=Stammdaten!$C$9,Stammdaten!$C$8/Stammdaten!$C$9,0))) | J10: =IF($I10="","",IF(ISNUMBER($H10),$H10,0)-$I10) | K10: =IF(OR($D10="Urlaub",$D10="Krank",$D10="Feiertag",$D10="Frei"),"",IF(AND(ISNUMBER($H10),$H10<0),"Pause länger als die Anwesenheit. ","")&IF(AND(ISNUMBER($H10),$H10>8),"über 8 h (§ 3 ArbZG). ","")&IF(AND(ISNUMBER($H10),$H10>9),IF($G10<45,"Pause unter 45 min (§ 4 ArbZG). ",""),IF(AND(ISNUMBER($H10),$H10>6),IF($G10<30,"Pause unter 30 min (§ 4 ArbZG). ",""),""))&IF(AND(ISNUMBER($F9),ISNUMBER($E9),ISNUMBER($E10)),IF(IF($F9<$E9,($E10-$F9)*24,(1-$F9+$E10)*24)<11,"Ruhezeit unter 11 h (§ 5 ArbZG). ",""),""))
A11: 45721 | B11: Mi | C11: =IFERROR(IF(INDEX(Feiertage!$D$6:$S$24,MATCH($A11,Feiertage!$B$6:$B$24,0),MATCH(Stammdaten!$C$6,Feiertage!$D$5:$S$5,0))="x",INDEX(Feiertage!$C$6:$C$24,MATCH($A11,Feiertage!$B$6:$B$24,0)),""),"") | H11: =IF(OR($E11="",$F11=""),"",MOD($F11-$E11,1)*24-$G11/60) | I11: =IF(NOT(OR($D11<>"",ISNUMBER($H11))),"",IF(OR($C11<>"",$D11="Urlaub",$D11="Krank",$D11="Feiertag"),0,IF(WEEKDAY($A11,2)<=Stammdaten!$C$9,Stammdaten!$C$8/Stammdaten!$C$9,0))) | J11: =IF($I11="","",IF(ISNUMBER($H11),$H11,0)-$I11) | K11: =IF(OR($D11="Urlaub",$D11="Krank",$D11="Feiertag",$D11="Frei"),"",IF(AND(ISNUMBER($H11),$H11<0),"Pause länger als die Anwesenheit. ","")&IF(AND(ISNUMBER($H11),$H11>8),"über 8 h (§ 3 ArbZG). ","")&IF(AND(ISNUMBER($H11),$H11>9),IF($G11<45,"Pause unter 45 min (§ 4 ArbZG). ",""),IF(AND(ISNUMBER($H11),$H11>6),IF($G11<30,"Pause unter 30 min (§ 4 ArbZG). ",""),""))&IF(AND(ISNUMBER($F10),ISNUMBER($E10),ISNUMBER($E11)),IF(IF($F10<$E10,($E11-$F10)*24,(1-$F10+$E11)*24)<11,"Ruhezeit unter 11 h (§ 5 ArbZG). ",""),""))
A12: 45722 | B12: Do | C12: =IFERROR(IF(INDEX(Feiertage!$D$6:$S$24,MATCH($A12,Feiertage!$B$6:$B$24,0),MATCH(Stammdaten!$C$6,Feiertage!$D$5:$S$5,0))="x",INDEX(Feiertage!$C$6:$C$24,MATCH($A12,Feiertage!$B$6:$B$24,0)),""),"") | H12: =IF(OR($E12="",$F12=""),"",MOD($F12-$E12,1)*24-$G12/60) | I12: =IF(NOT(OR($D12<>"",ISNUMBER($H12))),"",IF(OR($C12<>"",$D12="Urlaub",$D12="Krank",$D12="Feiertag"),0,IF(WEEKDAY($A12,2)<=Stammdaten!$C$9,Stammdaten!$C$8/Stammdaten!$C$9,0))) | J12: =IF($I12="","",IF(ISNUMBER($H12),$H12,0)-$I12) | K12: =IF(OR($D12="Urlaub",$D12="Krank",$D12="Feiertag",$D12="Frei"),"",IF(AND(ISNUMBER($H12),$H12<0),"Pause länger als die Anwesenheit. ","")&IF(AND(ISNUMBER($H12),$H12>8),"über 8 h (§ 3 ArbZG). ","")&IF(AND(ISNUMBER($H12),$H12>9),IF($G12<45,"Pause unter 45 min (§ 4 ArbZG). ",""),IF(AND(ISNUMBER($H12),$H12>6),IF($G12<30,"Pause unter 30 min (§ 4 ArbZG). ",""),""))&IF(AND(ISNUMBER($F11),ISNUMBER($E11),ISNUMBER($E12)),IF(IF($F11<$E11,($E12-$F11)*24,(1-$F11+$E12)*24)<11,"Ruhezeit unter 11 h (§ 5 ArbZG). ",""),""))
A13: 45723 | B13: Fr | C13: =IFERROR(IF(INDEX(Feiertage!$D$6:$S$24,MATCH($A13,Feiertage!$B$6:$B$24,0),MATCH(Stammdaten!$C$6,Feiertage!$D$5:$S$5,0))="x",INDEX(Feiertage!$C$6:$C$24,MATCH($A13,Feiertage!$B$6:$B$24,0)),""),"") | H13: =IF(OR($E13="",$F13=""),"",MOD($F13-$E13,1)*24-$G13/60) | I13: =IF(NOT(OR($D13<>"",ISNUMBER($H13))),"",IF(OR($C13<>"",$D13="Urlaub",$D13="Krank",$D13="Feiertag"),0,IF(WEEKDAY($A13,2)<=Stammdaten!$C$9,Stammdaten!$C$8/Stammdaten!$C$9,0))) | J13: =IF($I13="","",IF(ISNUMBER($H13),$H13,0)-$I13) | K13: =IF(OR($D13="Urlaub",$D13="Krank",$D13="Feiertag",$D13="Frei"),"",IF(AND(ISNUMBER($H13),$H13<0),"Pause länger als die Anwesenheit. ","")&IF(AND(ISNUMBER($H13),$H13>8),"über 8 h (§ 3 ArbZG). ","")&IF(AND(ISNUMBER($H13),$H13>9),IF($G13<45,"Pause unter 45 min (§ 4 ArbZG). ",""),IF(AND(ISNUMBER($H13),$H13>6),IF($G13<30,"Pause unter 30 min (§ 4 ArbZG). ",""),""))&IF(AND(ISNUMBER($F12),ISNUMBER($E12),ISNUMBER($E13)),IF(IF($F12<$E12,($E13-$F12)*24,(1-$F12+$E13)*24)<11,"Ruhezeit unter 11 h (§ 5 ArbZG). ",""),""))
A14: 45724 | B14: Sa | C14: =IFERROR(IF(INDEX(Feiertage!$D$6:$S$24,MATCH($A14,Feiertage!$B$6:$B$24,0),MATCH(Stammdaten!$C$6,Feiertage!$D$5:$S$5,0))="x",INDEX(Feiertage!$C$6:$C$24,MATCH($A14,Feiertage!$B$6:$B$24,0)),""),"") | H14: =IF(OR($E14="",$F14=""),"",MOD($F14-$E14,1)*24-$G14/60) | I14: =IF(NOT(OR($D14<>"",ISNUMBER($H14))),"",IF(OR($C14<>"",$D14="Urlaub",$D14="Krank",$D14="Feiertag"),0,IF(WEEKDAY($A14,2)<=Stammdaten!$C$9,Stammdaten!$C$8/Stammdaten!$C$9,0))) | J14: =IF($I14="","",IF(ISNUMBER($H14),$H14,0)-$I14) | K14: =IF(OR($D14="Urlaub",$D14="Krank",$D14="Feiertag",$D14="Frei"),"",IF(AND(ISNUMBER($H14),$H14<0),"Pause länger als die Anwesenheit. ","")&IF(AND(ISNUMBER($H14),$H14>8),"über 8 h (§ 3 ArbZG). ","")&IF(AND(ISNUMBER($H14),$H14>9),IF($G14<45,"Pause unter 45 min (§ 4 ArbZG). ",""),IF(AND(ISNUMBER($H14),$H14>6),IF($G14<30,"Pause unter 30 min (§ 4 ArbZG). ",""),""))&IF(AND(ISNUMBER($F13),ISNUMBER($E13),ISNUMBER($E14)),IF(IF($F13<$E13,($E14-$F13)*24,(1-$F13+$E14)*24)<11,"Ruhezeit unter 11 h (§ 5 ArbZG). ",""),""))
A15: 45725 | B15: So | C15: =IFERROR(IF(INDEX(Feiertage!$D$6:$S$24,MATCH($A15,Feiertage!$B$6:$B$24,0),MATCH(Stammdaten!$C$6,Feiertage!$D$5:$S$5,0))="x",INDEX(Feiertage!$C$6:$C$24,MATCH($A15,Feiertage!$B$6:$B$24,0)),""),"") | H15: =IF(OR($E15="",$F15=""),"",MOD($F15-$E15,1)*24-$G15/60) | I15: =IF(NOT(OR($D15<>"",ISNUMBER($H15))),"",IF(OR($C15<>"",$D15="Urlaub",$D15="Krank",$D15="Feiertag"),0,IF(WEEKDAY($A15,2)<=Stammdaten!$C$9,Stammdaten!$C$8/Stammdaten!$C$9,0))) | J15: =IF($I15="","",IF(ISNUMBER($H15),$H15,0)-$I15) | K15: =IF(OR($D15="Urlaub",$D15="Krank",$D15="Feiertag",$D15="Frei"),"",IF(AND(ISNUMBER($H15),$H15<0),"Pause länger als die Anwesenheit. ","")&IF(AND(ISNUMBER($H15),$H15>8),"über 8 h (§ 3 ArbZG). ","")&IF(AND(ISNUMBER($H15),$H15>9),IF($G15<45,"Pause unter 45 min (§ 4 ArbZG). ",""),IF(AND(ISNUMBER($H15),$H15>6),IF($G15<30,"Pause unter 30 min (§ 4 ArbZG). ",""),""))&IF(AND(ISNUMBER($F14),ISNUMBER($E14),ISNUMBER($E15)),IF(IF($F14<$E14,($E15-$F14)*24,(1-$F14+$E15)*24)<11,"Ruhezeit unter 11 h (§ 5 ArbZG). ",""),""))
A16: 45726 | B16: Mo | C16: =IFERROR(IF(INDEX(Feiertage!$D$6:$S$24,MATCH($A16,Feiertage!$B$6:$B$24,0),MATCH(Stammdaten!$C$6,Feiertage!$D$5:$S$5,0))="x",INDEX(Feiertage!$C$6:$C$24,MATCH($A16,Feiertage!$B$6:$B$24,0)),""),"") | H16: =IF(OR($E16="",$F16=""),"",MOD($F16-$E16,1)*24-$G16/60) | I16: =IF(NOT(OR($D16<>"",ISNUMBER($H16))),"",IF(OR($C16<>"",$D16="Urlaub",$D16="Krank",$D16="Feiertag"),0,IF(WEEKDAY($A16,2)<=Stammdaten!$C$9,Stammdaten!$C$8/Stammdaten!$C$9,0))) | J16: =IF($I16="","",IF(ISNUMBER($H16),$H16,0)-$I16) | K16: =IF(OR($D16="Urlaub",$D16="Krank",$D16="Feiertag",$D16="Frei"),"",IF(AND(ISNUMBER($H16),$H16<0),"Pause länger als die Anwesenheit. ","")&IF(AND(ISNUMBER($H16),$H16>8),"über 8 h (§ 3 ArbZG). ","")&IF(AND(ISNUMBER($H16),$H16>9),IF($G16<45,"Pause unter 45 min (§ 4 ArbZG). ",""),IF(AND(ISNUMBER($H16),$H16>6),IF($G16<30,"Pause unter 30 min (§ 4 ArbZG). ",""),""))&IF(AND(ISNUMBER($F15),ISNUMBER($E15),ISNUMBER($E16)),IF(IF($F15<$E15,($E16-$F15)*24,(1-$F15+$E16)*24)<11,"Ruhezeit unter 11 h (§ 5 ArbZG). ",""),""))
A17: 45727 | B17: Di | C17: =IFERROR(IF(INDEX(Feiertage!$D$6:$S$24,MATCH($A17,Feiertage!$B$6:$B$24,0),MATCH(Stammdaten!$C$6,Feiertage!$D$5:$S$5,0))="x",INDEX(Feiertage!$C$6:$C$24,MATCH($A17,Feiertage!$B$6:$B$24,0)),""),"") | H17: =IF(OR($E17="",$F17=""),"",MOD($F17-$E17,1)*24-$G17/60) | I17: =IF(NOT(OR($D17<>"",ISNUMBER($H17))),"",IF(OR($C17<>"",$D17="Urlaub",$D17="Krank",$D17="Feiertag"),0,IF(WEEKDAY($A17,2)<=Stammdaten!$C$9,Stammdaten!$C$8/Stammdaten!$C$9,0))) | J17: =IF($I17="","",IF(ISNUMBER($H17),$H17,0)-$I17) | K17: =IF(OR($D17="Urlaub",$D17="Krank",$D17="Feiertag",$D17="Frei"),"",IF(AND(ISNUMBER($H17),$H17<0),"Pause länger als die Anwesenheit. ","")&IF(AND(ISNUMBER($H17),$H17>8),"über 8 h (§ 3 ArbZG). ","")&IF(AND(ISNUMBER($H17),$H17>9),IF($G17<45,"Pause unter 45 min (§ 4 ArbZG). ",""),IF(AND(ISNUMBER($H17),$H17>6),IF($G17<30,"Pause unter 30 min (§ 4 ArbZG). ",""),""))&IF(AND(ISNUMBER($F16),ISNUMBER($E16),ISNUMBER($E17)),IF(IF($F16<$E16,($E17-$F16)*24,(1-$F16+$E17)*24)<11,"Ruhezeit unter 11 h (§ 5 ArbZG). ",""),""))
A18: 45728 | B18: Mi | C18: =IFERROR(IF(INDEX(Feiertage!$D$6:$S$24,MATCH($A18,Feiertage!$B$6:$B$24,0),MATCH(Stammdaten!$C$6,Feiertage!$D$5:$S$5,0))="x",INDEX(Feiertage!$C$6:$C$24,MATCH($A18,Feiertage!$B$6:$B$24,0)),""),"") | H18: =IF(OR($E18="",$F18=""),"",MOD($F18-$E18,1)*24-$G18/60) | I18: =IF(NOT(OR($D18<>"",ISNUMBER($H18))),"",IF(OR($C18<>"",$D18="Urlaub",$D18="Krank",$D18="Feiertag"),0,IF(WEEKDAY($A18,2)<=Stammdaten!$C$9,Stammdaten!$C$8/Stammdaten!$C$9,0))) | J18: =IF($I18="","",IF(ISNUMBER($H18),$H18,0)-$I18) | K18: =IF(OR($D18="Urlaub",$D18="Krank",$D18="Feiertag",$D18="Frei"),"",IF(AND(ISNUMBER($H18),$H18<0),"Pause länger als die Anwesenheit. ","")&IF(AND(ISNUMBER($H18),$H18>8),"über 8 h (§ 3 ArbZG). ","")&IF(AND(ISNUMBER($H18),$H18>9),IF($G18<45,"Pause unter 45 min (§ 4 ArbZG). ",""),IF(AND(ISNUMBER($H18),$H18>6),IF($G18<30,"Pause unter 30 min (§ 4 ArbZG). ",""),""))&IF(AND(ISNUMBER($F17),ISNUMBER($E17),ISNUMBER($E18)),IF(IF($F17<$E17,($E18-$F17)*24,(1-$F17+$E18)*24)<11,"Ruhezeit unter 11 h (§ 5 ArbZG). ",""),""))
A19: 45729 | B19: Do | C19: =IFERROR(IF(INDEX(Feiertage!$D$6:$S$24,MATCH($A19,Feiertage!$B$6:$B$24,0),MATCH(Stammdaten!$C$6,Feiertage!$D$5:$S$5,0))="x",INDEX(Feiertage!$C$6:$C$24,MATCH($A19,Feiertage!$B$6:$B$24,0)),""),"") | H19: =IF(OR($E19="",$F19=""),"",MOD($F19-$E19,1)*24-$G19/60) | I19: =IF(NOT(OR($D19<>"",ISNUMBER($H19))),"",IF(OR($C19<>"",$D19="Urlaub",$D19="Krank",$D19="Feiertag"),0,IF(WEEKDAY($A19,2)<=Stammdaten!$C$9,Stammdaten!$C$8/Stammdaten!$C$9,0))) | J19: =IF($I19="","",IF(ISNUMBER($H19),$H19,0)-$I19) | K19: =IF(OR($D19="Urlaub",$D19="Krank",$D19="Feiertag",$D19="Frei"),"",IF(AND(ISNUMBER($H19),$H19<0),"Pause länger als die Anwesenheit. ","")&IF(AND(ISNUMBER($H19),$H19>8),"über 8 h (§ 3 ArbZG). ","")&IF(AND(ISNUMBER($H19),$H19>9),IF($G19<45,"Pause unter 45 min (§ 4 ArbZG). ",""),IF(AND(ISNUMBER($H19),$H19>6),IF($G19<30,"Pause unter 30 min (§ 4 ArbZG). ",""),""))&IF(AND(ISNUMBER($F18),ISNUMBER($E18),ISNUMBER($E19)),IF(IF($F18<$E18,($E19-$F18)*24,(1-$F18+$E19)*24)<11,"Ruhezeit unter 11 h (§ 5 ArbZG). ",""),""))
... A37: 45747 | B37: Mo | C37: =IFERROR(IF(INDEX(Feiertage!$D$6:$S$24,MATCH($A37,Feiertage!$B$6:$B$24,0),MATCH(Stammdaten!$C$6,Feiertage!$D$5:$S$5,0))="x",INDEX(Feiertage!$C$6:$C$24,MATCH($A37,Feiertage!$B$6:$B$24,0)),""),"") | H37: =IF(OR($E37="",$F37=""),"",MOD($F37-$E37,1)*24-$G37/60) | I37: =IF(NOT(OR($D37<>"",ISNUMBER($H37))),"",IF(OR($C37<>"",$D37="Urlaub",$D37="Krank",$D37="Feiertag"),0,IF(WEEKDAY($A37,2)<=Stammdaten!$C$9,Stammdaten!$C$8/Stammdaten!$C$9,0))) | J37: =IF($I37="","",IF(ISNUMBER($H37),$H37,0)-$I37) | K37: =IF(OR($D37="Urlaub",$D37="Krank",$D37="Feiertag",$D37="Frei"),"",IF(AND(ISNUMBER($H37),$H37<0),"Pause länger als die Anwesenheit. ","")&IF(AND(ISNUMBER($H37),$H37>8),"über 8 h (§ 3 ArbZG). ","")&IF(AND(ISNUMBER($H37),$H37>9),IF($G37<45,"Pause unter 45 min (§ 4 ArbZG). ",""),IF(AND(ISNUMBER($H37),$H37>6),IF($G37<30,"Pause unter 30 min (§ 4 ArbZG). ",""),""))&IF(AND(ISNUMBER($F36),ISNUMBER($E36),ISNUMBER($E37)),IF(IF($F36<$E36,($E37-$F36)*24,(1-$F36+$E37)*24)<11,"Ruhezeit unter 11 h (§ 5 ArbZG). ",""),""))
A38: Summe | G38: =SUM($G$7:$G$37) | H38: =SUM($H$7:$H$37) | I38: =SUM($I$7:$I$37) | J38: =SUM($J$7:$J$37)
A39: Überstundenkonto am Monatsende | J39: =Auswertung!$H$8

Sheet April
A2: Arbeitszeitnachweis April 2025
A3: Betrieb | B3: =Stammdaten!$C$4
A4: Person | B4: =Stammdaten!$C$5
A6: Datum | B6: Tag | C6: Feiertag | D6: Art | E6: Beginn | F6: Ende | G6: Pause (min) | H6: Dauer (h) | I6: Soll (h) | J6: Saldo (h) | K6: Hinweis | L6: Bemerkung
A7: 45748 | B7: Di | C7: =IFERROR(IF(INDEX(Feiertage!$D$6:$S$24,MATCH($A7,Feiertage!$B$6:$B$24,0),MATCH(Stammdaten!$C$6,Feiertage!$D$5:$S$5,0))="x",INDEX(Feiertage!$C$6:$C$24,MATCH($A7,Feiertage!$B$6:$B$24,0)),""),"") | H7: =IF(OR($E7="",$F7=""),"",MOD($F7-$E7,1)*24-$G7/60) | I7: =IF(NOT(OR($D7<>"",ISNUMBER($H7))),"",IF(OR($C7<>"",$D7="Urlaub",$D7="Krank",$D7="Feiertag"),0,IF(WEEKDAY($A7,2)<=Stammdaten!$C$9,Stammdaten!$C$8/Stammdaten!$C$9,0))) | J7: =IF($I7="","",IF(ISNUMBER($H7),$H7,0)-$I7) | K7: =IF(OR($D7="Urlaub",$D7="Krank",$D7="Feiertag",$D7="Frei"),"",IF(AND(ISNUMBER($H7),$H7<0),"Pause länger als die Anwesenheit. ","")&IF(AND(ISNUMBER($H7),$H7>8),"über 8 h (§ 3 ArbZG). ","")&IF(AND(ISNUMBER($H7),$H7>9),IF($G7<45,"Pause unter 45 min (§ 4 ArbZG). ",""),IF(AND(ISNUMBER($H7),$H7>6),IF($G7<30,"Pause unter 30 min (§ 4 ArbZG). ",""),"")))
A8: 45749 | B8: Mi | C8: =IFERROR(IF(INDEX(Feiertage!$D$6:$S$24,MATCH($A8,Feiertage!$B$6:$B$24,0),MATCH(Stammdaten!$C$6,Feiertage!$D$5:$S$5,0))="x",INDEX(Feiertage!$C$6:$C$24,MATCH($A8,Feiertage!$B$6:$B$24,0)),""),"") | H8: =IF(OR($E8="",$F8=""),"",MOD($F8-$E8,1)*24-$G8/60) | I8: =IF(NOT(OR($D8<>"",ISNUMBER($H8))),"",IF(OR($C8<>"",$D8="Urlaub",$D8="Krank",$D8="Feiertag"),0,IF(WEEKDAY($A8,2)<=Stammdaten!$C$9,Stammdaten!$C$8/Stammdaten!$C$9,0))) | J8: =IF($I8="","",IF(ISNUMBER($H8),$H8,0)-$I8) | K8: =IF(OR($D8="Urlaub",$D8="Krank",$D8="Feiertag",$D8="Frei"),"",IF(AND(ISNUMBER($H8),$H8<0),"Pause länger als die Anwesenheit. ","")&IF(AND(ISNUMBER($H8),$H8>8),"über 8 h (§ 3 ArbZG). ","")&IF(AND(ISNUMBER($H8),$H8>9),IF($G8<45,"Pause unter 45 min (§ 4 ArbZG). ",""),IF(AND(ISNUMBER($H8),$H8>6),IF($G8<30,"Pause unter 30 min (§ 4 ArbZG). ",""),""))&IF(AND(ISNUMBER($F7),ISNUMBER($E7),ISNUMBER($E8)),IF(IF($F7<$E7,($E8-$F7)*24,(1-$F7+$E8)*24)<11,"Ruhezeit unter 11 h (§ 5 ArbZG). ",""),""))
A9: 45750 | B9: Do | C9: =IFERROR(IF(INDEX(Feiertage!$D$6:$S$24,MATCH($A9,Feiertage!$B$6:$B$24,0),MATCH(Stammdaten!$C$6,Feiertage!$D$5:$S$5,0))="x",INDEX(Feiertage!$C$6:$C$24,MATCH($A9,Feiertage!$B$6:$B$24,0)),""),"") | H9: =IF(OR($E9="",$F9=""),"",MOD($F9-$E9,1)*24-$G9/60) | I9: =IF(NOT(OR($D9<>"",ISNUMBER($H9))),"",IF(OR($C9<>"",$D9="Urlaub",$D9="Krank",$D9="Feiertag"),0,IF(WEEKDAY($A9,2)<=Stammdaten!$C$9,Stammdaten!$C$8/Stammdaten!$C$9,0))) | J9: =IF($I9="","",IF(ISNUMBER($H9),$H9,0)-$I9) | K9: =IF(OR($D9="Urlaub",$D9="Krank",$D9="Feiertag",$D9="Frei"),"",IF(AND(ISNUMBER($H9),$H9<0),"Pause länger als die Anwesenheit. ","")&IF(AND(ISNUMBER($H9),$H9>8),"über 8 h (§ 3 ArbZG). ","")&IF(AND(ISNUMBER($H9),$H9>9),IF($G9<45,"Pause unter 45 min (§ 4 ArbZG). ",""),IF(AND(ISNUMBER($H9),$H9>6),IF($G9<30,"Pause unter 30 min (§ 4 ArbZG). ",""),""))&IF(AND(ISNUMBER($F8),ISNUMBER($E8),ISNUMBER($E9)),IF(IF($F8<$E8,($E9-$F8)*24,(1-$F8+$E9)*24)<11,"Ruhezeit unter 11 h (§ 5 ArbZG). ",""),""))
A10: 45751 | B10: Fr | C10: =IFERROR(IF(INDEX(Feiertage!$D$6:$S$24,MATCH($A10,Feiertage!$B$6:$B$24,0),MATCH(Stammdaten!$C$6,Feiertage!$D$5:$S$5,0))="x",INDEX(Feiertage!$C$6:$C$24,MATCH($A10,Feiertage!$B$6:$B$24,0)),""),"") | H10: =IF(OR($E10="",$F10=""),"",MOD($F10-$E10,1)*24-$G10/60) | I10: =IF(NOT(OR($D10<>"",ISNUMBER($H10))),"",IF(OR($C10<>"",$D10="Urlaub",$D10="Krank",$D10="Feiertag"),0,IF(WEEKDAY($A10,2)<=Stammdaten!$C$9,Stammdaten!$C$8/Stammdaten!$C$9,0))) | J10: =IF($I10="","",IF(ISNUMBER($H10),$H10,0)-$I10) | K10: =IF(OR($D10="Urlaub",$D10="Krank",$D10="Feiertag",$D10="Frei"),"",IF(AND(ISNUMBER($H10),$H10<0),"Pause länger als die Anwesenheit. ","")&IF(AND(ISNUMBER($H10),$H10>8),"über 8 h (§ 3 ArbZG). ","")&IF(AND(ISNUMBER($H10),$H10>9),IF($G10<45,"Pause unter 45 min (§ 4 ArbZG). ",""),IF(AND(ISNUMBER($H10),$H10>6),IF($G10<30,"Pause unter 30 min (§ 4 ArbZG). ",""),""))&IF(AND(ISNUMBER($F9),ISNUMBER($E9),ISNUMBER($E10)),IF(IF($F9<$E9,($E10-$F9)*24,(1-$F9+$E10)*24)<11,"Ruhezeit unter 11 h (§ 5 ArbZG). ",""),""))
A11: 45752 | B11: Sa | C11: =IFERROR(IF(INDEX(Feiertage!$D$6:$S$24,MATCH($A11,Feiertage!$B$6:$B$24,0),MATCH(Stammdaten!$C$6,Feiertage!$D$5:$S$5,0))="x",INDEX(Feiertage!$C$6:$C$24,MATCH($A11,Feiertage!$B$6:$B$24,0)),""),"") | H11: =IF(OR($E11="",$F11=""),"",MOD($F11-$E11,1)*24-$G11/60) | I11: =IF(NOT(OR($D11<>"",ISNUMBER($H11))),"",IF(OR($C11<>"",$D11="Urlaub",$D11="Krank",$D11="Feiertag"),0,IF(WEEKDAY($A11,2)<=Stammdaten!$C$9,Stammdaten!$C$8/Stammdaten!$C$9,0))) | J11: =IF($I11="","",IF(ISNUMBER($H11),$H11,0)-$I11) | K11: =IF(OR($D11="Urlaub",$D11="Krank",$D11="Feiertag",$D11="Frei"),"",IF(AND(ISNUMBER($H11),$H11<0),"Pause länger als die Anwesenheit. ","")&IF(AND(ISNUMBER($H11),$H11>8),"über 8 h (§ 3 ArbZG). ","")&IF(AND(ISNUMBER($H11),$H11>9),IF($G11<45,"Pause unter 45 min (§ 4 ArbZG). ",""),IF(AND(ISNUMBER($H11),$H11>6),IF($G11<30,"Pause unter 30 min (§ 4 ArbZG). ",""),""))&IF(AND(ISNUMBER($F10),ISNUMBER($E10),ISNUMBER($E11)),IF(IF($F10<$E10,($E11-$F10)*24,(1-$F10+$E11)*24)<11,"Ruhezeit unter 11 h (§ 5 ArbZG). ",""),""))
A12: 45753 | B12: So | C12: =IFERROR(IF(INDEX(Feiertage!$D$6:$S$24,MATCH($A12,Feiertage!$B$6:$B$24,0),MATCH(Stammdaten!$C$6,Feiertage!$D$5:$S$5,0))="x",INDEX(Feiertage!$C$6:$C$24,MATCH($A12,Feiertage!$B$6:$B$24,0)),""),"") | H12: =IF(OR($E12="",$F12=""),"",MOD($F12-$E12,1)*24-$G12/60) | I12: =IF(NOT(OR($D12<>"",ISNUMBER($H12))),"",IF(OR($C12<>"",$D12="Urlaub",$D12="Krank",$D12="Feiertag"),0,IF(WEEKDAY($A12,2)<=Stammdaten!$C$9,Stammdaten!$C$8/Stammdaten!$C$9,0))) | J12: =IF($I12="","",IF(ISNUMBER($H12),$H12,0)-$I12) | K12: =IF(OR($D12="Urlaub",$D12="Krank",$D12="Feiertag",$D12="Frei"),"",IF(AND(ISNUMBER($H12),$H12<0),"Pause länger als die Anwesenheit. ","")&IF(AND(ISNUMBER($H12),$H12>8),"über 8 h (§ 3 ArbZG). ","")&IF(AND(ISNUMBER($H12),$H12>9),IF($G12<45,"Pause unter 45 min (§ 4 ArbZG). ",""),IF(AND(ISNUMBER($H12),$H12>6),IF($G12<30,"Pause unter 30 min (§ 4 ArbZG). ",""),""))&IF(AND(ISNUMBER($F11),ISNUMBER($E11),ISNUMBER($E12)),IF(IF($F11<$E11,($E12-$F11)*24,(1-$F11+$E12)*24)<11,"Ruhezeit unter 11 h (§ 5 ArbZG). ",""),""))
A13: 45754 | B13: Mo | C13: =IFERROR(IF(INDEX(Feiertage!$D$6:$S$24,MATCH($A13,Feiertage!$B$6:$B$24,0),MATCH(Stammdaten!$C$6,Feiertage!$D$5:$S$5,0))="x",INDEX(Feiertage!$C$6:$C$24,MATCH($A13,Feiertage!$B$6:$B$24,0)),""),"") | H13: =IF(OR($E13="",$F13=""),"",MOD($F13-$E13,1)*24-$G13/60) | I13: =IF(NOT(OR($D13<>"",ISNUMBER($H13))),"",IF(OR($C13<>"",$D13="Urlaub",$D13="Krank",$D13="Feiertag"),0,IF(WEEKDAY($A13,2)<=Stammdaten!$C$9,Stammdaten!$C$8/Stammdaten!$C$9,0))) | J13: =IF($I13="","",IF(ISNUMBER($H13),$H13,0)-$I13) | K13: =IF(OR($D13="Urlaub",$D13="Krank",$D13="Feiertag",$D13="Frei"),"",IF(AND(ISNUMBER($H13),$H13<0),"Pause länger als die Anwesenheit. ","")&IF(AND(ISNUMBER($H13),$H13>8),"über 8 h (§ 3 ArbZG). ","")&IF(AND(ISNUMBER($H13),$H13>9),IF($G13<45,"Pause unter 45 min (§ 4 ArbZG). ",""),IF(AND(ISNUMBER($H13),$H13>6),IF($G13<30,"Pause unter 30 min (§ 4 ArbZG). ",""),""))&IF(AND(ISNUMBER($F12),ISNUMBER($E12),ISNUMBER($E13)),IF(IF($F12<$E12,($E13-$F12)*24,(1-$F12+$E13)*24)<11,"Ruhezeit unter 11 h (§ 5 ArbZG). ",""),""))
A14: 45755 | B14: Di | C14: =IFERROR(IF(INDEX(Feiertage!$D$6:$S$24,MATCH($A14,Feiertage!$B$6:$B$24,0),MATCH(Stammdaten!$C$6,Feiertage!$D$5:$S$5,0))="x",INDEX(Feiertage!$C$6:$C$24,MATCH($A14,Feiertage!$B$6:$B$24,0)),""),"") | H14: =IF(OR($E14="",$F14=""),"",MOD($F14-$E14,1)*24-$G14/60) | I14: =IF(NOT(OR($D14<>"",ISNUMBER($H14))),"",IF(OR($C14<>"",$D14="Urlaub",$D14="Krank",$D14="Feiertag"),0,IF(WEEKDAY($A14,2)<=Stammdaten!$C$9,Stammdaten!$C$8/Stammdaten!$C$9,0))) | J14: =IF($I14="","",IF(ISNUMBER($H14),$H14,0)-$I14) | K14: =IF(OR($D14="Urlaub",$D14="Krank",$D14="Feiertag",$D14="Frei"),"",IF(AND(ISNUMBER($H14),$H14<0),"Pause länger als die Anwesenheit. ","")&IF(AND(ISNUMBER($H14),$H14>8),"über 8 h (§ 3 ArbZG). ","")&IF(AND(ISNUMBER($H14),$H14>9),IF($G14<45,"Pause unter 45 min (§ 4 ArbZG). ",""),IF(AND(ISNUMBER($H14),$H14>6),IF($G14<30,"Pause unter 30 min (§ 4 ArbZG). ",""),""))&IF(AND(ISNUMBER($F13),ISNUMBER($E13),ISNUMBER($E14)),IF(IF($F13<$E13,($E14-$F13)*24,(1-$F13+$E14)*24)<11,"Ruhezeit unter 11 h (§ 5 ArbZG). ",""),""))
A15: 45756 | B15: Mi | C15: =IFERROR(IF(INDEX(Feiertage!$D$6:$S$24,MATCH($A15,Feiertage!$B$6:$B$24,0),MATCH(Stammdaten!$C$6,Feiertage!$D$5:$S$5,0))="x",INDEX(Feiertage!$C$6:$C$24,MATCH($A15,Feiertage!$B$6:$B$24,0)),""),"") | H15: =IF(OR($E15="",$F15=""),"",MOD($F15-$E15,1)*24-$G15/60) | I15: =IF(NOT(OR($D15<>"",ISNUMBER($H15))),"",IF(OR($C15<>"",$D15="Urlaub",$D15="Krank",$D15="Feiertag"),0,IF(WEEKDAY($A15,2)<=Stammdaten!$C$9,Stammdaten!$C$8/Stammdaten!$C$9,0))) | J15: =IF($I15="","",IF(ISNUMBER($H15),$H15,0)-$I15) | K15: =IF(OR($D15="Urlaub",$D15="Krank",$D15="Feiertag",$D15="Frei"),"",IF(AND(ISNUMBER($H15),$H15<0),"Pause länger als die Anwesenheit. ","")&IF(AND(ISNUMBER($H15),$H15>8),"über 8 h (§ 3 ArbZG). ","")&IF(AND(ISNUMBER($H15),$H15>9),IF($G15<45,"Pause unter 45 min (§ 4 ArbZG). ",""),IF(AND(ISNUMBER($H15),$H15>6),IF($G15<30,"Pause unter 30 min (§ 4 ArbZG). ",""),""))&IF(AND(ISNUMBER($F14),ISNUMBER($E14),ISNUMBER($E15)),IF(IF($F14<$E14,($E15-$F14)*24,(1-$F14+$E15)*24)<11,"Ruhezeit unter 11 h (§ 5 ArbZG). ",""),""))
A16: 45757 | B16: Do | C16: =IFERROR(IF(INDEX(Feiertage!$D$6:$S$24,MATCH($A16,Feiertage!$B$6:$B$24,0),MATCH(Stammdaten!$C$6,Feiertage!$D$5:$S$5,0))="x",INDEX(Feiertage!$C$6:$C$24,MATCH($A16,Feiertage!$B$6:$B$24,0)),""),"") | H16: =IF(OR($E16="",$F16=""),"",MOD($F16-$E16,1)*24-$G16/60) | I16: =IF(NOT(OR($D16<>"",ISNUMBER($H16))),"",IF(OR($C16<>"",$D16="Urlaub",$D16="Krank",$D16="Feiertag"),0,IF(WEEKDAY($A16,2)<=Stammdaten!$C$9,Stammdaten!$C$8/Stammdaten!$C$9,0))) | J16: =IF($I16="","",IF(ISNUMBER($H16),$H16,0)-$I16) | K16: =IF(OR($D16="Urlaub",$D16="Krank",$D16="Feiertag",$D16="Frei"),"",IF(AND(ISNUMBER($H16),$H16<0),"Pause länger als die Anwesenheit. ","")&IF(AND(ISNUMBER($H16),$H16>8),"über 8 h (§ 3 ArbZG). ","")&IF(AND(ISNUMBER($H16),$H16>9),IF($G16<45,"Pause unter 45 min (§ 4 ArbZG). ",""),IF(AND(ISNUMBER($H16),$H16>6),IF($G16<30,"Pause unter 30 min (§ 4 ArbZG). ",""),""))&IF(AND(ISNUMBER($F15),ISNUMBER($E15),ISNUMBER($E16)),IF(IF($F15<$E15,($E16-$F15)*24,(1-$F15+$E16)*24)<11,"Ruhezeit unter 11 h (§ 5 ArbZG). ",""),""))
A17: 45758 | B17: Fr | C17: =IFERROR(IF(INDEX(Feiertage!$D$6:$S$24,MATCH($A17,Feiertage!$B$6:$B$24,0),MATCH(Stammdaten!$C$6,Feiertage!$D$5:$S$5,0))="x",INDEX(Feiertage!$C$6:$C$24,MATCH($A17,Feiertage!$B$6:$B$24,0)),""),"") | H17: =IF(OR($E17="",$F17=""),"",MOD($F17-$E17,1)*24-$G17/60) | I17: =IF(NOT(OR($D17<>"",ISNUMBER($H17))),"",IF(OR($C17<>"",$D17="Urlaub",$D17="Krank",$D17="Feiertag"),0,IF(WEEKDAY($A17,2)<=Stammdaten!$C$9,Stammdaten!$C$8/Stammdaten!$C$9,0))) | J17: =IF($I17="","",IF(ISNUMBER($H17),$H17,0)-$I17) | K17: =IF(OR($D17="Urlaub",$D17="Krank",$D17="Feiertag",$D17="Frei"),"",IF(AND(ISNUMBER($H17),$H17<0),"Pause länger als die Anwesenheit. ","")&IF(AND(ISNUMBER($H17),$H17>8),"über 8 h (§ 3 ArbZG). ","")&IF(AND(ISNUMBER($H17),$H17>9),IF($G17<45,"Pause unter 45 min (§ 4 ArbZG). ",""),IF(AND(ISNUMBER($H17),$H17>6),IF($G17<30,"Pause unter 30 min (§ 4 ArbZG). ",""),""))&IF(AND(ISNUMBER($F16),ISNUMBER($E16),ISNUMBER($E17)),IF(IF($F16<$E16,($E17-$F16)*24,(1-$F16+$E17)*24)<11,"Ruhezeit unter 11 h (§ 5 ArbZG). ",""),""))
A18: 45759 | B18: Sa | C18: =IFERROR(IF(INDEX(Feiertage!$D$6:$S$24,MATCH($A18,Feiertage!$B$6:$B$24,0),MATCH(Stammdaten!$C$6,Feiertage!$D$5:$S$5,0))="x",INDEX(Feiertage!$C$6:$C$24,MATCH($A18,Feiertage!$B$6:$B$24,0)),""),"") | H18: =IF(OR($E18="",$F18=""),"",MOD($F18-$E18,1)*24-$G18/60) | I18: =IF(NOT(OR($D18<>"",ISNUMBER($H18))),"",IF(OR($C18<>"",$D18="Urlaub",$D18="Krank",$D18="Feiertag"),0,IF(WEEKDAY($A18,2)<=Stammdaten!$C$9,Stammdaten!$C$8/Stammdaten!$C$9,0))) | J18: =IF($I18="","",IF(ISNUMBER($H18),$H18,0)-$I18) | K18: =IF(OR($D18="Urlaub",$D18="Krank",$D18="Feiertag",$D18="Frei"),"",IF(AND(ISNUMBER($H18),$H18<0),"Pause länger als die Anwesenheit. ","")&IF(AND(ISNUMBER($H18),$H18>8),"über 8 h (§ 3 ArbZG). ","")&IF(AND(ISNUMBER($H18),$H18>9),IF($G18<45,"Pause unter 45 min (§ 4 ArbZG). ",""),IF(AND(ISNUMBER($H18),$H18>6),IF($G18<30,"Pause unter 30 min (§ 4 ArbZG). ",""),""))&IF(AND(ISNUMBER($F17),ISNUMBER($E17),ISNUMBER($E18)),IF(IF($F17<$E17,($E18-$F17)*24,(1-$F17+$E18)*24)<11,"Ruhezeit unter 11 h (§ 5 ArbZG). ",""),""))
A19: 45760 | B19: So | C19: =IFERROR(IF(INDEX(Feiertage!$D$6:$S$24,MATCH($A19,Feiertage!$B$6:$B$24,0),MATCH(Stammdaten!$C$6,Feiertage!$D$5:$S$5,0))="x",INDEX(Feiertage!$C$6:$C$24,MATCH($A19,Feiertage!$B$6:$B$24,0)),""),"") | H19: =IF(OR($E19="",$F19=""),"",MOD($F19-$E19,1)*24-$G19/60) | I19: =IF(NOT(OR($D19<>"",ISNUMBER($H19))),"",IF(OR($C19<>"",$D19="Urlaub",$D19="Krank",$D19="Feiertag"),0,IF(WEEKDAY($A19,2)<=Stammdaten!$C$9,Stammdaten!$C$8/Stammdaten!$C$9,0))) | J19: =IF($I19="","",IF(ISNUMBER($H19),$H19,0)-$I19) | K19: =IF(OR($D19="Urlaub",$D19="Krank",$D19="Feiertag",$D19="Frei"),"",IF(AND(ISNUMBER($H19),$H19<0),"Pause länger als die Anwesenheit. ","")&IF(AND(ISNUMBER($H19),$H19>8),"über 8 h (§ 3 ArbZG). ","")&IF(AND(ISNUMBER($H19),$H19>9),IF($G19<45,"Pause unter 45 min (§ 4 ArbZG). ",""),IF(AND(ISNUMBER($H19),$H19>6),IF($G19<30,"Pause unter 30 min (§ 4 ArbZG). ",""),""))&IF(AND(ISNUMBER($F18),ISNUMBER($E18),ISNUMBER($E19)),IF(IF($F18<$E18,($E19-$F18)*24,(1-$F18+$E19)*24)<11,"Ruhezeit unter 11 h (§ 5 ArbZG). ",""),""))
... A36: 45777 | B36: Mi | C36: =IFERROR(IF(INDEX(Feiertage!$D$6:$S$24,MATCH($A36,Feiertage!$B$6:$B$24,0),MATCH(Stammdaten!$C$6,Feiertage!$D$5:$S$5,0))="x",INDEX(Feiertage!$C$6:$C$24,MATCH($A36,Feiertage!$B$6:$B$24,0)),""),"") | H36: =IF(OR($E36="",$F36=""),"",MOD($F36-$E36,1)*24-$G36/60) | I36: =IF(NOT(OR($D36<>"",ISNUMBER($H36))),"",IF(OR($C36<>"",$D36="Urlaub",$D36="Krank",$D36="Feiertag"),0,IF(WEEKDAY($A36,2)<=Stammdaten!$C$9,Stammdaten!$C$8/Stammdaten!$C$9,0))) | J36: =IF($I36="","",IF(ISNUMBER($H36),$H36,0)-$I36) | K36: =IF(OR($D36="Urlaub",$D36="Krank",$D36="Feiertag",$D36="Frei"),"",IF(AND(ISNUMBER($H36),$H36<0),"Pause länger als die Anwesenheit. ","")&IF(AND(ISNUMBER($H36),$H36>8),"über 8 h (§ 3 ArbZG). ","")&IF(AND(ISNUMBER($H36),$H36>9),IF($G36<45,"Pause unter 45 min (§ 4 ArbZG). ",""),IF(AND(ISNUMBER($H36),$H36>6),IF($G36<30,"Pause unter 30 min (§ 4 ArbZG). ",""),""))&IF(AND(ISNUMBER($F35),ISNUMBER($E35),ISNUMBER($E36)),IF(IF($F35<$E35,($E36-$F35)*24,(1-$F35+$E36)*24)<11,"Ruhezeit unter 11 h (§ 5 ArbZG). ",""),""))
A37: Summe | G37: =SUM($G$7:$G$36) | H37: =SUM($H$7:$H$36) | I37: =SUM($I$7:$I$36) | J37: =SUM($J$7:$J$36)
A38: Überstundenkonto am Monatsende | J38: =Auswertung!$H$9

Sheet Mai
A2: Arbeitszeitnachweis Mai 2025
A3: Betrieb | B3: =Stammdaten!$C$4
A4: Person | B4: =Stammdaten!$C$5
A6: Datum | B6: Tag | C6: Feiertag | D6: Art | E6: Beginn | F6: Ende | G6: Pause (min) | H6: Dauer (h) | I6: Soll (h) | J6: Saldo (h) | K6: Hinweis | L6: Bemerkung
A7: 45778 | B7: Do | C7: =IFERROR(IF(INDEX(Feiertage!$D$6:$S$24,MATCH($A7,Feiertage!$B$6:$B$24,0),MATCH(Stammdaten!$C$6,Feiertage!$D$5:$S$5,0))="x",INDEX(Feiertage!$C$6:$C$24,MATCH($A7,Feiertage!$B$6:$B$24,0)),""),"") | H7: =IF(OR($E7="",$F7=""),"",MOD($F7-$E7,1)*24-$G7/60) | I7: =IF(NOT(OR($D7<>"",ISNUMBER($H7))),"",IF(OR($C7<>"",$D7="Urlaub",$D7="Krank",$D7="Feiertag"),0,IF(WEEKDAY($A7,2)<=Stammdaten!$C$9,Stammdaten!$C$8/Stammdaten!$C$9,0))) | J7: =IF($I7="","",IF(ISNUMBER($H7),$H7,0)-$I7) | K7: =IF(OR($D7="Urlaub",$D7="Krank",$D7="Feiertag",$D7="Frei"),"",IF(AND(ISNUMBER($H7),$H7<0),"Pause länger als die Anwesenheit. ","")&IF(AND(ISNUMBER($H7),$H7>8),"über 8 h (§ 3 ArbZG). ","")&IF(AND(ISNUMBER($H7),$H7>9),IF($G7<45,"Pause unter 45 min (§ 4 ArbZG). ",""),IF(AND(ISNUMBER($H7),$H7>6),IF($G7<30,"Pause unter 30 min (§ 4 ArbZG). ",""),"")))
A8: 45779 | B8: Fr | C8: =IFERROR(IF(INDEX(Feiertage!$D$6:$S$24,MATCH($A8,Feiertage!$B$6:$B$24,0),MATCH(Stammdaten!$C$6,Feiertage!$D$5:$S$5,0))="x",INDEX(Feiertage!$C$6:$C$24,MATCH($A8,Feiertage!$B$6:$B$24,0)),""),"") | H8: =IF(OR($E8="",$F8=""),"",MOD($F8-$E8,1)*24-$G8/60) | I8: =IF(NOT(OR($D8<>"",ISNUMBER($H8))),"",IF(OR($C8<>"",$D8="Urlaub",$D8="Krank",$D8="Feiertag"),0,IF(WEEKDAY($A8,2)<=Stammdaten!$C$9,Stammdaten!$C$8/Stammdaten!$C$9,0))) | J8: =IF($I8="","",IF(ISNUMBER($H8),$H8,0)-$I8) | K8: =IF(OR($D8="Urlaub",$D8="Krank",$D8="Feiertag",$D8="Frei"),"",IF(AND(ISNUMBER($H8),$H8<0),"Pause länger als die Anwesenheit. ","")&IF(AND(ISNUMBER($H8),$H8>8),"über 8 h (§ 3 ArbZG). ","")&IF(AND(ISNUMBER($H8),$H8>9),IF($G8<45,"Pause unter 45 min (§ 4 ArbZG). ",""),IF(AND(ISNUMBER($H8),$H8>6),IF($G8<30,"Pause unter 30 min (§ 4 ArbZG). ",""),""))&IF(AND(ISNUMBER($F7),ISNUMBER($E7),ISNUMBER($E8)),IF(IF($F7<$E7,($E8-$F7)*24,(1-$F7+$E8)*24)<11,"Ruhezeit unter 11 h (§ 5 ArbZG). ",""),""))
A9: 45780 | B9: Sa | C9: =IFERROR(IF(INDEX(Feiertage!$D$6:$S$24,MATCH($A9,Feiertage!$B$6:$B$24,0),MATCH(Stammdaten!$C$6,Feiertage!$D$5:$S$5,0))="x",INDEX(Feiertage!$C$6:$C$24,MATCH($A9,Feiertage!$B$6:$B$24,0)),""),"") | H9: =IF(OR($E9="",$F9=""),"",MOD($F9-$E9,1)*24-$G9/60) | I9: =IF(NOT(OR($D9<>"",ISNUMBER($H9))),"",IF(OR($C9<>"",$D9="Urlaub",$D9="Krank",$D9="Feiertag"),0,IF(WEEKDAY($A9,2)<=Stammdaten!$C$9,Stammdaten!$C$8/Stammdaten!$C$9,0))) | J9: =IF($I9="","",IF(ISNUMBER($H9),$H9,0)-$I9) | K9: =IF(OR($D9="Urlaub",$D9="Krank",$D9="Feiertag",$D9="Frei"),"",IF(AND(ISNUMBER($H9),$H9<0),"Pause länger als die Anwesenheit. ","")&IF(AND(ISNUMBER($H9),$H9>8),"über 8 h (§ 3 ArbZG). ","")&IF(AND(ISNUMBER($H9),$H9>9),IF($G9<45,"Pause unter 45 min (§ 4 ArbZG). ",""),IF(AND(ISNUMBER($H9),$H9>6),IF($G9<30,"Pause unter 30 min (§ 4 ArbZG). ",""),""))&IF(AND(ISNUMBER($F8),ISNUMBER($E8),ISNUMBER($E9)),IF(IF($F8<$E8,($E9-$F8)*24,(1-$F8+$E9)*24)<11,"Ruhezeit unter 11 h (§ 5 ArbZG). ",""),""))
A10: 45781 | B10: So | C10: =IFERROR(IF(INDEX(Feiertage!$D$6:$S$24,MATCH($A10,Feiertage!$B$6:$B$24,0),MATCH(Stammdaten!$C$6,Feiertage!$D$5:$S$5,0))="x",INDEX(Feiertage!$C$6:$C$24,MATCH($A10,Feiertage!$B$6:$B$24,0)),""),"") | H10: =IF(OR($E10="",$F10=""),"",MOD($F10-$E10,1)*24-$G10/60) | I10: =IF(NOT(OR($D10<>"",ISNUMBER($H10))),"",IF(OR($C10<>"",$D10="Urlaub",$D10="Krank",$D10="Feiertag"),0,IF(WEEKDAY($A10,2)<=Stammdaten!$C$9,Stammdaten!$C$8/Stammdaten!$C$9,0))) | J10: =IF($I10="","",IF(ISNUMBER($H10),$H10,0)-$I10) | K10: =IF(OR($D10="Urlaub",$D10="Krank",$D10="Feiertag",$D10="Frei"),"",IF(AND(ISNUMBER($H10),$H10<0),"Pause länger als die Anwesenheit. ","")&IF(AND(ISNUMBER($H10),$H10>8),"über 8 h (§ 3 ArbZG). ","")&IF(AND(ISNUMBER($H10),$H10>9),IF($G10<45,"Pause unter 45 min (§ 4 ArbZG). ",""),IF(AND(ISNUMBER($H10),$H10>6),IF($G10<30,"Pause unter 30 min (§ 4 ArbZG). ",""),""))&IF(AND(ISNUMBER($F9),ISNUMBER($E9),ISNUMBER($E10)),IF(IF($F9<$E9,($E10-$F9)*24,(1-$F9+$E10)*24)<11,"Ruhezeit unter 11 h (§ 5 ArbZG). ",""),""))
A11: 45782 | B11: Mo | C11: =IFERROR(IF(INDEX(Feiertage!$D$6:$S$24,MATCH($A11,Feiertage!$B$6:$B$24,0),MATCH(Stammdaten!$C$6,Feiertage!$D$5:$S$5,0))="x",INDEX(Feiertage!$C$6:$C$24,MATCH($A11,Feiertage!$B$6:$B$24,0)),""),"") | H11: =IF(OR($E11="",$F11=""),"",MOD($F11-$E11,1)*24-$G11/60) | I11: =IF(NOT(OR($D11<>"",ISNUMBER($H11))),"",IF(OR($C11<>"",$D11="Urlaub",$D11="Krank",$D11="Feiertag"),0,IF(WEEKDAY($A11,2)<=Stammdaten!$C$9,Stammdaten!$C$8/Stammdaten!$C$9,0))) | J11: =IF($I11="","",IF(ISNUMBER($H11),$H11,0)-$I11) | K11: =IF(OR($D11="Urlaub",$D11="Krank",$D11="Feiertag",$D11="Frei"),"",IF(AND(ISNUMBER($H11),$H11<0),"Pause länger als die Anwesenheit. ","")&IF(AND(ISNUMBER($H11),$H11>8),"über 8 h (§ 3 ArbZG). ","")&IF(AND(ISNUMBER($H11),$H11>9),IF($G11<45,"Pause unter 45 min (§ 4 ArbZG). ",""),IF(AND(ISNUMBER($H11),$H11>6),IF($G11<30,"Pause unter 30 min (§ 4 ArbZG). ",""),""))&IF(AND(ISNUMBER($F10),ISNUMBER($E10),ISNUMBER($E11)),IF(IF($F10<$E10,($E11-$F10)*24,(1-$F10+$E11)*24)<11,"Ruhezeit unter 11 h (§ 5 ArbZG). ",""),""))
A12: 45783 | B12: Di | C12: =IFERROR(IF(INDEX(Feiertage!$D$6:$S$24,MATCH($A12,Feiertage!$B$6:$B$24,0),MATCH(Stammdaten!$C$6,Feiertage!$D$5:$S$5,0))="x",INDEX(Feiertage!$C$6:$C$24,MATCH($A12,Feiertage!$B$6:$B$24,0)),""),"") | H12: =IF(OR($E12="",$F12=""),"",MOD($F12-$E12,1)*24-$G12/60) | I12: =IF(NOT(OR($D12<>"",ISNUMBER($H12))),"",IF(OR($C12<>"",$D12="Urlaub",$D12="Krank",$D12="Feiertag"),0,IF(WEEKDAY($A12,2)<=Stammdaten!$C$9,Stammdaten!$C$8/Stammdaten!$C$9,0))) | J12: =IF($I12="","",IF(ISNUMBER($H12),$H12,0)-$I12) | K12: =IF(OR($D12="Urlaub",$D12="Krank",$D12="Feiertag",$D12="Frei"),"",IF(AND(ISNUMBER($H12),$H12<0),"Pause länger als die Anwesenheit. ","")&IF(AND(ISNUMBER($H12),$H12>8),"über 8 h (§ 3 ArbZG). ","")&IF(AND(ISNUMBER($H12),$H12>9),IF($G12<45,"Pause unter 45 min (§ 4 ArbZG). ",""),IF(AND(ISNUMBER($H12),$H12>6),IF($G12<30,"Pause unter 30 min (§ 4 ArbZG). ",""),""))&IF(AND(ISNUMBER($F11),ISNUMBER($E11),ISNUMBER($E12)),IF(IF($F11<$E11,($E12-$F11)*24,(1-$F11+$E12)*24)<11,"Ruhezeit unter 11 h (§ 5 ArbZG). ",""),""))
A13: 45784 | B13: Mi | C13: =IFERROR(IF(INDEX(Feiertage!$D$6:$S$24,MATCH($A13,Feiertage!$B$6:$B$24,0),MATCH(Stammdaten!$C$6,Feiertage!$D$5:$S$5,0))="x",INDEX(Feiertage!$C$6:$C$24,MATCH($A13,Feiertage!$B$6:$B$24,0)),""),"") | H13: =IF(OR($E13="",$F13=""),"",MOD($F13-$E13,1)*24-$G13/60) | I13: =IF(NOT(OR($D13<>"",ISNUMBER($H13))),"",IF(OR($C13<>"",$D13="Urlaub",$D13="Krank",$D13="Feiertag"),0,IF(WEEKDAY($A13,2)<=Stammdaten!$C$9,Stammdaten!$C$8/Stammdaten!$C$9,0))) | J13: =IF($I13="","",IF(ISNUMBER($H13),$H13,0)-$I13) | K13: =IF(OR($D13="Urlaub",$D13="Krank",$D13="Feiertag",$D13="Frei"),"",IF(AND(ISNUMBER($H13),$H13<0),"Pause länger als die Anwesenheit. ","")&IF(AND(ISNUMBER($H13),$H13>8),"über 8 h (§ 3 ArbZG). ","")&IF(AND(ISNUMBER($H13),$H13>9),IF($G13<45,"Pause unter 45 min (§ 4 ArbZG). ",""),IF(AND(ISNUMBER($H13),$H13>6),IF($G13<30,"Pause unter 30 min (§ 4 ArbZG). ",""),""))&IF(AND(ISNUMBER($F12),ISNUMBER($E12),ISNUMBER($E13)),IF(IF($F12<$E12,($E13-$F12)*24,(1-$F12+$E13)*24)<11,"Ruhezeit unter 11 h (§ 5 ArbZG). ",""),""))
A14: 45785 | B14: Do | C14: =IFERROR(IF(INDEX(Feiertage!$D$6:$S$24,MATCH($A14,Feiertage!$B$6:$B$24,0),MATCH(Stammdaten!$C$6,Feiertage!$D$5:$S$5,0))="x",INDEX(Feiertage!$C$6:$C$24,MATCH($A14,Feiertage!$B$6:$B$24,0)),""),"") | H14: =IF(OR($E14="",$F14=""),"",MOD($F14-$E14,1)*24-$G14/60) | I14: =IF(NOT(OR($D14<>"",ISNUMBER($H14))),"",IF(OR($C14<>"",$D14="Urlaub",$D14="Krank",$D14="Feiertag"),0,IF(WEEKDAY($A14,2)<=Stammdaten!$C$9,Stammdaten!$C$8/Stammdaten!$C$9,0))) | J14: =IF($I14="","",IF(ISNUMBER($H14),$H14,0)-$I14) | K14: =IF(OR($D14="Urlaub",$D14="Krank",$D14="Feiertag",$D14="Frei"),"",IF(AND(ISNUMBER($H14),$H14<0),"Pause länger als die Anwesenheit. ","")&IF(AND(ISNUMBER($H14),$H14>8),"über 8 h (§ 3 ArbZG). ","")&IF(AND(ISNUMBER($H14),$H14>9),IF($G14<45,"Pause unter 45 min (§ 4 ArbZG). ",""),IF(AND(ISNUMBER($H14),$H14>6),IF($G14<30,"Pause unter 30 min (§ 4 ArbZG). ",""),""))&IF(AND(ISNUMBER($F13),ISNUMBER($E13),ISNUMBER($E14)),IF(IF($F13<$E13,($E14-$F13)*24,(1-$F13+$E14)*24)<11,"Ruhezeit unter 11 h (§ 5 ArbZG). ",""),""))
A15: 45786 | B15: Fr | C15: =IFERROR(IF(INDEX(Feiertage!$D$6:$S$24,MATCH($A15,Feiertage!$B$6:$B$24,0),MATCH(Stammdaten!$C$6,Feiertage!$D$5:$S$5,0))="x",INDEX(Feiertage!$C$6:$C$24,MATCH($A15,Feiertage!$B$6:$B$24,0)),""),"") | H15: =IF(OR($E15="",$F15=""),"",MOD($F15-$E15,1)*24-$G15/60) | I15: =IF(NOT(OR($D15<>"",ISNUMBER($H15))),"",IF(OR($C15<>"",$D15="Urlaub",$D15="Krank",$D15="Feiertag"),0,IF(WEEKDAY($A15,2)<=Stammdaten!$C$9,Stammdaten!$C$8/Stammdaten!$C$9,0))) | J15: =IF($I15="","",IF(ISNUMBER($H15),$H15,0)-$I15) | K15: =IF(OR($D15="Urlaub",$D15="Krank",$D15="Feiertag",$D15="Frei"),"",IF(AND(ISNUMBER($H15),$H15<0),"Pause länger als die Anwesenheit. ","")&IF(AND(ISNUMBER($H15),$H15>8),"über 8 h (§ 3 ArbZG). ","")&IF(AND(ISNUMBER($H15),$H15>9),IF($G15<45,"Pause unter 45 min (§ 4 ArbZG). ",""),IF(AND(ISNUMBER($H15),$H15>6),IF($G15<30,"Pause unter 30 min (§ 4 ArbZG). ",""),""))&IF(AND(ISNUMBER($F14),ISNUMBER($E14),ISNUMBER($E15)),IF(IF($F14<$E14,($E15-$F14)*24,(1-$F14+$E15)*24)<11,"Ruhezeit unter 11 h (§ 5 ArbZG). ",""),""))
A16: 45787 | B16: Sa | C16: =IFERROR(IF(INDEX(Feiertage!$D$6:$S$24,MATCH($A16,Feiertage!$B$6:$B$24,0),MATCH(Stammdaten!$C$6,Feiertage!$D$5:$S$5,0))="x",INDEX(Feiertage!$C$6:$C$24,MATCH($A16,Feiertage!$B$6:$B$24,0)),""),"") | H16: =IF(OR($E16="",$F16=""),"",MOD($F16-$E16,1)*24-$G16/60) | I16: =IF(NOT(OR($D16<>"",ISNUMBER($H16))),"",IF(OR($C16<>"",$D16="Urlaub",$D16="Krank",$D16="Feiertag"),0,IF(WEEKDAY($A16,2)<=Stammdaten!$C$9,Stammdaten!$C$8/Stammdaten!$C$9,0))) | J16: =IF($I16="","",IF(ISNUMBER($H16),$H16,0)-$I16) | K16: =IF(OR($D16="Urlaub",$D16="Krank",$D16="Feiertag",$D16="Frei"),"",IF(AND(ISNUMBER($H16),$H16<0),"Pause länger als die Anwesenheit. ","")&IF(AND(ISNUMBER($H16),$H16>8),"über 8 h (§ 3 ArbZG). ","")&IF(AND(ISNUMBER($H16),$H16>9),IF($G16<45,"Pause unter 45 min (§ 4 ArbZG). ",""),IF(AND(ISNUMBER($H16),$H16>6),IF($G16<30,"Pause unter 30 min (§ 4 ArbZG). ",""),""))&IF(AND(ISNUMBER($F15),ISNUMBER($E15),ISNUMBER($E16)),IF(IF($F15<$E15,($E16-$F15)*24,(1-$F15+$E16)*24)<11,"Ruhezeit unter 11 h (§ 5 ArbZG). ",""),""))
A17: 45788 | B17: So | C17: =IFERROR(IF(INDEX(Feiertage!$D$6:$S$24,MATCH($A17,Feiertage!$B$6:$B$24,0),MATCH(Stammdaten!$C$6,Feiertage!$D$5:$S$5,0))="x",INDEX(Feiertage!$C$6:$C$24,MATCH($A17,Feiertage!$B$6:$B$24,0)),""),"") | H17: =IF(OR($E17="",$F17=""),"",MOD($F17-$E17,1)*24-$G17/60) | I17: =IF(NOT(OR($D17<>"",ISNUMBER($H17))),"",IF(OR($C17<>"",$D17="Urlaub",$D17="Krank",$D17="Feiertag"),0,IF(WEEKDAY($A17,2)<=Stammdaten!$C$9,Stammdaten!$C$8/Stammdaten!$C$9,0))) | J17: =IF($I17="","",IF(ISNUMBER($H17),$H17,0)-$I17) | K17: =IF(OR($D17="Urlaub",$D17="Krank",$D17="Feiertag",$D17="Frei"),"",IF(AND(ISNUMBER($H17),$H17<0),"Pause länger als die Anwesenheit. ","")&IF(AND(ISNUMBER($H17),$H17>8),"über 8 h (§ 3 ArbZG). ","")&IF(AND(ISNUMBER($H17),$H17>9),IF($G17<45,"Pause unter 45 min (§ 4 ArbZG). ",""),IF(AND(ISNUMBER($H17),$H17>6),IF($G17<30,"Pause unter 30 min (§ 4 ArbZG). ",""),""))&IF(AND(ISNUMBER($F16),ISNUMBER($E16),ISNUMBER($E17)),IF(IF($F16<$E16,($E17-$F16)*24,(1-$F16+$E17)*24)<11,"Ruhezeit unter 11 h (§ 5 ArbZG). ",""),""))
A18: 45789 | B18: Mo | C18: =IFERROR(IF(INDEX(Feiertage!$D$6:$S$24,MATCH($A18,Feiertage!$B$6:$B$24,0),MATCH(Stammdaten!$C$6,Feiertage!$D$5:$S$5,0))="x",INDEX(Feiertage!$C$6:$C$24,MATCH($A18,Feiertage!$B$6:$B$24,0)),""),"") | H18: =IF(OR($E18="",$F18=""),"",MOD($F18-$E18,1)*24-$G18/60) | I18: =IF(NOT(OR($D18<>"",ISNUMBER($H18))),"",IF(OR($C18<>"",$D18="Urlaub",$D18="Krank",$D18="Feiertag"),0,IF(WEEKDAY($A18,2)<=Stammdaten!$C$9,Stammdaten!$C$8/Stammdaten!$C$9,0))) | J18: =IF($I18="","",IF(ISNUMBER($H18),$H18,0)-$I18) | K18: =IF(OR($D18="Urlaub",$D18="Krank",$D18="Feiertag",$D18="Frei"),"",IF(AND(ISNUMBER($H18),$H18<0),"Pause länger als die Anwesenheit. ","")&IF(AND(ISNUMBER($H18),$H18>8),"über 8 h (§ 3 ArbZG). ","")&IF(AND(ISNUMBER($H18),$H18>9),IF($G18<45,"Pause unter 45 min (§ 4 ArbZG). ",""),IF(AND(ISNUMBER($H18),$H18>6),IF($G18<30,"Pause unter 30 min (§ 4 ArbZG). ",""),""))&IF(AND(ISNUMBER($F17),ISNUMBER($E17),ISNUMBER($E18)),IF(IF($F17<$E17,($E18-$F17)*24,(1-$F17+$E18)*24)<11,"Ruhezeit unter 11 h (§ 5 ArbZG). ",""),""))
A19: 45790 | B19: Di | C19: =IFERROR(IF(INDEX(Feiertage!$D$6:$S$24,MATCH($A19,Feiertage!$B$6:$B$24,0),MATCH(Stammdaten!$C$6,Feiertage!$D$5:$S$5,0))="x",INDEX(Feiertage!$C$6:$C$24,MATCH($A19,Feiertage!$B$6:$B$24,0)),""),"") | H19: =IF(OR($E19="",$F19=""),"",MOD($F19-$E19,1)*24-$G19/60) | I19: =IF(NOT(OR($D19<>"",ISNUMBER($H19))),"",IF(OR($C19<>"",$D19="Urlaub",$D19="Krank",$D19="Feiertag"),0,IF(WEEKDAY($A19,2)<=Stammdaten!$C$9,Stammdaten!$C$8/Stammdaten!$C$9,0))) | J19: =IF($I19="","",IF(ISNUMBER($H19),$H19,0)-$I19) | K19: =IF(OR($D19="Urlaub",$D19="Krank",$D19="Feiertag",$D19="Frei"),"",IF(AND(ISNUMBER($H19),$H19<0),"Pause länger als die Anwesenheit. ","")&IF(AND(ISNUMBER($H19),$H19>8),"über 8 h (§ 3 ArbZG). ","")&IF(AND(ISNUMBER($H19),$H19>9),IF($G19<45,"Pause unter 45 min (§ 4 ArbZG). ",""),IF(AND(ISNUMBER($H19),$H19>6),IF($G19<30,"Pause unter 30 min (§ 4 ArbZG). ",""),""))&IF(AND(ISNUMBER($F18),ISNUMBER($E18),ISNUMBER($E19)),IF(IF($F18<$E18,($E19-$F18)*24,(1-$F18+$E19)*24)<11,"Ruhezeit unter 11 h (§ 5 ArbZG). ",""),""))
... A37: 45808 | B37: Sa | C37: =IFERROR(IF(INDEX(Feiertage!$D$6:$S$24,MATCH($A37,Feiertage!$B$6:$B$24,0),MATCH(Stammdaten!$C$6,Feiertage!$D$5:$S$5,0))="x",INDEX(Feiertage!$C$6:$C$24,MATCH($A37,Feiertage!$B$6:$B$24,0)),""),"") | H37: =IF(OR($E37="",$F37=""),"",MOD($F37-$E37,1)*24-$G37/60) | I37: =IF(NOT(OR($D37<>"",ISNUMBER($H37))),"",IF(OR($C37<>"",$D37="Urlaub",$D37="Krank",$D37="Feiertag"),0,IF(WEEKDAY($A37,2)<=Stammdaten!$C$9,Stammdaten!$C$8/Stammdaten!$C$9,0))) | J37: =IF($I37="","",IF(ISNUMBER($H37),$H37,0)-$I37) | K37: =IF(OR($D37="Urlaub",$D37="Krank",$D37="Feiertag",$D37="Frei"),"",IF(AND(ISNUMBER($H37),$H37<0),"Pause länger als die Anwesenheit. ","")&IF(AND(ISNUMBER($H37),$H37>8),"über 8 h (§ 3 ArbZG). ","")&IF(AND(ISNUMBER($H37),$H37>9),IF($G37<45,"Pause unter 45 min (§ 4 ArbZG). ",""),IF(AND(ISNUMBER($H37),$H37>6),IF($G37<30,"Pause unter 30 min (§ 4 ArbZG). ",""),""))&IF(AND(ISNUMBER($F36),ISNUMBER($E36),ISNUMBER($E37)),IF(IF($F36<$E36,($E37-$F36)*24,(1-$F36+$E37)*24)<11,"Ruhezeit unter 11 h (§ 5 ArbZG). ",""),""))
A38: Summe | G38: =SUM($G$7:$G$37) | H38: =SUM($H$7:$H$37) | I38: =SUM($I$7:$I$37) | J38: =SUM($J$7:$J$37)
A39: Überstundenkonto am Monatsende | J39: =Auswertung!$H$10

Sheet Juni
A2: Arbeitszeitnachweis Juni 2025
A3: Betrieb | B3: =Stammdaten!$C$4
A4: Person | B4: =Stammdaten!$C$5
A6: Datum | B6: Tag | C6: Feiertag | D6: Art | E6: Beginn | F6: Ende | G6: Pause (min) | H6: Dauer (h) | I6: Soll (h) | J6: Saldo (h) | K6: Hinweis | L6: Bemerkung
A7: 45809 | B7: So | C7: =IFERROR(IF(INDEX(Feiertage!$D$6:$S$24,MATCH($A7,Feiertage!$B$6:$B$24,0),MATCH(Stammdaten!$C$6,Feiertage!$D$5:$S$5,0))="x",INDEX(Feiertage!$C$6:$C$24,MATCH($A7,Feiertage!$B$6:$B$24,0)),""),"") | H7: =IF(OR($E7="",$F7=""),"",MOD($F7-$E7,1)*24-$G7/60) | I7: =IF(NOT(OR($D7<>"",ISNUMBER($H7))),"",IF(OR($C7<>"",$D7="Urlaub",$D7="Krank",$D7="Feiertag"),0,IF(WEEKDAY($A7,2)<=Stammdaten!$C$9,Stammdaten!$C$8/Stammdaten!$C$9,0))) | J7: =IF($I7="","",IF(ISNUMBER($H7),$H7,0)-$I7) | K7: =IF(OR($D7="Urlaub",$D7="Krank",$D7="Feiertag",$D7="Frei"),"",IF(AND(ISNUMBER($H7),$H7<0),"Pause länger als die Anwesenheit. ","")&IF(AND(ISNUMBER($H7),$H7>8),"über 8 h (§ 3 ArbZG). ","")&IF(AND(ISNUMBER($H7),$H7>9),IF($G7<45,"Pause unter 45 min (§ 4 ArbZG). ",""),IF(AND(ISNUMBER($H7),$H7>6),IF($G7<30,"Pause unter 30 min (§ 4 ArbZG). ",""),"")))
A8: 45810 | B8: Mo | C8: =IFERROR(IF(INDEX(Feiertage!$D$6:$S$24,MATCH($A8,Feiertage!$B$6:$B$24,0),MATCH(Stammdaten!$C$6,Feiertage!$D$5:$S$5,0))="x",INDEX(Feiertage!$C$6:$C$24,MATCH($A8,Feiertage!$B$6:$B$24,0)),""),"") | H8: =IF(OR($E8="",$F8=""),"",MOD($F8-$E8,1)*24-$G8/60) | I8: =IF(NOT(OR($D8<>"",ISNUMBER($H8))),"",IF(OR($C8<>"",$D8="Urlaub",$D8="Krank",$D8="Feiertag"),0,IF(WEEKDAY($A8,2)<=Stammdaten!$C$9,Stammdaten!$C$8/Stammdaten!$C$9,0))) | J8: =IF($I8="","",IF(ISNUMBER($H8),$H8,0)-$I8) | K8: =IF(OR($D8="Urlaub",$D8="Krank",$D8="Feiertag",$D8="Frei"),"",IF(AND(ISNUMBER($H8),$H8<0),"Pause länger als die Anwesenheit. ","")&IF(AND(ISNUMBER($H8),$H8>8),"über 8 h (§ 3 ArbZG). ","")&IF(AND(ISNUMBER($H8),$H8>9),IF($G8<45,"Pause unter 45 min (§ 4 ArbZG). ",""),IF(AND(ISNUMBER($H8),$H8>6),IF($G8<30,"Pause unter 30 min (§ 4 ArbZG). ",""),""))&IF(AND(ISNUMBER($F7),ISNUMBER($E7),ISNUMBER($E8)),IF(IF($F7<$E7,($E8-$F7)*24,(1-$F7+$E8)*24)<11,"Ruhezeit unter 11 h (§ 5 ArbZG). ",""),""))
A9: 45811 | B9: Di | C9: =IFERROR(IF(INDEX(Feiertage!$D$6:$S$24,MATCH($A9,Feiertage!$B$6:$B$24,0),MATCH(Stammdaten!$C$6,Feiertage!$D$5:$S$5,0))="x",INDEX(Feiertage!$C$6:$C$24,MATCH($A9,Feiertage!$B$6:$B$24,0)),""),"") | H9: =IF(OR($E9="",$F9=""),"",MOD($F9-$E9,1)*24-$G9/60) | I9: =IF(NOT(OR($D9<>"",ISNUMBER($H9))),"",IF(OR($C9<>"",$D9="Urlaub",$D9="Krank",$D9="Feiertag"),0,IF(WEEKDAY($A9,2)<=Stammdaten!$C$9,Stammdaten!$C$8/Stammdaten!$C$9,0))) | J9: =IF($I9="","",IF(ISNUMBER($H9),$H9,0)-$I9) | K9: =IF(OR($D9="Urlaub",$D9="Krank",$D9="Feiertag",$D9="Frei"),"",IF(AND(ISNUMBER($H9),$H9<0),"Pause länger als die Anwesenheit. ","")&IF(AND(ISNUMBER($H9),$H9>8),"über 8 h (§ 3 ArbZG). ","")&IF(AND(ISNUMBER($H9),$H9>9),IF($G9<45,"Pause unter 45 min (§ 4 ArbZG). ",""),IF(AND(ISNUMBER($H9),$H9>6),IF($G9<30,"Pause unter 30 min (§ 4 ArbZG). ",""),""))&IF(AND(ISNUMBER($F8),ISNUMBER($E8),ISNUMBER($E9)),IF(IF($F8<$E8,($E9-$F8)*24,(1-$F8+$E9)*24)<11,"Ruhezeit unter 11 h (§ 5 ArbZG). ",""),""))
A10: 45812 | B10: Mi | C10: =IFERROR(IF(INDEX(Feiertage!$D$6:$S$24,MATCH($A10,Feiertage!$B$6:$B$24,0),MATCH(Stammdaten!$C$6,Feiertage!$D$5:$S$5,0))="x",INDEX(Feiertage!$C$6:$C$24,MATCH($A10,Feiertage!$B$6:$B$24,0)),""),"") | H10: =IF(OR($E10="",$F10=""),"",MOD($F10-$E10,1)*24-$G10/60) | I10: =IF(NOT(OR($D10<>"",ISNUMBER($H10))),"",IF(OR($C10<>"",$D10="Urlaub",$D10="Krank",$D10="Feiertag"),0,IF(WEEKDAY($A10,2)<=Stammdaten!$C$9,Stammdaten!$C$8/Stammdaten!$C$9,0))) | J10: =IF($I10="","",IF(ISNUMBER($H10),$H10,0)-$I10) | K10: =IF(OR($D10="Urlaub",$D10="Krank",$D10="Feiertag",$D10="Frei"),"",IF(AND(ISNUMBER($H10),$H10<0),"Pause länger als die Anwesenheit. ","")&IF(AND(ISNUMBER($H10),$H10>8),"über 8 h (§ 3 ArbZG). ","")&IF(AND(ISNUMBER($H10),$H10>9),IF($G10<45,"Pause unter 45 min (§ 4 ArbZG). ",""),IF(AND(ISNUMBER($H10),$H10>6),IF($G10<30,"Pause unter 30 min (§ 4 ArbZG). ",""),""))&IF(AND(ISNUMBER($F9),ISNUMBER($E9),ISNUMBER($E10)),IF(IF($F9<$E9,($E10-$F9)*24,(1-$F9+$E10)*24)<11,"Ruhezeit unter 11 h (§ 5 ArbZG). ",""),""))
A11: 45813 | B11: Do | C11: =IFERROR(IF(INDEX(Feiertage!$D$6:$S$24,MATCH($A11,Feiertage!$B$6:$B$24,0),MATCH(Stammdaten!$C$6,Feiertage!$D$5:$S$5,0))="x",INDEX(Feiertage!$C$6:$C$24,MATCH($A11,Feiertage!$B$6:$B$24,0)),""),"") | H11: =IF(OR($E11="",$F11=""),"",MOD($F11-$E11,1)*24-$G11/60) | I11: =IF(NOT(OR($D11<>"",ISNUMBER($H11))),"",IF(OR($C11<>"",$D11="Urlaub",$D11="Krank",$D11="Feiertag"),0,IF(WEEKDAY($A11,2)<=Stammdaten!$C$9,Stammdaten!$C$8/Stammdaten!$C$9,0))) | J11: =IF($I11="","",IF(ISNUMBER($H11),$H11,0)-$I11) | K11: =IF(OR($D11="Urlaub",$D11="Krank",$D11="Feiertag",$D11="Frei"),"",IF(AND(ISNUMBER($H11),$H11<0),"Pause länger als die Anwesenheit. ","")&IF(AND(ISNUMBER($H11),$H11>8),"über 8 h (§ 3 ArbZG). ","")&IF(AND(ISNUMBER($H11),$H11>9),IF($G11<45,"Pause unter 45 min (§ 4 ArbZG). ",""),IF(AND(ISNUMBER($H11),$H11>6),IF($G11<30,"Pause unter 30 min (§ 4 ArbZG). ",""),""))&IF(AND(ISNUMBER($F10),ISNUMBER($E10),ISNUMBER($E11)),IF(IF($F10<$E10,($E11-$F10)*24,(1-$F10+$E11)*24)<11,"Ruhezeit unter 11 h (§ 5 ArbZG). ",""),""))
A12: 45814 | B12: Fr | C12: =IFERROR(IF(INDEX(Feiertage!$D$6:$S$24,MATCH($A12,Feiertage!$B$6:$B$24,0),MATCH(Stammdaten!$C$6,Feiertage!$D$5:$S$5,0))="x",INDEX(Feiertage!$C$6:$C$24,MATCH($A12,Feiertage!$B$6:$B$24,0)),""),"") | H12: =IF(OR($E12="",$F12=""),"",MOD($F12-$E12,1)*24-$G12/60) | I12: =IF(NOT(OR($D12<>"",ISNUMBER($H12))),"",IF(OR($C12<>"",$D12="Urlaub",$D12="Krank",$D12="Feiertag"),0,IF(WEEKDAY($A12,2)<=Stammdaten!$C$9,Stammdaten!$C$8/Stammdaten!$C$9,0))) | J12: =IF($I12="","",IF(ISNUMBER($H12),$H12,0)-$I12) | K12: =IF(OR($D12="Urlaub",$D12="Krank",$D12="Feiertag",$D12="Frei"),"",IF(AND(ISNUMBER($H12),$H12<0),"Pause länger als die Anwesenheit. ","")&IF(AND(ISNUMBER($H12),$H12>8),"über 8 h (§ 3 ArbZG). ","")&IF(AND(ISNUMBER($H12),$H12>9),IF($G12<45,"Pause unter 45 min (§ 4 ArbZG). ",""),IF(AND(ISNUMBER($H12),$H12>6),IF($G12<30,"Pause unter 30 min (§ 4 ArbZG). ",""),""))&IF(AND(ISNUMBER($F11),ISNUMBER($E11),ISNUMBER($E12)),IF(IF($F11<$E11,($E12-$F11)*24,(1-$F11+$E12)*24)<11,"Ruhezeit unter 11 h (§ 5 ArbZG). ",""),""))
A13: 45815 | B13: Sa | C13: =IFERROR(IF(INDEX(Feiertage!$D$6:$S$24,MATCH($A13,Feiertage!$B$6:$B$24,0),MATCH(Stammdaten!$C$6,Feiertage!$D$5:$S$5,0))="x",INDEX(Feiertage!$C$6:$C$24,MATCH($A13,Feiertage!$B$6:$B$24,0)),""),"") | H13: =IF(OR($E13="",$F13=""),"",MOD($F13-$E13,1)*24-$G13/60) | I13: =IF(NOT(OR($D13<>"",ISNUMBER($H13))),"",IF(OR($C13<>"",$D13="Urlaub",$D13="Krank",$D13="Feiertag"),0,IF(WEEKDAY($A13,2)<=Stammdaten!$C$9,Stammdaten!$C$8/Stammdaten!$C$9,0))) | J13: =IF($I13="","",IF(ISNUMBER($H13),$H13,0)-$I13) | K13: =IF(OR($D13="Urlaub",$D13="Krank",$D13="Feiertag",$D13="Frei"),"",IF(AND(ISNUMBER($H13),$H13<0),"Pause länger als die Anwesenheit. ","")&IF(AND(ISNUMBER($H13),$H13>8),"über 8 h (§ 3 ArbZG). ","")&IF(AND(ISNUMBER($H13),$H13>9),IF($G13<45,"Pause unter 45 min (§ 4 ArbZG). ",""),IF(AND(ISNUMBER($H13),$H13>6),IF($G13<30,"Pause unter 30 min (§ 4 ArbZG). ",""),""))&IF(AND(ISNUMBER($F12),ISNUMBER($E12),ISNUMBER($E13)),IF(IF($F12<$E12,($E13-$F12)*24,(1-$F12+$E13)*24)<11,"Ruhezeit unter 11 h (§ 5 ArbZG). ",""),""))
A14: 45816 | B14: So | C14: =IFERROR(IF(INDEX(Feiertage!$D$6:$S$24,MATCH($A14,Feiertage!$B$6:$B$24,0),MATCH(Stammdaten!$C$6,Feiertage!$D$5:$S$5,0))="x",INDEX(Feiertage!$C$6:$C$24,MATCH($A14,Feiertage!$B$6:$B$24,0)),""),"") | H14: =IF(OR($E14="",$F14=""),"",MOD($F14-$E14,1)*24-$G14/60) | I14: =IF(NOT(OR($D14<>"",ISNUMBER($H14))),"",IF(OR($C14<>"",$D14="Urlaub",$D14="Krank",$D14="Feiertag"),0,IF(WEEKDAY($A14,2)<=Stammdaten!$C$9,Stammdaten!$C$8/Stammdaten!$C$9,0))) | J14: =IF($I14="","",IF(ISNUMBER($H14),$H14,0)-$I14) | K14: =IF(OR($D14="Urlaub",$D14="Krank",$D14="Feiertag",$D14="Frei"),"",IF(AND(ISNUMBER($H14),$H14<0),"Pause länger als die Anwesenheit. ","")&IF(AND(ISNUMBER($H14),$H14>8),"über 8 h (§ 3 ArbZG). ","")&IF(AND(ISNUMBER($H14),$H14>9),IF($G14<45,"Pause unter 45 min (§ 4 ArbZG). ",""),IF(AND(ISNUMBER($H14),$H14>6),IF($G14<30,"Pause unter 30 min (§ 4 ArbZG). ",""),""))&IF(AND(ISNUMBER($F13),ISNUMBER($E13),ISNUMBER($E14)),IF(IF($F13<$E13,($E14-$F13)*24,(1-$F13+$E14)*24)<11,"Ruhezeit unter 11 h (§ 5 ArbZG). ",""),""))
A15: 45817 | B15: Mo | C15: =IFERROR(IF(INDEX(Feiertage!$D$6:$S$24,MATCH($A15,Feiertage!$B$6:$B$24,0),MATCH(Stammdaten!$C$6,Feiertage!$D$5:$S$5,0))="x",INDEX(Feiertage!$C$6:$C$24,MATCH($A15,Feiertage!$B$6:$B$24,0)),""),"") | H15: =IF(OR($E15="",$F15=""),"",MOD($F15-$E15,1)*24-$G15/60) | I15: =IF(NOT(OR($D15<>"",ISNUMBER($H15))),"",IF(OR($C15<>"",$D15="Urlaub",$D15="Krank",$D15="Feiertag"),0,IF(WEEKDAY($A15,2)<=Stammdaten!$C$9,Stammdaten!$C$8/Stammdaten!$C$9,0))) | J15: =IF($I15="","",IF(ISNUMBER($H15),$H15,0)-$I15) | K15: =IF(OR($D15="Urlaub",$D15="Krank",$D15="Feiertag",$D15="Frei"),"",IF(AND(ISNUMBER($H15),$H15<0),"Pause länger als die Anwesenheit. ","")&IF(AND(ISNUMBER($H15),$H15>8),"über 8 h (§ 3 ArbZG). ","")&IF(AND(ISNUMBER($H15),$H15>9),IF($G15<45,"Pause unter 45 min (§ 4 ArbZG). ",""),IF(AND(ISNUMBER($H15),$H15>6),IF($G15<30,"Pause unter 30 min (§ 4 ArbZG). ",""),""))&IF(AND(ISNUMBER($F14),ISNUMBER($E14),ISNUMBER($E15)),IF(IF($F14<$E14,($E15-$F14)*24,(1-$F14+$E15)*24)<11,"Ruhezeit unter 11 h (§ 5 ArbZG). ",""),""))
A16: 45818 | B16: Di | C16: =IFERROR(IF(INDEX(Feiertage!$D$6:$S$24,MATCH($A16,Feiertage!$B$6:$B$24,0),MATCH(Stammdaten!$C$6,Feiertage!$D$5:$S$5,0))="x",INDEX(Feiertage!$C$6:$C$24,MATCH($A16,Feiertage!$B$6:$B$24,0)),""),"") | H16: =IF(OR($E16="",$F16=""),"",MOD($F16-$E16,1)*24-$G16/60) | I16: =IF(NOT(OR($D16<>"",ISNUMBER($H16))),"",IF(OR($C16<>"",$D16="Urlaub",$D16="Krank",$D16="Feiertag"),0,IF(WEEKDAY($A16,2)<=Stammdaten!$C$9,Stammdaten!$C$8/Stammdaten!$C$9,0))) | J16: =IF($I16="","",IF(ISNUMBER($H16),$H16,0)-$I16) | K16: =IF(OR($D16="Urlaub",$D16="Krank",$D16="Feiertag",$D16="Frei"),"",IF(AND(ISNUMBER($H16),$H16<0),"Pause länger als die Anwesenheit. ","")&IF(AND(ISNUMBER($H16),$H16>8),"über 8 h (§ 3 ArbZG). ","")&IF(AND(ISNUMBER($H16),$H16>9),IF($G16<45,"Pause unter 45 min (§ 4 ArbZG). ",""),IF(AND(ISNUMBER($H16),$H16>6),IF($G16<30,"Pause unter 30 min (§ 4 ArbZG). ",""),""))&IF(AND(ISNUMBER($F15),ISNUMBER($E15),ISNUMBER($E16)),IF(IF($F15<$E15,($E16-$F15)*24,(1-$F15+$E16)*24)<11,"Ruhezeit unter 11 h (§ 5 ArbZG). ",""),""))
A17: 45819 | B17: Mi | C17: =IFERROR(IF(INDEX(Feiertage!$D$6:$S$24,MATCH($A17,Feiertage!$B$6:$B$24,0),MATCH(Stammdaten!$C$6,Feiertage!$D$5:$S$5,0))="x",INDEX(Feiertage!$C$6:$C$24,MATCH($A17,Feiertage!$B$6:$B$24,0)),""),"") | H17: =IF(OR($E17="",$F17=""),"",MOD($F17-$E17,1)*24-$G17/60) | I17: =IF(NOT(OR($D17<>"",ISNUMBER($H17))),"",IF(OR($C17<>"",$D17="Urlaub",$D17="Krank",$D17="Feiertag"),0,IF(WEEKDAY($A17,2)<=Stammdaten!$C$9,Stammdaten!$C$8/Stammdaten!$C$9,0))) | J17: =IF($I17="","",IF(ISNUMBER($H17),$H17,0)-$I17) | K17: =IF(OR($D17="Urlaub",$D17="Krank",$D17="Feiertag",$D17="Frei"),"",IF(AND(ISNUMBER($H17),$H17<0),"Pause länger als die Anwesenheit. ","")&IF(AND(ISNUMBER($H17),$H17>8),"über 8 h (§ 3 ArbZG). ","")&IF(AND(ISNUMBER($H17),$H17>9),IF($G17<45,"Pause unter 45 min (§ 4 ArbZG). ",""),IF(AND(ISNUMBER($H17),$H17>6),IF($G17<30,"Pause unter 30 min (§ 4 ArbZG). ",""),""))&IF(AND(ISNUMBER($F16),ISNUMBER($E16),ISNUMBER($E17)),IF(IF($F16<$E16,($E17-$F16)*24,(1-$F16+$E17)*24)<11,"Ruhezeit unter 11 h (§ 5 ArbZG). ",""),""))
A18: 45820 | B18: Do | C18: =IFERROR(IF(INDEX(Feiertage!$D$6:$S$24,MATCH($A18,Feiertage!$B$6:$B$24,0),MATCH(Stammdaten!$C$6,Feiertage!$D$5:$S$5,0))="x",INDEX(Feiertage!$C$6:$C$24,MATCH($A18,Feiertage!$B$6:$B$24,0)),""),"") | H18: =IF(OR($E18="",$F18=""),"",MOD($F18-$E18,1)*24-$G18/60) | I18: =IF(NOT(OR($D18<>"",ISNUMBER($H18))),"",IF(OR($C18<>"",$D18="Urlaub",$D18="Krank",$D18="Feiertag"),0,IF(WEEKDAY($A18,2)<=Stammdaten!$C$9,Stammdaten!$C$8/Stammdaten!$C$9,0))) | J18: =IF($I18="","",IF(ISNUMBER($H18),$H18,0)-$I18) | K18: =IF(OR($D18="Urlaub",$D18="Krank",$D18="Feiertag",$D18="Frei"),"",IF(AND(ISNUMBER($H18),$H18<0),"Pause länger als die Anwesenheit. ","")&IF(AND(ISNUMBER($H18),$H18>8),"über 8 h (§ 3 ArbZG). ","")&IF(AND(ISNUMBER($H18),$H18>9),IF($G18<45,"Pause unter 45 min (§ 4 ArbZG). ",""),IF(AND(ISNUMBER($H18),$H18>6),IF($G18<30,"Pause unter 30 min (§ 4 ArbZG). ",""),""))&IF(AND(ISNUMBER($F17),ISNUMBER($E17),ISNUMBER($E18)),IF(IF($F17<$E17,($E18-$F17)*24,(1-$F17+$E18)*24)<11,"Ruhezeit unter 11 h (§ 5 ArbZG). ",""),""))
A19: 45821 | B19: Fr | C19: =IFERROR(IF(INDEX(Feiertage!$D$6:$S$24,MATCH($A19,Feiertage!$B$6:$B$24,0),MATCH(Stammdaten!$C$6,Feiertage!$D$5:$S$5,0))="x",INDEX(Feiertage!$C$6:$C$24,MATCH($A19,Feiertage!$B$6:$B$24,0)),""),"") | H19: =IF(OR($E19="",$F19=""),"",MOD($F19-$E19,1)*24-$G19/60) | I19: =IF(NOT(OR($D19<>"",ISNUMBER($H19))),"",IF(OR($C19<>"",$D19="Urlaub",$D19="Krank",$D19="Feiertag"),0,IF(WEEKDAY($A19,2)<=Stammdaten!$C$9,Stammdaten!$C$8/Stammdaten!$C$9,0))) | J19: =IF($I19="","",IF(ISNUMBER($H19),$H19,0)-$I19) | K19: =IF(OR($D19="Urlaub",$D19="Krank",$D19="Feiertag",$D19="Frei"),"",IF(AND(ISNUMBER($H19),$H19<0),"Pause länger als die Anwesenheit. ","")&IF(AND(ISNUMBER($H19),$H19>8),"über 8 h (§ 3 ArbZG). ","")&IF(AND(ISNUMBER($H19),$H19>9),IF($G19<45,"Pause unter 45 min (§ 4 ArbZG). ",""),IF(AND(ISNUMBER($H19),$H19>6),IF($G19<30,"Pause unter 30 min (§ 4 ArbZG). ",""),""))&IF(AND(ISNUMBER($F18),ISNUMBER($E18),ISNUMBER($E19)),IF(IF($F18<$E18,($E19-$F18)*24,(1-$F18+$E19)*24)<11,"Ruhezeit unter 11 h (§ 5 ArbZG). ",""),""))
... A36: 45838 | B36: Mo | C36: =IFERROR(IF(INDEX(Feiertage!$D$6:$S$24,MATCH($A36,Feiertage!$B$6:$B$24,0),MATCH(Stammdaten!$C$6,Feiertage!$D$5:$S$5,0))="x",INDEX(Feiertage!$C$6:$C$24,MATCH($A36,Feiertage!$B$6:$B$24,0)),""),"") | H36: =IF(OR($E36="",$F36=""),"",MOD($F36-$E36,1)*24-$G36/60) | I36: =IF(NOT(OR($D36<>"",ISNUMBER($H36))),"",IF(OR($C36<>"",$D36="Urlaub",$D36="Krank",$D36="Feiertag"),0,IF(WEEKDAY($A36,2)<=Stammdaten!$C$9,Stammdaten!$C$8/Stammdaten!$C$9,0))) | J36: =IF($I36="","",IF(ISNUMBER($H36),$H36,0)-$I36) | K36: =IF(OR($D36="Urlaub",$D36="Krank",$D36="Feiertag",$D36="Frei"),"",IF(AND(ISNUMBER($H36),$H36<0),"Pause länger als die Anwesenheit. ","")&IF(AND(ISNUMBER($H36),$H36>8),"über 8 h (§ 3 ArbZG). ","")&IF(AND(ISNUMBER($H36),$H36>9),IF($G36<45,"Pause unter 45 min (§ 4 ArbZG). ",""),IF(AND(ISNUMBER($H36),$H36>6),IF($G36<30,"Pause unter 30 min (§ 4 ArbZG). ",""),""))&IF(AND(ISNUMBER($F35),ISNUMBER($E35),ISNUMBER($E36)),IF(IF($F35<$E35,($E36-$F35)*24,(1-$F35+$E36)*24)<11,"Ruhezeit unter 11 h (§ 5 ArbZG). ",""),""))
A37: Summe | G37: =SUM($G$7:$G$36) | H37: =SUM($H$7:$H$36) | I37: =SUM($I$7:$I$36) | J37: =SUM($J$7:$J$36)
A38: Überstundenkonto am Monatsende | J38: =Auswertung!$H$11

Sheet Juli
A2: Arbeitszeitnachweis Juli 2025
A3: Betrieb | B3: =Stammdaten!$C$4
A4: Person | B4: =Stammdaten!$C$5
A6: Datum | B6: Tag | C6: Feiertag | D6: Art | E6: Beginn | F6: Ende | G6: Pause (min) | H6: Dauer (h) | I6: Soll (h) | J6: Saldo (h) | K6: Hinweis | L6: Bemerkung
A7: 45839 | B7: Di | C7: =IFERROR(IF(INDEX(Feiertage!$D$6:$S$24,MATCH($A7,Feiertage!$B$6:$B$24,0),MATCH(Stammdaten!$C$6,Feiertage!$D$5:$S$5,0))="x",INDEX(Feiertage!$C$6:$C$24,MATCH($A7,Feiertage!$B$6:$B$24,0)),""),"") | H7: =IF(OR($E7="",$F7=""),"",MOD($F7-$E7,1)*24-$G7/60) | I7: =IF(NOT(OR($D7<>"",ISNUMBER($H7))),"",IF(OR($C7<>"",$D7="Urlaub",$D7="Krank",$D7="Feiertag"),0,IF(WEEKDAY($A7,2)<=Stammdaten!$C$9,Stammdaten!$C$8/Stammdaten!$C$9,0))) | J7: =IF($I7="","",IF(ISNUMBER($H7),$H7,0)-$I7) | K7: =IF(OR($D7="Urlaub",$D7="Krank",$D7="Feiertag",$D7="Frei"),"",IF(AND(ISNUMBER($H7),$H7<0),"Pause länger als die Anwesenheit. ","")&IF(AND(ISNUMBER($H7),$H7>8),"über 8 h (§ 3 ArbZG). ","")&IF(AND(ISNUMBER($H7),$H7>9),IF($G7<45,"Pause unter 45 min (§ 4 ArbZG). ",""),IF(AND(ISNUMBER($H7),$H7>6),IF($G7<30,"Pause unter 30 min (§ 4 ArbZG). ",""),"")))
A8: 45840 | B8: Mi | C8: =IFERROR(IF(INDEX(Feiertage!$D$6:$S$24,MATCH($A8,Feiertage!$B$6:$B$24,0),MATCH(Stammdaten!$C$6,Feiertage!$D$5:$S$5,0))="x",INDEX(Feiertage!$C$6:$C$24,MATCH($A8,Feiertage!$B$6:$B$24,0)),""),"") | H8: =IF(OR($E8="",$F8=""),"",MOD($F8-$E8,1)*24-$G8/60) | I8: =IF(NOT(OR($D8<>"",ISNUMBER($H8))),"",IF(OR($C8<>"",$D8="Urlaub",$D8="Krank",$D8="Feiertag"),0,IF(WEEKDAY($A8,2)<=Stammdaten!$C$9,Stammdaten!$C$8/Stammdaten!$C$9,0))) | J8: =IF($I8="","",IF(ISNUMBER($H8),$H8,0)-$I8) | K8: =IF(OR($D8="Urlaub",$D8="Krank",$D8="Feiertag",$D8="Frei"),"",IF(AND(ISNUMBER($H8),$H8<0),"Pause länger als die Anwesenheit. ","")&IF(AND(ISNUMBER($H8),$H8>8),"über 8 h (§ 3 ArbZG). ","")&IF(AND(ISNUMBER($H8),$H8>9),IF($G8<45,"Pause unter 45 min (§ 4 ArbZG). ",""),IF(AND(ISNUMBER($H8),$H8>6),IF($G8<30,"Pause unter 30 min (§ 4 ArbZG). ",""),""))&IF(AND(ISNUMBER($F7),ISNUMBER($E7),ISNUMBER($E8)),IF(IF($F7<$E7,($E8-$F7)*24,(1-$F7+$E8)*24)<11,"Ruhezeit unter 11 h (§ 5 ArbZG). ",""),""))
A9: 45841 | B9: Do | C9: =IFERROR(IF(INDEX(Feiertage!$D$6:$S$24,MATCH($A9,Feiertage!$B$6:$B$24,0),MATCH(Stammdaten!$C$6,Feiertage!$D$5:$S$5,0))="x",INDEX(Feiertage!$C$6:$C$24,MATCH($A9,Feiertage!$B$6:$B$24,0)),""),"") | H9: =IF(OR($E9="",$F9=""),"",MOD($F9-$E9,1)*24-$G9/60) | I9: =IF(NOT(OR($D9<>"",ISNUMBER($H9))),"",IF(OR($C9<>"",$D9="Urlaub",$D9="Krank",$D9="Feiertag"),0,IF(WEEKDAY($A9,2)<=Stammdaten!$C$9,Stammdaten!$C$8/Stammdaten!$C$9,0))) | J9: =IF($I9="","",IF(ISNUMBER($H9),$H9,0)-$I9) | K9: =IF(OR($D9="Urlaub",$D9="Krank",$D9="Feiertag",$D9="Frei"),"",IF(AND(ISNUMBER($H9),$H9<0),"Pause länger als die Anwesenheit. ","")&IF(AND(ISNUMBER($H9),$H9>8),"über 8 h (§ 3 ArbZG). ","")&IF(AND(ISNUMBER($H9),$H9>9),IF($G9<45,"Pause unter 45 min (§ 4 ArbZG). ",""),IF(AND(ISNUMBER($H9),$H9>6),IF($G9<30,"Pause unter 30 min (§ 4 ArbZG). ",""),""))&IF(AND(ISNUMBER($F8),ISNUMBER($E8),ISNUMBER($E9)),IF(IF($F8<$E8,($E9-$F8)*24,(1-$F8+$E9)*24)<11,"Ruhezeit unter 11 h (§ 5 ArbZG). ",""),""))
A10: 45842 | B10: Fr | C10: =IFERROR(IF(INDEX(Feiertage!$D$6:$S$24,MATCH($A10,Feiertage!$B$6:$B$24,0),MATCH(Stammdaten!$C$6,Feiertage!$D$5:$S$5,0))="x",INDEX(Feiertage!$C$6:$C$24,MATCH($A10,Feiertage!$B$6:$B$24,0)),""),"") | H10: =IF(OR($E10="",$F10=""),"",MOD($F10-$E10,1)*24-$G10/60) | I10: =IF(NOT(OR($D10<>"",ISNUMBER($H10))),"",IF(OR($C10<>"",$D10="Urlaub",$D10="Krank",$D10="Feiertag"),0,IF(WEEKDAY($A10,2)<=Stammdaten!$C$9,Stammdaten!$C$8/Stammdaten!$C$9,0))) | J10: =IF($I10="","",IF(ISNUMBER($H10),$H10,0)-$I10) | K10: =IF(OR($D10="Urlaub",$D10="Krank",$D10="Feiertag",$D10="Frei"),"",IF(AND(ISNUMBER($H10),$H10<0),"Pause länger als die Anwesenheit. ","")&IF(AND(ISNUMBER($H10),$H10>8),"über 8 h (§ 3 ArbZG). ","")&IF(AND(ISNUMBER($H10),$H10>9),IF($G10<45,"Pause unter 45 min (§ 4 ArbZG). ",""),IF(AND(ISNUMBER($H10),$H10>6),IF($G10<30,"Pause unter 30 min (§ 4 ArbZG). ",""),""))&IF(AND(ISNUMBER($F9),ISNUMBER($E9),ISNUMBER($E10)),IF(IF($F9<$E9,($E10-$F9)*24,(1-$F9+$E10)*24)<11,"Ruhezeit unter 11 h (§ 5 ArbZG). ",""),""))
A11: 45843 | B11: Sa | C11: =IFERROR(IF(INDEX(Feiertage!$D$6:$S$24,MATCH($A11,Feiertage!$B$6:$B$24,0),MATCH(Stammdaten!$C$6,Feiertage!$D$5:$S$5,0))="x",INDEX(Feiertage!$C$6:$C$24,MATCH($A11,Feiertage!$B$6:$B$24,0)),""),"") | H11: =IF(OR($E11="",$F11=""),"",MOD($F11-$E11,1)*24-$G11/60) | I11: =IF(NOT(OR($D11<>"",ISNUMBER($H11))),"",IF(OR($C11<>"",$D11="Urlaub",$D11="Krank",$D11="Feiertag"),0,IF(WEEKDAY($A11,2)<=Stammdaten!$C$9,Stammdaten!$C$8/Stammdaten!$C$9,0))) | J11: =IF($I11="","",IF(ISNUMBER($H11),$H11,0)-$I11) | K11: =IF(OR($D11="Urlaub",$D11="Krank",$D11="Feiertag",$D11="Frei"),"",IF(AND(ISNUMBER($H11),$H11<0),"Pause länger als die Anwesenheit. ","")&IF(AND(ISNUMBER($H11),$H11>8),"über 8 h (§ 3 ArbZG). ","")&IF(AND(ISNUMBER($H11),$H11>9),IF($G11<45,"Pause unter 45 min (§ 4 ArbZG). ",""),IF(AND(ISNUMBER($H11),$H11>6),IF($G11<30,"Pause unter 30 min (§ 4 ArbZG). ",""),""))&IF(AND(ISNUMBER($F10),ISNUMBER($E10),ISNUMBER($E11)),IF(IF($F10<$E10,($E11-$F10)*24,(1-$F10+$E11)*24)<11,"Ruhezeit unter 11 h (§ 5 ArbZG). ",""),""))
A12: 45844 | B12: So | C12: =IFERROR(IF(INDEX(Feiertage!$D$6:$S$24,MATCH($A12,Feiertage!$B$6:$B$24,0),MATCH(Stammdaten!$C$6,Feiertage!$D$5:$S$5,0))="x",INDEX(Feiertage!$C$6:$C$24,MATCH($A12,Feiertage!$B$6:$B$24,0)),""),"") | H12: =IF(OR($E12="",$F12=""),"",MOD($F12-$E12,1)*24-$G12/60) | I12: =IF(NOT(OR($D12<>"",ISNUMBER($H12))),"",IF(OR($C12<>"",$D12="Urlaub",$D12="Krank",$D12="Feiertag"),0,IF(WEEKDAY($A12,2)<=Stammdaten!$C$9,Stammdaten!$C$8/Stammdaten!$C$9,0))) | J12: =IF($I12="","",IF(ISNUMBER($H12),$H12,0)-$I12) | K12: =IF(OR($D12="Urlaub",$D12="Krank",$D12="Feiertag",$D12="Frei"),"",IF(AND(ISNUMBER($H12),$H12<0),"Pause länger als die Anwesenheit. ","")&IF(AND(ISNUMBER($H12),$H12>8),"über 8 h (§ 3 ArbZG). ","")&IF(AND(ISNUMBER($H12),$H12>9),IF($G12<45,"Pause unter 45 min (§ 4 ArbZG). ",""),IF(AND(ISNUMBER($H12),$H12>6),IF($G12<30,"Pause unter 30 min (§ 4 ArbZG). ",""),""))&IF(AND(ISNUMBER($F11),ISNUMBER($E11),ISNUMBER($E12)),IF(IF($F11<$E11,($E12-$F11)*24,(1-$F11+$E12)*24)<11,"Ruhezeit unter 11 h (§ 5 ArbZG). ",""),""))
A13: 45845 | B13: Mo | C13: =IFERROR(IF(INDEX(Feiertage!$D$6:$S$24,MATCH($A13,Feiertage!$B$6:$B$24,0),MATCH(Stammdaten!$C$6,Feiertage!$D$5:$S$5,0))="x",INDEX(Feiertage!$C$6:$C$24,MATCH($A13,Feiertage!$B$6:$B$24,0)),""),"") | H13: =IF(OR($E13="",$F13=""),"",MOD($F13-$E13,1)*24-$G13/60) | I13: =IF(NOT(OR($D13<>"",ISNUMBER($H13))),"",IF(OR($C13<>"",$D13="Urlaub",$D13="Krank",$D13="Feiertag"),0,IF(WEEKDAY($A13,2)<=Stammdaten!$C$9,Stammdaten!$C$8/Stammdaten!$C$9,0))) | J13: =IF($I13="","",IF(ISNUMBER($H13),$H13,0)-$I13) | K13: =IF(OR($D13="Urlaub",$D13="Krank",$D13="Feiertag",$D13="Frei"),"",IF(AND(ISNUMBER($H13),$H13<0),"Pause länger als die Anwesenheit. ","")&IF(AND(ISNUMBER($H13),$H13>8),"über 8 h (§ 3 ArbZG). ","")&IF(AND(ISNUMBER($H13),$H13>9),IF($G13<45,"Pause unter 45 min (§ 4 ArbZG). ",""),IF(AND(ISNUMBER($H13),$H13>6),IF($G13<30,"Pause unter 30 min (§ 4 ArbZG). ",""),""))&IF(AND(ISNUMBER($F12),ISNUMBER($E12),ISNUMBER($E13)),IF(IF($F12<$E12,($E13-$F12)*24,(1-$F12+$E13)*24)<11,"Ruhezeit unter 11 h (§ 5 ArbZG). ",""),""))
A14: 45846 | B14: Di | C14: =IFERROR(IF(INDEX(Feiertage!$D$6:$S$24,MATCH($A14,Feiertage!$B$6:$B$24,0),MATCH(Stammdaten!$C$6,Feiertage!$D$5:$S$5,0))="x",INDEX(Feiertage!$C$6:$C$24,MATCH($A14,Feiertage!$B$6:$B$24,0)),""),"") | H14: =IF(OR($E14="",$F14=""),"",MOD($F14-$E14,1)*24-$G14/60) | I14: =IF(NOT(OR($D14<>"",ISNUMBER($H14))),"",IF(OR($C14<>"",$D14="Urlaub",$D14="Krank",$D14="Feiertag"),0,IF(WEEKDAY($A14,2)<=Stammdaten!$C$9,Stammdaten!$C$8/Stammdaten!$C$9,0))) | J14: =IF($I14="","",IF(ISNUMBER($H14),$H14,0)-$I14) | K14: =IF(OR($D14="Urlaub",$D14="Krank",$D14="Feiertag",$D14="Frei"),"",IF(AND(ISNUMBER($H14),$H14<0),"Pause länger als die Anwesenheit. ","")&IF(AND(ISNUMBER($H14),$H14>8),"über 8 h (§ 3 ArbZG). ","")&IF(AND(ISNUMBER($H14),$H14>9),IF($G14<45,"Pause unter 45 min (§ 4 ArbZG). ",""),IF(AND(ISNUMBER($H14),$H14>6),IF($G14<30,"Pause unter 30 min (§ 4 ArbZG). ",""),""))&IF(AND(ISNUMBER($F13),ISNUMBER($E13),ISNUMBER($E14)),IF(IF($F13<$E13,($E14-$F13)*24,(1-$F13+$E14)*24)<11,"Ruhezeit unter 11 h (§ 5 ArbZG). ",""),""))
A15: 45847 | B15: Mi | C15: =IFERROR(IF(INDEX(Feiertage!$D$6:$S$24,MATCH($A15,Feiertage!$B$6:$B$24,0),MATCH(Stammdaten!$C$6,Feiertage!$D$5:$S$5,0))="x",INDEX(Feiertage!$C$6:$C$24,MATCH($A15,Feiertage!$B$6:$B$24,0)),""),"") | H15: =IF(OR($E15="",$F15=""),"",MOD($F15-$E15,1)*24-$G15/60) | I15: =IF(NOT(OR($D15<>"",ISNUMBER($H15))),"",IF(OR($C15<>"",$D15="Urlaub",$D15="Krank",$D15="Feiertag"),0,IF(WEEKDAY($A15,2)<=Stammdaten!$C$9,Stammdaten!$C$8/Stammdaten!$C$9,0))) | J15: =IF($I15="","",IF(ISNUMBER($H15),$H15,0)-$I15) | K15: =IF(OR($D15="Urlaub",$D15="Krank",$D15="Feiertag",$D15="Frei"),"",IF(AND(ISNUMBER($H15),$H15<0),"Pause länger als die Anwesenheit. ","")&IF(AND(ISNUMBER($H15),$H15>8),"über 8 h (§ 3 ArbZG). ","")&IF(AND(ISNUMBER($H15),$H15>9),IF($G15<45,"Pause unter 45 min (§ 4 ArbZG). ",""),IF(AND(ISNUMBER($H15),$H15>6),IF($G15<30,"Pause unter 30 min (§ 4 ArbZG). ",""),""))&IF(AND(ISNUMBER($F14),ISNUMBER($E14),ISNUMBER($E15)),IF(IF($F14<$E14,($E15-$F14)*24,(1-$F14+$E15)*24)<11,"Ruhezeit unter 11 h (§ 5 ArbZG). ",""),""))
A16: 45848 | B16: Do | C16: =IFERROR(IF(INDEX(Feiertage!$D$6:$S$24,MATCH($A16,Feiertage!$B$6:$B$24,0),MATCH(Stammdaten!$C$6,Feiertage!$D$5:$S$5,0))="x",INDEX(Feiertage!$C$6:$C$24,MATCH($A16,Feiertage!$B$6:$B$24,0)),""),"") | H16: =IF(OR($E16="",$F16=""),"",MOD($F16-$E16,1)*24-$G16/60) | I16: =IF(NOT(OR($D16<>"",ISNUMBER($H16))),"",IF(OR($C16<>"",$D16="Urlaub",$D16="Krank",$D16="Feiertag"),0,IF(WEEKDAY($A16,2)<=Stammdaten!$C$9,Stammdaten!$C$8/Stammdaten!$C$9,0))) | J16: =IF($I16="","",IF(ISNUMBER($H16),$H16,0)-$I16) | K16: =IF(OR($D16="Urlaub",$D16="Krank",$D16="Feiertag",$D16="Frei"),"",IF(AND(ISNUMBER($H16),$H16<0),"Pause länger als die Anwesenheit. ","")&IF(AND(ISNUMBER($H16),$H16>8),"über 8 h (§ 3 ArbZG). ","")&IF(AND(ISNUMBER($H16),$H16>9),IF($G16<45,"Pause unter 45 min (§ 4 ArbZG). ",""),IF(AND(ISNUMBER($H16),$H16>6),IF($G16<30,"Pause unter 30 min (§ 4 ArbZG). ",""),""))&IF(AND(ISNUMBER($F15),ISNUMBER($E15),ISNUMBER($E16)),IF(IF($F15<$E15,($E16-$F15)*24,(1-$F15+$E16)*24)<11,"Ruhezeit unter 11 h (§ 5 ArbZG). ",""),""))
A17: 45849 | B17: Fr | C17: =IFERROR(IF(INDEX(Feiertage!$D$6:$S$24,MATCH($A17,Feiertage!$B$6:$B$24,0),MATCH(Stammdaten!$C$6,Feiertage!$D$5:$S$5,0))="x",INDEX(Feiertage!$C$6:$C$24,MATCH($A17,Feiertage!$B$6:$B$24,0)),""),"") | H17: =IF(OR($E17="",$F17=""),"",MOD($F17-$E17,1)*24-$G17/60) | I17: =IF(NOT(OR($D17<>"",ISNUMBER($H17))),"",IF(OR($C17<>"",$D17="Urlaub",$D17="Krank",$D17="Feiertag"),0,IF(WEEKDAY($A17,2)<=Stammdaten!$C$9,Stammdaten!$C$8/Stammdaten!$C$9,0))) | J17: =IF($I17="","",IF(ISNUMBER($H17),$H17,0)-$I17) | K17: =IF(OR($D17="Urlaub",$D17="Krank",$D17="Feiertag",$D17="Frei"),"",IF(AND(ISNUMBER($H17),$H17<0),"Pause länger als die Anwesenheit. ","")&IF(AND(ISNUMBER($H17),$H17>8),"über 8 h (§ 3 ArbZG). ","")&IF(AND(ISNUMBER($H17),$H17>9),IF($G17<45,"Pause unter 45 min (§ 4 ArbZG). ",""),IF(AND(ISNUMBER($H17),$H17>6),IF($G17<30,"Pause unter 30 min (§ 4 ArbZG). ",""),""))&IF(AND(ISNUMBER($F16),ISNUMBER($E16),ISNUMBER($E17)),IF(IF($F16<$E16,($E17-$F16)*24,(1-$F16+$E17)*24)<11,"Ruhezeit unter 11 h (§ 5 ArbZG). ",""),""))
A18: 45850 | B18: Sa | C18: =IFERROR(IF(INDEX(Feiertage!$D$6:$S$24,MATCH($A18,Feiertage!$B$6:$B$24,0),MATCH(Stammdaten!$C$6,Feiertage!$D$5:$S$5,0))="x",INDEX(Feiertage!$C$6:$C$24,MATCH($A18,Feiertage!$B$6:$B$24,0)),""),"") | H18: =IF(OR($E18="",$F18=""),"",MOD($F18-$E18,1)*24-$G18/60) | I18: =IF(NOT(OR($D18<>"",ISNUMBER($H18))),"",IF(OR($C18<>"",$D18="Urlaub",$D18="Krank",$D18="Feiertag"),0,IF(WEEKDAY($A18,2)<=Stammdaten!$C$9,Stammdaten!$C$8/Stammdaten!$C$9,0))) | J18: =IF($I18="","",IF(ISNUMBER($H18),$H18,0)-$I18) | K18: =IF(OR($D18="Urlaub",$D18="Krank",$D18="Feiertag",$D18="Frei"),"",IF(AND(ISNUMBER($H18),$H18<0),"Pause länger als die Anwesenheit. ","")&IF(AND(ISNUMBER($H18),$H18>8),"über 8 h (§ 3 ArbZG). ","")&IF(AND(ISNUMBER($H18),$H18>9),IF($G18<45,"Pause unter 45 min (§ 4 ArbZG). ",""),IF(AND(ISNUMBER($H18),$H18>6),IF($G18<30,"Pause unter 30 min (§ 4 ArbZG). ",""),""))&IF(AND(ISNUMBER($F17),ISNUMBER($E17),ISNUMBER($E18)),IF(IF($F17<$E17,($E18-$F17)*24,(1-$F17+$E18)*24)<11,"Ruhezeit unter 11 h (§ 5 ArbZG). ",""),""))
A19: 45851 | B19: So | C19: =IFERROR(IF(INDEX(Feiertage!$D$6:$S$24,MATCH($A19,Feiertage!$B$6:$B$24,0),MATCH(Stammdaten!$C$6,Feiertage!$D$5:$S$5,0))="x",INDEX(Feiertage!$C$6:$C$24,MATCH($A19,Feiertage!$B$6:$B$24,0)),""),"") | H19: =IF(OR($E19="",$F19=""),"",MOD($F19-$E19,1)*24-$G19/60) | I19: =IF(NOT(OR($D19<>"",ISNUMBER($H19))),"",IF(OR($C19<>"",$D19="Urlaub",$D19="Krank",$D19="Feiertag"),0,IF(WEEKDAY($A19,2)<=Stammdaten!$C$9,Stammdaten!$C$8/Stammdaten!$C$9,0))) | J19: =IF($I19="","",IF(ISNUMBER($H19),$H19,0)-$I19) | K19: =IF(OR($D19="Urlaub",$D19="Krank",$D19="Feiertag",$D19="Frei"),"",IF(AND(ISNUMBER($H19),$H19<0),"Pause länger als die Anwesenheit. ","")&IF(AND(ISNUMBER($H19),$H19>8),"über 8 h (§ 3 ArbZG). ","")&IF(AND(ISNUMBER($H19),$H19>9),IF($G19<45,"Pause unter 45 min (§ 4 ArbZG). ",""),IF(AND(ISNUMBER($H19),$H19>6),IF($G19<30,"Pause unter 30 min (§ 4 ArbZG). ",""),""))&IF(AND(ISNUMBER($F18),ISNUMBER($E18),ISNUMBER($E19)),IF(IF($F18<$E18,($E19-$F18)*24,(1-$F18+$E19)*24)<11,"Ruhezeit unter 11 h (§ 5 ArbZG). ",""),""))
... A37: 45869 | B37: Do | C37: =IFERROR(IF(INDEX(Feiertage!$D$6:$S$24,MATCH($A37,Feiertage!$B$6:$B$24,0),MATCH(Stammdaten!$C$6,Feiertage!$D$5:$S$5,0))="x",INDEX(Feiertage!$C$6:$C$24,MATCH($A37,Feiertage!$B$6:$B$24,0)),""),"") | H37: =IF(OR($E37="",$F37=""),"",MOD($F37-$E37,1)*24-$G37/60) | I37: =IF(NOT(OR($D37<>"",ISNUMBER($H37))),"",IF(OR($C37<>"",$D37="Urlaub",$D37="Krank",$D37="Feiertag"),0,IF(WEEKDAY($A37,2)<=Stammdaten!$C$9,Stammdaten!$C$8/Stammdaten!$C$9,0))) | J37: =IF($I37="","",IF(ISNUMBER($H37),$H37,0)-$I37) | K37: =IF(OR($D37="Urlaub",$D37="Krank",$D37="Feiertag",$D37="Frei"),"",IF(AND(ISNUMBER($H37),$H37<0),"Pause länger als die Anwesenheit. ","")&IF(AND(ISNUMBER($H37),$H37>8),"über 8 h (§ 3 ArbZG). ","")&IF(AND(ISNUMBER($H37),$H37>9),IF($G37<45,"Pause unter 45 min (§ 4 ArbZG). ",""),IF(AND(ISNUMBER($H37),$H37>6),IF($G37<30,"Pause unter 30 min (§ 4 ArbZG). ",""),""))&IF(AND(ISNUMBER($F36),ISNUMBER($E36),ISNUMBER($E37)),IF(IF($F36<$E36,($E37-$F36)*24,(1-$F36+$E37)*24)<11,"Ruhezeit unter 11 h (§ 5 ArbZG). ",""),""))
A38: Summe | G38: =SUM($G$7:$G$37) | H38: =SUM($H$7:$H$37) | I38: =SUM($I$7:$I$37) | J38: =SUM($J$7:$J$37)
A39: Überstundenkonto am Monatsende | J39: =Auswertung!$H$12

Sheet August
A2: Arbeitszeitnachweis August 2025
A3: Betrieb | B3: =Stammdaten!$C$4
A4: Person | B4: =Stammdaten!$C$5
A6: Datum | B6: Tag | C6: Feiertag | D6: Art | E6: Beginn | F6: Ende | G6: Pause (min) | H6: Dauer (h) | I6: Soll (h) | J6: Saldo (h) | K6: Hinweis | L6: Bemerkung
A7: 45870 | B7: Fr | C7: =IFERROR(IF(INDEX(Feiertage!$D$6:$S$24,MATCH($A7,Feiertage!$B$6:$B$24,0),MATCH(Stammdaten!$C$6,Feiertage!$D$5:$S$5,0))="x",INDEX(Feiertage!$C$6:$C$24,MATCH($A7,Feiertage!$B$6:$B$24,0)),""),"") | H7: =IF(OR($E7="",$F7=""),"",MOD($F7-$E7,1)*24-$G7/60) | I7: =IF(NOT(OR($D7<>"",ISNUMBER($H7))),"",IF(OR($C7<>"",$D7="Urlaub",$D7="Krank",$D7="Feiertag"),0,IF(WEEKDAY($A7,2)<=Stammdaten!$C$9,Stammdaten!$C$8/Stammdaten!$C$9,0))) | J7: =IF($I7="","",IF(ISNUMBER($H7),$H7,0)-$I7) | K7: =IF(OR($D7="Urlaub",$D7="Krank",$D7="Feiertag",$D7="Frei"),"",IF(AND(ISNUMBER($H7),$H7<0),"Pause länger als die Anwesenheit. ","")&IF(AND(ISNUMBER($H7),$H7>8),"über 8 h (§ 3 ArbZG). ","")&IF(AND(ISNUMBER($H7),$H7>9),IF($G7<45,"Pause unter 45 min (§ 4 ArbZG). ",""),IF(AND(ISNUMBER($H7),$H7>6),IF($G7<30,"Pause unter 30 min (§ 4 ArbZG). ",""),"")))
A8: 45871 | B8: Sa | C8: =IFERROR(IF(INDEX(Feiertage!$D$6:$S$24,MATCH($A8,Feiertage!$B$6:$B$24,0),MATCH(Stammdaten!$C$6,Feiertage!$D$5:$S$5,0))="x",INDEX(Feiertage!$C$6:$C$24,MATCH($A8,Feiertage!$B$6:$B$24,0)),""),"") | H8: =IF(OR($E8="",$F8=""),"",MOD($F8-$E8,1)*24-$G8/60) | I8: =IF(NOT(OR($D8<>"",ISNUMBER($H8))),"",IF(OR($C8<>"",$D8="Urlaub",$D8="Krank",$D8="Feiertag"),0,IF(WEEKDAY($A8,2)<=Stammdaten!$C$9,Stammdaten!$C$8/Stammdaten!$C$9,0))) | J8: =IF($I8="","",IF(ISNUMBER($H8),$H8,0)-$I8) | K8: =IF(OR($D8="Urlaub",$D8="Krank",$D8="Feiertag",$D8="Frei"),"",IF(AND(ISNUMBER($H8),$H8<0),"Pause länger als die Anwesenheit. ","")&IF(AND(ISNUMBER($H8),$H8>8),"über 8 h (§ 3 ArbZG). ","")&IF(AND(ISNUMBER($H8),$H8>9),IF($G8<45,"Pause unter 45 min (§ 4 ArbZG). ",""),IF(AND(ISNUMBER($H8),$H8>6),IF($G8<30,"Pause unter 30 min (§ 4 ArbZG). ",""),""))&IF(AND(ISNUMBER($F7),ISNUMBER($E7),ISNUMBER($E8)),IF(IF($F7<$E7,($E8-$F7)*24,(1-$F7+$E8)*24)<11,"Ruhezeit unter 11 h (§ 5 ArbZG). ",""),""))
A9: 45872 | B9: So | C9: =IFERROR(IF(INDEX(Feiertage!$D$6:$S$24,MATCH($A9,Feiertage!$B$6:$B$24,0),MATCH(Stammdaten!$C$6,Feiertage!$D$5:$S$5,0))="x",INDEX(Feiertage!$C$6:$C$24,MATCH($A9,Feiertage!$B$6:$B$24,0)),""),"") | H9: =IF(OR($E9="",$F9=""),"",MOD($F9-$E9,1)*24-$G9/60) | I9: =IF(NOT(OR($D9<>"",ISNUMBER($H9))),"",IF(OR($C9<>"",$D9="Urlaub",$D9="Krank",$D9="Feiertag"),0,IF(WEEKDAY($A9,2)<=Stammdaten!$C$9,Stammdaten!$C$8/Stammdaten!$C$9,0))) | J9: =IF($I9="","",IF(ISNUMBER($H9),$H9,0)-$I9) | K9: =IF(OR($D9="Urlaub",$D9="Krank",$D9="Feiertag",$D9="Frei"),"",IF(AND(ISNUMBER($H9),$H9<0),"Pause länger als die Anwesenheit. ","")&IF(AND(ISNUMBER($H9),$H9>8),"über 8 h (§ 3 ArbZG). ","")&IF(AND(ISNUMBER($H9),$H9>9),IF($G9<45,"Pause unter 45 min (§ 4 ArbZG). ",""),IF(AND(ISNUMBER($H9),$H9>6),IF($G9<30,"Pause unter 30 min (§ 4 ArbZG). ",""),""))&IF(AND(ISNUMBER($F8),ISNUMBER($E8),ISNUMBER($E9)),IF(IF($F8<$E8,($E9-$F8)*24,(1-$F8+$E9)*24)<11,"Ruhezeit unter 11 h (§ 5 ArbZG). ",""),""))
A10: 45873 | B10: Mo | C10: =IFERROR(IF(INDEX(Feiertage!$D$6:$S$24,MATCH($A10,Feiertage!$B$6:$B$24,0),MATCH(Stammdaten!$C$6,Feiertage!$D$5:$S$5,0))="x",INDEX(Feiertage!$C$6:$C$24,MATCH($A10,Feiertage!$B$6:$B$24,0)),""),"") | H10: =IF(OR($E10="",$F10=""),"",MOD($F10-$E10,1)*24-$G10/60) | I10: =IF(NOT(OR($D10<>"",ISNUMBER($H10))),"",IF(OR($C10<>"",$D10="Urlaub",$D10="Krank",$D10="Feiertag"),0,IF(WEEKDAY($A10,2)<=Stammdaten!$C$9,Stammdaten!$C$8/Stammdaten!$C$9,0))) | J10: =IF($I10="","",IF(ISNUMBER($H10),$H10,0)-$I10) | K10: =IF(OR($D10="Urlaub",$D10="Krank",$D10="Feiertag",$D10="Frei"),"",IF(AND(ISNUMBER($H10),$H10<0),"Pause länger als die Anwesenheit. ","")&IF(AND(ISNUMBER($H10),$H10>8),"über 8 h (§ 3 ArbZG). ","")&IF(AND(ISNUMBER($H10),$H10>9),IF($G10<45,"Pause unter 45 min (§ 4 ArbZG). ",""),IF(AND(ISNUMBER($H10),$H10>6),IF($G10<30,"Pause unter 30 min (§ 4 ArbZG). ",""),""))&IF(AND(ISNUMBER($F9),ISNUMBER($E9),ISNUMBER($E10)),IF(IF($F9<$E9,($E10-$F9)*24,(1-$F9+$E10)*24)<11,"Ruhezeit unter 11 h (§ 5 ArbZG). ",""),""))
A11: 45874 | B11: Di | C11: =IFERROR(IF(INDEX(Feiertage!$D$6:$S$24,MATCH($A11,Feiertage!$B$6:$B$24,0),MATCH(Stammdaten!$C$6,Feiertage!$D$5:$S$5,0))="x",INDEX(Feiertage!$C$6:$C$24,MATCH($A11,Feiertage!$B$6:$B$24,0)),""),"") | H11: =IF(OR($E11="",$F11=""),"",MOD($F11-$E11,1)*24-$G11/60) | I11: =IF(NOT(OR($D11<>"",ISNUMBER($H11))),"",IF(OR($C11<>"",$D11="Urlaub",$D11="Krank",$D11="Feiertag"),0,IF(WEEKDAY($A11,2)<=Stammdaten!$C$9,Stammdaten!$C$8/Stammdaten!$C$9,0))) | J11: =IF($I11="","",IF(ISNUMBER($H11),$H11,0)-$I11) | K11: =IF(OR($D11="Urlaub",$D11="Krank",$D11="Feiertag",$D11="Frei"),"",IF(AND(ISNUMBER($H11),$H11<0),"Pause länger als die Anwesenheit. ","")&IF(AND(ISNUMBER($H11),$H11>8),"über 8 h (§ 3 ArbZG). ","")&IF(AND(ISNUMBER($H11),$H11>9),IF($G11<45,"Pause unter 45 min (§ 4 ArbZG). ",""),IF(AND(ISNUMBER($H11),$H11>6),IF($G11<30,"Pause unter 30 min (§ 4 ArbZG). ",""),""))&IF(AND(ISNUMBER($F10),ISNUMBER($E10),ISNUMBER($E11)),IF(IF($F10<$E10,($E11-$F10)*24,(1-$F10+$E11)*24)<11,"Ruhezeit unter 11 h (§ 5 ArbZG). ",""),""))
A12: 45875 | B12: Mi | C12: =IFERROR(IF(INDEX(Feiertage!$D$6:$S$24,MATCH($A12,Feiertage!$B$6:$B$24,0),MATCH(Stammdaten!$C$6,Feiertage!$D$5:$S$5,0))="x",INDEX(Feiertage!$C$6:$C$24,MATCH($A12,Feiertage!$B$6:$B$24,0)),""),"") | H12: =IF(OR($E12="",$F12=""),"",MOD($F12-$E12,1)*24-$G12/60) | I12: =IF(NOT(OR($D12<>"",ISNUMBER($H12))),"",IF(OR($C12<>"",$D12="Urlaub",$D12="Krank",$D12="Feiertag"),0,IF(WEEKDAY($A12,2)<=Stammdaten!$C$9,Stammdaten!$C$8/Stammdaten!$C$9,0))) | J12: =IF($I12="","",IF(ISNUMBER($H12),$H12,0)-$I12) | K12: =IF(OR($D12="Urlaub",$D12="Krank",$D12="Feiertag",$D12="Frei"),"",IF(AND(ISNUMBER($H12),$H12<0),"Pause länger als die Anwesenheit. ","")&IF(AND(ISNUMBER($H12),$H12>8),"über 8 h (§ 3 ArbZG). ","")&IF(AND(ISNUMBER($H12),$H12>9),IF($G12<45,"Pause unter 45 min (§ 4 ArbZG). ",""),IF(AND(ISNUMBER($H12),$H12>6),IF($G12<30,"Pause unter 30 min (§ 4 ArbZG). ",""),""))&IF(AND(ISNUMBER($F11),ISNUMBER($E11),ISNUMBER($E12)),IF(IF($F11<$E11,($E12-$F11)*24,(1-$F11+$E12)*24)<11,"Ruhezeit unter 11 h (§ 5 ArbZG). ",""),""))
A13: 45876 | B13: Do | C13: =IFERROR(IF(INDEX(Feiertage!$D$6:$S$24,MATCH($A13,Feiertage!$B$6:$B$24,0),MATCH(Stammdaten!$C$6,Feiertage!$D$5:$S$5,0))="x",INDEX(Feiertage!$C$6:$C$24,MATCH($A13,Feiertage!$B$6:$B$24,0)),""),"") | H13: =IF(OR($E13="",$F13=""),"",MOD($F13-$E13,1)*24-$G13/60) | I13: =IF(NOT(OR($D13<>"",ISNUMBER($H13))),"",IF(OR($C13<>"",$D13="Urlaub",$D13="Krank",$D13="Feiertag"),0,IF(WEEKDAY($A13,2)<=Stammdaten!$C$9,Stammdaten!$C$8/Stammdaten!$C$9,0))) | J13: =IF($I13="","",IF(ISNUMBER($H13),$H13,0)-$I13) | K13: =IF(OR($D13="Urlaub",$D13="Krank",$D13="Feiertag",$D13="Frei"),"",IF(AND(ISNUMBER($H13),$H13<0),"Pause länger als die Anwesenheit. ","")&IF(AND(ISNUMBER($H13),$H13>8),"über 8 h (§ 3 ArbZG). ","")&IF(AND(ISNUMBER($H13),$H13>9),IF($G13<45,"Pause unter 45 min (§ 4 ArbZG). ",""),IF(AND(ISNUMBER($H13),$H13>6),IF($G13<30,"Pause unter 30 min (§ 4 ArbZG). ",""),""))&IF(AND(ISNUMBER($F12),ISNUMBER($E12),ISNUMBER($E13)),IF(IF($F12<$E12,($E13-$F12)*24,(1-$F12+$E13)*24)<11,"Ruhezeit unter 11 h (§ 5 ArbZG). ",""),""))
A14: 45877 | B14: Fr | C14: =IFERROR(IF(INDEX(Feiertage!$D$6:$S$24,MATCH($A14,Feiertage!$B$6:$B$24,0),MATCH(Stammdaten!$C$6,Feiertage!$D$5:$S$5,0))="x",INDEX(Feiertage!$C$6:$C$24,MATCH($A14,Feiertage!$B$6:$B$24,0)),""),"") | H14: =IF(OR($E14="",$F14=""),"",MOD($F14-$E14,1)*24-$G14/60) | I14: =IF(NOT(OR($D14<>"",ISNUMBER($H14))),"",IF(OR($C14<>"",$D14="Urlaub",$D14="Krank",$D14="Feiertag"),0,IF(WEEKDAY($A14,2)<=Stammdaten!$C$9,Stammdaten!$C$8/Stammdaten!$C$9,0))) | J14: =IF($I14="","",IF(ISNUMBER($H14),$H14,0)-$I14) | K14: =IF(OR($D14="Urlaub",$D14="Krank",$D14="Feiertag",$D14="Frei"),"",IF(AND(ISNUMBER($H14),$H14<0),"Pause länger als die Anwesenheit. ","")&IF(AND(ISNUMBER($H14),$H14>8),"über 8 h (§ 3 ArbZG). ","")&IF(AND(ISNUMBER($H14),$H14>9),IF($G14<45,"Pause unter 45 min (§ 4 ArbZG). ",""),IF(AND(ISNUMBER($H14),$H14>6),IF($G14<30,"Pause unter 30 min (§ 4 ArbZG). ",""),""))&IF(AND(ISNUMBER($F13),ISNUMBER($E13),ISNUMBER($E14)),IF(IF($F13<$E13,($E14-$F13)*24,(1-$F13+$E14)*24)<11,"Ruhezeit unter 11 h (§ 5 ArbZG). ",""),""))
A15: 45878 | B15: Sa | C15: =IFERROR(IF(INDEX(Feiertage!$D$6:$S$24,MATCH($A15,Feiertage!$B$6:$B$24,0),MATCH(Stammdaten!$C$6,Feiertage!$D$5:$S$5,0))="x",INDEX(Feiertage!$C$6:$C$24,MATCH($A15,Feiertage!$B$6:$B$24,0)),""),"") | H15: =IF(OR($E15="",$F15=""),"",MOD($F15-$E15,1)*24-$G15/60) | I15: =IF(NOT(OR($D15<>"",ISNUMBER($H15))),"",IF(OR($C15<>"",$D15="Urlaub",$D15="Krank",$D15="Feiertag"),0,IF(WEEKDAY($A15,2)<=Stammdaten!$C$9,Stammdaten!$C$8/Stammdaten!$C$9,0))) | J15: =IF($I15="","",IF(ISNUMBER($H15),$H15,0)-$I15) | K15: =IF(OR($D15="Urlaub",$D15="Krank",$D15="Feiertag",$D15="Frei"),"",IF(AND(ISNUMBER($H15),$H15<0),"Pause länger als die Anwesenheit. ","")&IF(AND(ISNUMBER($H15),$H15>8),"über 8 h (§ 3 ArbZG). ","")&IF(AND(ISNUMBER($H15),$H15>9),IF($G15<45,"Pause unter 45 min (§ 4 ArbZG). ",""),IF(AND(ISNUMBER($H15),$H15>6),IF($G15<30,"Pause unter 30 min (§ 4 ArbZG). ",""),""))&IF(AND(ISNUMBER($F14),ISNUMBER($E14),ISNUMBER($E15)),IF(IF($F14<$E14,($E15-$F14)*24,(1-$F14+$E15)*24)<11,"Ruhezeit unter 11 h (§ 5 ArbZG). ",""),""))
A16: 45879 | B16: So | C16: =IFERROR(IF(INDEX(Feiertage!$D$6:$S$24,MATCH($A16,Feiertage!$B$6:$B$24,0),MATCH(Stammdaten!$C$6,Feiertage!$D$5:$S$5,0))="x",INDEX(Feiertage!$C$6:$C$24,MATCH($A16,Feiertage!$B$6:$B$24,0)),""),"") | H16: =IF(OR($E16="",$F16=""),"",MOD($F16-$E16,1)*24-$G16/60) | I16: =IF(NOT(OR($D16<>"",ISNUMBER($H16))),"",IF(OR($C16<>"",$D16="Urlaub",$D16="Krank",$D16="Feiertag"),0,IF(WEEKDAY($A16,2)<=Stammdaten!$C$9,Stammdaten!$C$8/Stammdaten!$C$9,0))) | J16: =IF($I16="","",IF(ISNUMBER($H16),$H16,0)-$I16) | K16: =IF(OR($D16="Urlaub",$D16="Krank",$D16="Feiertag",$D16="Frei"),"",IF(AND(ISNUMBER($H16),$H16<0),"Pause länger als die Anwesenheit. ","")&IF(AND(ISNUMBER($H16),$H16>8),"über 8 h (§ 3 ArbZG). ","")&IF(AND(ISNUMBER($H16),$H16>9),IF($G16<45,"Pause unter 45 min (§ 4 ArbZG). ",""),IF(AND(ISNUMBER($H16),$H16>6),IF($G16<30,"Pause unter 30 min (§ 4 ArbZG). ",""),""))&IF(AND(ISNUMBER($F15),ISNUMBER($E15),ISNUMBER($E16)),IF(IF($F15<$E15,($E16-$F15)*24,(1-$F15+$E16)*24)<11,"Ruhezeit unter 11 h (§ 5 ArbZG). ",""),""))
A17: 45880 | B17: Mo | C17: =IFERROR(IF(INDEX(Feiertage!$D$6:$S$24,MATCH($A17,Feiertage!$B$6:$B$24,0),MATCH(Stammdaten!$C$6,Feiertage!$D$5:$S$5,0))="x",INDEX(Feiertage!$C$6:$C$24,MATCH($A17,Feiertage!$B$6:$B$24,0)),""),"") | H17: =IF(OR($E17="",$F17=""),"",MOD($F17-$E17,1)*24-$G17/60) | I17: =IF(NOT(OR($D17<>"",ISNUMBER($H17))),"",IF(OR($C17<>"",$D17="Urlaub",$D17="Krank",$D17="Feiertag"),0,IF(WEEKDAY($A17,2)<=Stammdaten!$C$9,Stammdaten!$C$8/Stammdaten!$C$9,0))) | J17: =IF($I17="","",IF(ISNUMBER($H17),$H17,0)-$I17) | K17: =IF(OR($D17="Urlaub",$D17="Krank",$D17="Feiertag",$D17="Frei"),"",IF(AND(ISNUMBER($H17),$H17<0),"Pause länger als die Anwesenheit. ","")&IF(AND(ISNUMBER($H17),$H17>8),"über 8 h (§ 3 ArbZG). ","")&IF(AND(ISNUMBER($H17),$H17>9),IF($G17<45,"Pause unter 45 min (§ 4 ArbZG). ",""),IF(AND(ISNUMBER($H17),$H17>6),IF($G17<30,"Pause unter 30 min (§ 4 ArbZG). ",""),""))&IF(AND(ISNUMBER($F16),ISNUMBER($E16),ISNUMBER($E17)),IF(IF($F16<$E16,($E17-$F16)*24,(1-$F16+$E17)*24)<11,"Ruhezeit unter 11 h (§ 5 ArbZG). ",""),""))
A18: 45881 | B18: Di | C18: =IFERROR(IF(INDEX(Feiertage!$D$6:$S$24,MATCH($A18,Feiertage!$B$6:$B$24,0),MATCH(Stammdaten!$C$6,Feiertage!$D$5:$S$5,0))="x",INDEX(Feiertage!$C$6:$C$24,MATCH($A18,Feiertage!$B$6:$B$24,0)),""),"") | H18: =IF(OR($E18="",$F18=""),"",MOD($F18-$E18,1)*24-$G18/60) | I18: =IF(NOT(OR($D18<>"",ISNUMBER($H18))),"",IF(OR($C18<>"",$D18="Urlaub",$D18="Krank",$D18="Feiertag"),0,IF(WEEKDAY($A18,2)<=Stammdaten!$C$9,Stammdaten!$C$8/Stammdaten!$C$9,0))) | J18: =IF($I18="","",IF(ISNUMBER($H18),$H18,0)-$I18) | K18: =IF(OR($D18="Urlaub",$D18="Krank",$D18="Feiertag",$D18="Frei"),"",IF(AND(ISNUMBER($H18),$H18<0),"Pause länger als die Anwesenheit. ","")&IF(AND(ISNUMBER($H18),$H18>8),"über 8 h (§ 3 ArbZG). ","")&IF(AND(ISNUMBER($H18),$H18>9),IF($G18<45,"Pause unter 45 min (§ 4 ArbZG). ",""),IF(AND(ISNUMBER($H18),$H18>6),IF($G18<30,"Pause unter 30 min (§ 4 ArbZG). ",""),""))&IF(AND(ISNUMBER($F17),ISNUMBER($E17),ISNUMBER($E18)),IF(IF($F17<$E17,($E18-$F17)*24,(1-$F17+$E18)*24)<11,"Ruhezeit unter 11 h (§ 5 ArbZG). ",""),""))
A19: 45882 | B19: Mi | C19: =IFERROR(IF(INDEX(Feiertage!$D$6:$S$24,MATCH($A19,Feiertage!$B$6:$B$24,0),MATCH(Stammdaten!$C$6,Feiertage!$D$5:$S$5,0))="x",INDEX(Feiertage!$C$6:$C$24,MATCH($A19,Feiertage!$B$6:$B$24,0)),""),"") | H19: =IF(OR($E19="",$F19=""),"",MOD($F19-$E19,1)*24-$G19/60) | I19: =IF(NOT(OR($D19<>"",ISNUMBER($H19))),"",IF(OR($C19<>"",$D19="Urlaub",$D19="Krank",$D19="Feiertag"),0,IF(WEEKDAY($A19,2)<=Stammdaten!$C$9,Stammdaten!$C$8/Stammdaten!$C$9,0))) | J19: =IF($I19="","",IF(ISNUMBER($H19),$H19,0)-$I19) | K19: =IF(OR($D19="Urlaub",$D19="Krank",$D19="Feiertag",$D19="Frei"),"",IF(AND(ISNUMBER($H19),$H19<0),"Pause länger als die Anwesenheit. ","")&IF(AND(ISNUMBER($H19),$H19>8),"über 8 h (§ 3 ArbZG). ","")&IF(AND(ISNUMBER($H19),$H19>9),IF($G19<45,"Pause unter 45 min (§ 4 ArbZG). ",""),IF(AND(ISNUMBER($H19),$H19>6),IF($G19<30,"Pause unter 30 min (§ 4 ArbZG). ",""),""))&IF(AND(ISNUMBER($F18),ISNUMBER($E18),ISNUMBER($E19)),IF(IF($F18<$E18,($E19-$F18)*24,(1-$F18+$E19)*24)<11,"Ruhezeit unter 11 h (§ 5 ArbZG). ",""),""))
... A37: 45900 | B37: So | C37: =IFERROR(IF(INDEX(Feiertage!$D$6:$S$24,MATCH($A37,Feiertage!$B$6:$B$24,0),MATCH(Stammdaten!$C$6,Feiertage!$D$5:$S$5,0))="x",INDEX(Feiertage!$C$6:$C$24,MATCH($A37,Feiertage!$B$6:$B$24,0)),""),"") | H37: =IF(OR($E37="",$F37=""),"",MOD($F37-$E37,1)*24-$G37/60) | I37: =IF(NOT(OR($D37<>"",ISNUMBER($H37))),"",IF(OR($C37<>"",$D37="Urlaub",$D37="Krank",$D37="Feiertag"),0,IF(WEEKDAY($A37,2)<=Stammdaten!$C$9,Stammdaten!$C$8/Stammdaten!$C$9,0))) | J37: =IF($I37="","",IF(ISNUMBER($H37),$H37,0)-$I37) | K37: =IF(OR($D37="Urlaub",$D37="Krank",$D37="Feiertag",$D37="Frei"),"",IF(AND(ISNUMBER($H37),$H37<0),"Pause länger als die Anwesenheit. ","")&IF(AND(ISNUMBER($H37),$H37>8),"über 8 h (§ 3 ArbZG). ","")&IF(AND(ISNUMBER($H37),$H37>9),IF($G37<45,"Pause unter 45 min (§ 4 ArbZG). ",""),IF(AND(ISNUMBER($H37),$H37>6),IF($G37<30,"Pause unter 30 min (§ 4 ArbZG). ",""),""))&IF(AND(ISNUMBER($F36),ISNUMBER($E36),ISNUMBER($E37)),IF(IF($F36<$E36,($E37-$F36)*24,(1-$F36+$E37)*24)<11,"Ruhezeit unter 11 h (§ 5 ArbZG). ",""),""))
A38: Summe | G38: =SUM($G$7:$G$37) | H38: =SUM($H$7:$H$37) | I38: =SUM($I$7:$I$37) | J38: =SUM($J$7:$J$37)
A39: Überstundenkonto am Monatsende | J39: =Auswertung!$H$13

Sheet September
A2: Arbeitszeitnachweis September 2025
A3: Betrieb | B3: =Stammdaten!$C$4
A4: Person | B4: =Stammdaten!$C$5
A6: Datum | B6: Tag | C6: Feiertag | D6: Art | E6: Beginn | F6: Ende | G6: Pause (min) | H6: Dauer (h) | I6: Soll (h) | J6: Saldo (h) | K6: Hinweis | L6: Bemerkung
A7: 45901 | B7: Mo | C7: =IFERROR(IF(INDEX(Feiertage!$D$6:$S$24,MATCH($A7,Feiertage!$B$6:$B$24,0),MATCH(Stammdaten!$C$6,Feiertage!$D$5:$S$5,0))="x",INDEX(Feiertage!$C$6:$C$24,MATCH($A7,Feiertage!$B$6:$B$24,0)),""),"") | H7: =IF(OR($E7="",$F7=""),"",MOD($F7-$E7,1)*24-$G7/60) | I7: =IF(NOT(OR($D7<>"",ISNUMBER($H7))),"",IF(OR($C7<>"",$D7="Urlaub",$D7="Krank",$D7="Feiertag"),0,IF(WEEKDAY($A7,2)<=Stammdaten!$C$9,Stammdaten!$C$8/Stammdaten!$C$9,0))) | J7: =IF($I7="","",IF(ISNUMBER($H7),$H7,0)-$I7) | K7: =IF(OR($D7="Urlaub",$D7="Krank",$D7="Feiertag",$D7="Frei"),"",IF(AND(ISNUMBER($H7),$H7<0),"Pause länger als die Anwesenheit. ","")&IF(AND(ISNUMBER($H7),$H7>8),"über 8 h (§ 3 ArbZG). ","")&IF(AND(ISNUMBER($H7),$H7>9),IF($G7<45,"Pause unter 45 min (§ 4 ArbZG). ",""),IF(AND(ISNUMBER($H7),$H7>6),IF($G7<30,"Pause unter 30 min (§ 4 ArbZG). ",""),"")))
A8: 45902 | B8: Di | C8: =IFERROR(IF(INDEX(Feiertage!$D$6:$S$24,MATCH($A8,Feiertage!$B$6:$B$24,0),MATCH(Stammdaten!$C$6,Feiertage!$D$5:$S$5,0))="x",INDEX(Feiertage!$C$6:$C$24,MATCH($A8,Feiertage!$B$6:$B$24,0)),""),"") | H8: =IF(OR($E8="",$F8=""),"",MOD($F8-$E8,1)*24-$G8/60) | I8: =IF(NOT(OR($D8<>"",ISNUMBER($H8))),"",IF(OR($C8<>"",$D8="Urlaub",$D8="Krank",$D8="Feiertag"),0,IF(WEEKDAY($A8,2)<=Stammdaten!$C$9,Stammdaten!$C$8/Stammdaten!$C$9,0))) | J8: =IF($I8="","",IF(ISNUMBER($H8),$H8,0)-$I8) | K8: =IF(OR($D8="Urlaub",$D8="Krank",$D8="Feiertag",$D8="Frei"),"",IF(AND(ISNUMBER($H8),$H8<0),"Pause länger als die Anwesenheit. ","")&IF(AND(ISNUMBER($H8),$H8>8),"über 8 h (§ 3 ArbZG). ","")&IF(AND(ISNUMBER($H8),$H8>9),IF($G8<45,"Pause unter 45 min (§ 4 ArbZG). ",""),IF(AND(ISNUMBER($H8),$H8>6),IF($G8<30,"Pause unter 30 min (§ 4 ArbZG). ",""),""))&IF(AND(ISNUMBER($F7),ISNUMBER($E7),ISNUMBER($E8)),IF(IF($F7<$E7,($E8-$F7)*24,(1-$F7+$E8)*24)<11,"Ruhezeit unter 11 h (§ 5 ArbZG). ",""),""))
A9: 45903 | B9: Mi | C9: =IFERROR(IF(INDEX(Feiertage!$D$6:$S$24,MATCH($A9,Feiertage!$B$6:$B$24,0),MATCH(Stammdaten!$C$6,Feiertage!$D$5:$S$5,0))="x",INDEX(Feiertage!$C$6:$C$24,MATCH($A9,Feiertage!$B$6:$B$24,0)),""),"") | H9: =IF(OR($E9="",$F9=""),"",MOD($F9-$E9,1)*24-$G9/60) | I9: =IF(NOT(OR($D9<>"",ISNUMBER($H9))),"",IF(OR($C9<>"",$D9="Urlaub",$D9="Krank",$D9="Feiertag"),0,IF(WEEKDAY($A9,2)<=Stammdaten!$C$9,Stammdaten!$C$8/Stammdaten!$C$9,0))) | J9: =IF($I9="","",IF(ISNUMBER($H9),$H9,0)-$I9) | K9: =IF(OR($D9="Urlaub",$D9="Krank",$D9="Feiertag",$D9="Frei"),"",IF(AND(ISNUMBER($H9),$H9<0),"Pause länger als die Anwesenheit. ","")&IF(AND(ISNUMBER($H9),$H9>8),"über 8 h (§ 3 ArbZG). ","")&IF(AND(ISNUMBER($H9),$H9>9),IF($G9<45,"Pause unter 45 min (§ 4 ArbZG). ",""),IF(AND(ISNUMBER($H9),$H9>6),IF($G9<30,"Pause unter 30 min (§ 4 ArbZG). ",""),""))&IF(AND(ISNUMBER($F8),ISNUMBER($E8),ISNUMBER($E9)),IF(IF($F8<$E8,($E9-$F8)*24,(1-$F8+$E9)*24)<11,"Ruhezeit unter 11 h (§ 5 ArbZG). ",""),""))
A10: 45904 | B10: Do | C10: =IFERROR(IF(INDEX(Feiertage!$D$6:$S$24,MATCH($A10,Feiertage!$B$6:$B$24,0),MATCH(Stammdaten!$C$6,Feiertage!$D$5:$S$5,0))="x",INDEX(Feiertage!$C$6:$C$24,MATCH($A10,Feiertage!$B$6:$B$24,0)),""),"") | H10: =IF(OR($E10="",$F10=""),"",MOD($F10-$E10,1)*24-$G10/60) | I10: =IF(NOT(OR($D10<>"",ISNUMBER($H10))),"",IF(OR($C10<>"",$D10="Urlaub",$D10="Krank",$D10="Feiertag"),0,IF(WEEKDAY($A10,2)<=Stammdaten!$C$9,Stammdaten!$C$8/Stammdaten!$C$9,0))) | J10: =IF($I10="","",IF(ISNUMBER($H10),$H10,0)-$I10) | K10: =IF(OR($D10="Urlaub",$D10="Krank",$D10="Feiertag",$D10="Frei"),"",IF(AND(ISNUMBER($H10),$H10<0),"Pause länger als die Anwesenheit. ","")&IF(AND(ISNUMBER($H10),$H10>8),"über 8 h (§ 3 ArbZG). ","")&IF(AND(ISNUMBER($H10),$H10>9),IF($G10<45,"Pause unter 45 min (§ 4 ArbZG). ",""),IF(AND(ISNUMBER($H10),$H10>6),IF($G10<30,"Pause unter 30 min (§ 4 ArbZG). ",""),""))&IF(AND(ISNUMBER($F9),ISNUMBER($E9),ISNUMBER($E10)),IF(IF($F9<$E9,($E10-$F9)*24,(1-$F9+$E10)*24)<11,"Ruhezeit unter 11 h (§ 5 ArbZG). ",""),""))
A11: 45905 | B11: Fr | C11: =IFERROR(IF(INDEX(Feiertage!$D$6:$S$24,MATCH($A11,Feiertage!$B$6:$B$24,0),MATCH(Stammdaten!$C$6,Feiertage!$D$5:$S$5,0))="x",INDEX(Feiertage!$C$6:$C$24,MATCH($A11,Feiertage!$B$6:$B$24,0)),""),"") | H11: =IF(OR($E11="",$F11=""),"",MOD($F11-$E11,1)*24-$G11/60) | I11: =IF(NOT(OR($D11<>"",ISNUMBER($H11))),"",IF(OR($C11<>"",$D11="Urlaub",$D11="Krank",$D11="Feiertag"),0,IF(WEEKDAY($A11,2)<=Stammdaten!$C$9,Stammdaten!$C$8/Stammdaten!$C$9,0))) | J11: =IF($I11="","",IF(ISNUMBER($H11),$H11,0)-$I11) | K11: =IF(OR($D11="Urlaub",$D11="Krank",$D11="Feiertag",$D11="Frei"),"",IF(AND(ISNUMBER($H11),$H11<0),"Pause länger als die Anwesenheit. ","")&IF(AND(ISNUMBER($H11),$H11>8),"über 8 h (§ 3 ArbZG). ","")&IF(AND(ISNUMBER($H11),$H11>9),IF($G11<45,"Pause unter 45 min (§ 4 ArbZG). ",""),IF(AND(ISNUMBER($H11),$H11>6),IF($G11<30,"Pause unter 30 min (§ 4 ArbZG). ",""),""))&IF(AND(ISNUMBER($F10),ISNUMBER($E10),ISNUMBER($E11)),IF(IF($F10<$E10,($E11-$F10)*24,(1-$F10+$E11)*24)<11,"Ruhezeit unter 11 h (§ 5 ArbZG). ",""),""))
A12: 45906 | B12: Sa | C12: =IFERROR(IF(INDEX(Feiertage!$D$6:$S$24,MATCH($A12,Feiertage!$B$6:$B$24,0),MATCH(Stammdaten!$C$6,Feiertage!$D$5:$S$5,0))="x",INDEX(Feiertage!$C$6:$C$24,MATCH($A12,Feiertage!$B$6:$B$24,0)),""),"") | H12: =IF(OR($E12="",$F12=""),"",MOD($F12-$E12,1)*24-$G12/60) | I12: =IF(NOT(OR($D12<>"",ISNUMBER($H12))),"",IF(OR($C12<>"",$D12="Urlaub",$D12="Krank",$D12="Feiertag"),0,IF(WEEKDAY($A12,2)<=Stammdaten!$C$9,Stammdaten!$C$8/Stammdaten!$C$9,0))) | J12: =IF($I12="","",IF(ISNUMBER($H12),$H12,0)-$I12) | K12: =IF(OR($D12="Urlaub",$D12="Krank",$D12="Feiertag",$D12="Frei"),"",IF(AND(ISNUMBER($H12),$H12<0),"Pause länger als die Anwesenheit. ","")&IF(AND(ISNUMBER($H12),$H12>8),"über 8 h (§ 3 ArbZG). ","")&IF(AND(ISNUMBER($H12),$H12>9),IF($G12<45,"Pause unter 45 min (§ 4 ArbZG). ",""),IF(AND(ISNUMBER($H12),$H12>6),IF($G12<30,"Pause unter 30 min (§ 4 ArbZG). ",""),""))&IF(AND(ISNUMBER($F11),ISNUMBER($E11),ISNUMBER($E12)),IF(IF($F11<$E11,($E12-$F11)*24,(1-$F11+$E12)*24)<11,"Ruhezeit unter 11 h (§ 5 ArbZG). ",""),""))
A13: 45907 | B13: So | C13: =IFERROR(IF(INDEX(Feiertage!$D$6:$S$24,MATCH($A13,Feiertage!$B$6:$B$24,0),MATCH(Stammdaten!$C$6,Feiertage!$D$5:$S$5,0))="x",INDEX(Feiertage!$C$6:$C$24,MATCH($A13,Feiertage!$B$6:$B$24,0)),""),"") | H13: =IF(OR($E13="",$F13=""),"",MOD($F13-$E13,1)*24-$G13/60) | I13: =IF(NOT(OR($D13<>"",ISNUMBER($H13))),"",IF(OR($C13<>"",$D13="Urlaub",$D13="Krank",$D13="Feiertag"),0,IF(WEEKDAY($A13,2)<=Stammdaten!$C$9,Stammdaten!$C$8/Stammdaten!$C$9,0))) | J13: =IF($I13="","",IF(ISNUMBER($H13),$H13,0)-$I13) | K13: =IF(OR($D13="Urlaub",$D13="Krank",$D13="Feiertag",$D13="Frei"),"",IF(AND(ISNUMBER($H13),$H13<0),"Pause länger als die Anwesenheit. ","")&IF(AND(ISNUMBER($H13),$H13>8),"über 8 h (§ 3 ArbZG). ","")&IF(AND(ISNUMBER($H13),$H13>9),IF($G13<45,"Pause unter 45 min (§ 4 ArbZG). ",""),IF(AND(ISNUMBER($H13),$H13>6),IF($G13<30,"Pause unter 30 min (§ 4 ArbZG). ",""),""))&IF(AND(ISNUMBER($F12),ISNUMBER($E12),ISNUMBER($E13)),IF(IF($F12<$E12,($E13-$F12)*24,(1-$F12+$E13)*24)<11,"Ruhezeit unter 11 h (§ 5 ArbZG). ",""),""))
A14: 45908 | B14: Mo | C14: =IFERROR(IF(INDEX(Feiertage!$D$6:$S$24,MATCH($A14,Feiertage!$B$6:$B$24,0),MATCH(Stammdaten!$C$6,Feiertage!$D$5:$S$5,0))="x",INDEX(Feiertage!$C$6:$C$24,MATCH($A14,Feiertage!$B$6:$B$24,0)),""),"") | H14: =IF(OR($E14="",$F14=""),"",MOD($F14-$E14,1)*24-$G14/60) | I14: =IF(NOT(OR($D14<>"",ISNUMBER($H14))),"",IF(OR($C14<>"",$D14="Urlaub",$D14="Krank",$D14="Feiertag"),0,IF(WEEKDAY($A14,2)<=Stammdaten!$C$9,Stammdaten!$C$8/Stammdaten!$C$9,0))) | J14: =IF($I14="","",IF(ISNUMBER($H14),$H14,0)-$I14) | K14: =IF(OR($D14="Urlaub",$D14="Krank",$D14="Feiertag",$D14="Frei"),"",IF(AND(ISNUMBER($H14),$H14<0),"Pause länger als die Anwesenheit. ","")&IF(AND(ISNUMBER($H14),$H14>8),"über 8 h (§ 3 ArbZG). ","")&IF(AND(ISNUMBER($H14),$H14>9),IF($G14<45,"Pause unter 45 min (§ 4 ArbZG). ",""),IF(AND(ISNUMBER($H14),$H14>6),IF($G14<30,"Pause unter 30 min (§ 4 ArbZG). ",""),""))&IF(AND(ISNUMBER($F13),ISNUMBER($E13),ISNUMBER($E14)),IF(IF($F13<$E13,($E14-$F13)*24,(1-$F13+$E14)*24)<11,"Ruhezeit unter 11 h (§ 5 ArbZG). ",""),""))
A15: 45909 | B15: Di | C15: =IFERROR(IF(INDEX(Feiertage!$D$6:$S$24,MATCH($A15,Feiertage!$B$6:$B$24,0),MATCH(Stammdaten!$C$6,Feiertage!$D$5:$S$5,0))="x",INDEX(Feiertage!$C$6:$C$24,MATCH($A15,Feiertage!$B$6:$B$24,0)),""),"") | H15: =IF(OR($E15="",$F15=""),"",MOD($F15-$E15,1)*24-$G15/60) | I15: =IF(NOT(OR($D15<>"",ISNUMBER($H15))),"",IF(OR($C15<>"",$D15="Urlaub",$D15="Krank",$D15="Feiertag"),0,IF(WEEKDAY($A15,2)<=Stammdaten!$C$9,Stammdaten!$C$8/Stammdaten!$C$9,0))) | J15: =IF($I15="","",IF(ISNUMBER($H15),$H15,0)-$I15) | K15: =IF(OR($D15="Urlaub",$D15="Krank",$D15="Feiertag",$D15="Frei"),"",IF(AND(ISNUMBER($H15),$H15<0),"Pause länger als die Anwesenheit. ","")&IF(AND(ISNUMBER($H15),$H15>8),"über 8 h (§ 3 ArbZG). ","")&IF(AND(ISNUMBER($H15),$H15>9),IF($G15<45,"Pause unter 45 min (§ 4 ArbZG). ",""),IF(AND(ISNUMBER($H15),$H15>6),IF($G15<30,"Pause unter 30 min (§ 4 ArbZG). ",""),""))&IF(AND(ISNUMBER($F14),ISNUMBER($E14),ISNUMBER($E15)),IF(IF($F14<$E14,($E15-$F14)*24,(1-$F14+$E15)*24)<11,"Ruhezeit unter 11 h (§ 5 ArbZG). ",""),""))
A16: 45910 | B16: Mi | C16: =IFERROR(IF(INDEX(Feiertage!$D$6:$S$24,MATCH($A16,Feiertage!$B$6:$B$24,0),MATCH(Stammdaten!$C$6,Feiertage!$D$5:$S$5,0))="x",INDEX(Feiertage!$C$6:$C$24,MATCH($A16,Feiertage!$B$6:$B$24,0)),""),"") | H16: =IF(OR($E16="",$F16=""),"",MOD($F16-$E16,1)*24-$G16/60) | I16: =IF(NOT(OR($D16<>"",ISNUMBER($H16))),"",IF(OR($C16<>"",$D16="Urlaub",$D16="Krank",$D16="Feiertag"),0,IF(WEEKDAY($A16,2)<=Stammdaten!$C$9,Stammdaten!$C$8/Stammdaten!$C$9,0))) | J16: =IF($I16="","",IF(ISNUMBER($H16),$H16,0)-$I16) | K16: =IF(OR($D16="Urlaub",$D16="Krank",$D16="Feiertag",$D16="Frei"),"",IF(AND(ISNUMBER($H16),$H16<0),"Pause länger als die Anwesenheit. ","")&IF(AND(ISNUMBER($H16),$H16>8),"über 8 h (§ 3 ArbZG). ","")&IF(AND(ISNUMBER($H16),$H16>9),IF($G16<45,"Pause unter 45 min (§ 4 ArbZG). ",""),IF(AND(ISNUMBER($H16),$H16>6),IF($G16<30,"Pause unter 30 min (§ 4 ArbZG). ",""),""))&IF(AND(ISNUMBER($F15),ISNUMBER($E15),ISNUMBER($E16)),IF(IF($F15<$E15,($E16-$F15)*24,(1-$F15+$E16)*24)<11,"Ruhezeit unter 11 h (§ 5 ArbZG). ",""),""))
A17: 45911 | B17: Do | C17: =IFERROR(IF(INDEX(Feiertage!$D$6:$S$24,MATCH($A17,Feiertage!$B$6:$B$24,0),MATCH(Stammdaten!$C$6,Feiertage!$D$5:$S$5,0))="x",INDEX(Feiertage!$C$6:$C$24,MATCH($A17,Feiertage!$B$6:$B$24,0)),""),"") | H17: =IF(OR($E17="",$F17=""),"",MOD($F17-$E17,1)*24-$G17/60) | I17: =IF(NOT(OR($D17<>"",ISNUMBER($H17))),"",IF(OR($C17<>"",$D17="Urlaub",$D17="Krank",$D17="Feiertag"),0,IF(WEEKDAY($A17,2)<=Stammdaten!$C$9,Stammdaten!$C$8/Stammdaten!$C$9,0))) | J17: =IF($I17="","",IF(ISNUMBER($H17),$H17,0)-$I17) | K17: =IF(OR($D17="Urlaub",$D17="Krank",$D17="Feiertag",$D17="Frei"),"",IF(AND(ISNUMBER($H17),$H17<0),"Pause länger als die Anwesenheit. ","")&IF(AND(ISNUMBER($H17),$H17>8),"über 8 h (§ 3 ArbZG). ","")&IF(AND(ISNUMBER($H17),$H17>9),IF($G17<45,"Pause unter 45 min (§ 4 ArbZG). ",""),IF(AND(ISNUMBER($H17),$H17>6),IF($G17<30,"Pause unter 30 min (§ 4 ArbZG). ",""),""))&IF(AND(ISNUMBER($F16),ISNUMBER($E16),ISNUMBER($E17)),IF(IF($F16<$E16,($E17-$F16)*24,(1-$F16+$E17)*24)<11,"Ruhezeit unter 11 h (§ 5 ArbZG). ",""),""))
A18: 45912 | B18: Fr | C18: =IFERROR(IF(INDEX(Feiertage!$D$6:$S$24,MATCH($A18,Feiertage!$B$6:$B$24,0),MATCH(Stammdaten!$C$6,Feiertage!$D$5:$S$5,0))="x",INDEX(Feiertage!$C$6:$C$24,MATCH($A18,Feiertage!$B$6:$B$24,0)),""),"") | H18: =IF(OR($E18="",$F18=""),"",MOD($F18-$E18,1)*24-$G18/60) | I18: =IF(NOT(OR($D18<>"",ISNUMBER($H18))),"",IF(OR($C18<>"",$D18="Urlaub",$D18="Krank",$D18="Feiertag"),0,IF(WEEKDAY($A18,2)<=Stammdaten!$C$9,Stammdaten!$C$8/Stammdaten!$C$9,0))) | J18: =IF($I18="","",IF(ISNUMBER($H18),$H18,0)-$I18) | K18: =IF(OR($D18="Urlaub",$D18="Krank",$D18="Feiertag",$D18="Frei"),"",IF(AND(ISNUMBER($H18),$H18<0),"Pause länger als die Anwesenheit. ","")&IF(AND(ISNUMBER($H18),$H18>8),"über 8 h (§ 3 ArbZG). ","")&IF(AND(ISNUMBER($H18),$H18>9),IF($G18<45,"Pause unter 45 min (§ 4 ArbZG). ",""),IF(AND(ISNUMBER($H18),$H18>6),IF($G18<30,"Pause unter 30 min (§ 4 ArbZG). ",""),""))&IF(AND(ISNUMBER($F17),ISNUMBER($E17),ISNUMBER($E18)),IF(IF($F17<$E17,($E18-$F17)*24,(1-$F17+$E18)*24)<11,"Ruhezeit unter 11 h (§ 5 ArbZG). ",""),""))
A19: 45913 | B19: Sa | C19: =IFERROR(IF(INDEX(Feiertage!$D$6:$S$24,MATCH($A19,Feiertage!$B$6:$B$24,0),MATCH(Stammdaten!$C$6,Feiertage!$D$5:$S$5,0))="x",INDEX(Feiertage!$C$6:$C$24,MATCH($A19,Feiertage!$B$6:$B$24,0)),""),"") | H19: =IF(OR($E19="",$F19=""),"",MOD($F19-$E19,1)*24-$G19/60) | I19: =IF(NOT(OR($D19<>"",ISNUMBER($H19))),"",IF(OR($C19<>"",$D19="Urlaub",$D19="Krank",$D19="Feiertag"),0,IF(WEEKDAY($A19,2)<=Stammdaten!$C$9,Stammdaten!$C$8/Stammdaten!$C$9,0))) | J19: =IF($I19="","",IF(ISNUMBER($H19),$H19,0)-$I19) | K19: =IF(OR($D19="Urlaub",$D19="Krank",$D19="Feiertag",$D19="Frei"),"",IF(AND(ISNUMBER($H19),$H19<0),"Pause länger als die Anwesenheit. ","")&IF(AND(ISNUMBER($H19),$H19>8),"über 8 h (§ 3 ArbZG). ","")&IF(AND(ISNUMBER($H19),$H19>9),IF($G19<45,"Pause unter 45 min (§ 4 ArbZG). ",""),IF(AND(ISNUMBER($H19),$H19>6),IF($G19<30,"Pause unter 30 min (§ 4 ArbZG). ",""),""))&IF(AND(ISNUMBER($F18),ISNUMBER($E18),ISNUMBER($E19)),IF(IF($F18<$E18,($E19-$F18)*24,(1-$F18+$E19)*24)<11,"Ruhezeit unter 11 h (§ 5 ArbZG). ",""),""))
... A36: 45930 | B36: Di | C36: =IFERROR(IF(INDEX(Feiertage!$D$6:$S$24,MATCH($A36,Feiertage!$B$6:$B$24,0),MATCH(Stammdaten!$C$6,Feiertage!$D$5:$S$5,0))="x",INDEX(Feiertage!$C$6:$C$24,MATCH($A36,Feiertage!$B$6:$B$24,0)),""),"") | H36: =IF(OR($E36="",$F36=""),"",MOD($F36-$E36,1)*24-$G36/60) | I36: =IF(NOT(OR($D36<>"",ISNUMBER($H36))),"",IF(OR($C36<>"",$D36="Urlaub",$D36="Krank",$D36="Feiertag"),0,IF(WEEKDAY($A36,2)<=Stammdaten!$C$9,Stammdaten!$C$8/Stammdaten!$C$9,0))) | J36: =IF($I36="","",IF(ISNUMBER($H36),$H36,0)-$I36) | K36: =IF(OR($D36="Urlaub",$D36="Krank",$D36="Feiertag",$D36="Frei"),"",IF(AND(ISNUMBER($H36),$H36<0),"Pause länger als die Anwesenheit. ","")&IF(AND(ISNUMBER($H36),$H36>8),"über 8 h (§ 3 ArbZG). ","")&IF(AND(ISNUMBER($H36),$H36>9),IF($G36<45,"Pause unter 45 min (§ 4 ArbZG). ",""),IF(AND(ISNUMBER($H36),$H36>6),IF($G36<30,"Pause unter 30 min (§ 4 ArbZG). ",""),""))&IF(AND(ISNUMBER($F35),ISNUMBER($E35),ISNUMBER($E36)),IF(IF($F35<$E35,($E36-$F35)*24,(1-$F35+$E36)*24)<11,"Ruhezeit unter 11 h (§ 5 ArbZG). ",""),""))
A37: Summe | G37: =SUM($G$7:$G$36) | H37: =SUM($H$7:$H$36) | I37: =SUM($I$7:$I$36) | J37: =SUM($J$7:$J$36)
A38: Überstundenkonto am Monatsende | J38: =Auswertung!$H$14

Sheet Oktober
A2: Arbeitszeitnachweis Oktober 2025
A3: Betrieb | B3: =Stammdaten!$C$4
A4: Person | B4: =Stammdaten!$C$5
A6: Datum | B6: Tag | C6: Feiertag | D6: Art | E6: Beginn | F6: Ende | G6: Pause (min) | H6: Dauer (h) | I6: Soll (h) | J6: Saldo (h) | K6: Hinweis | L6: Bemerkung
A7: 45931 | B7: Mi | C7: =IFERROR(IF(INDEX(Feiertage!$D$6:$S$24,MATCH($A7,Feiertage!$B$6:$B$24,0),MATCH(Stammdaten!$C$6,Feiertage!$D$5:$S$5,0))="x",INDEX(Feiertage!$C$6:$C$24,MATCH($A7,Feiertage!$B$6:$B$24,0)),""),"") | H7: =IF(OR($E7="",$F7=""),"",MOD($F7-$E7,1)*24-$G7/60) | I7: =IF(NOT(OR($D7<>"",ISNUMBER($H7))),"",IF(OR($C7<>"",$D7="Urlaub",$D7="Krank",$D7="Feiertag"),0,IF(WEEKDAY($A7,2)<=Stammdaten!$C$9,Stammdaten!$C$8/Stammdaten!$C$9,0))) | J7: =IF($I7="","",IF(ISNUMBER($H7),$H7,0)-$I7) | K7: =IF(OR($D7="Urlaub",$D7="Krank",$D7="Feiertag",$D7="Frei"),"",IF(AND(ISNUMBER($H7),$H7<0),"Pause länger als die Anwesenheit. ","")&IF(AND(ISNUMBER($H7),$H7>8),"über 8 h (§ 3 ArbZG). ","")&IF(AND(ISNUMBER($H7),$H7>9),IF($G7<45,"Pause unter 45 min (§ 4 ArbZG). ",""),IF(AND(ISNUMBER($H7),$H7>6),IF($G7<30,"Pause unter 30 min (§ 4 ArbZG). ",""),"")))
A8: 45932 | B8: Do | C8: =IFERROR(IF(INDEX(Feiertage!$D$6:$S$24,MATCH($A8,Feiertage!$B$6:$B$24,0),MATCH(Stammdaten!$C$6,Feiertage!$D$5:$S$5,0))="x",INDEX(Feiertage!$C$6:$C$24,MATCH($A8,Feiertage!$B$6:$B$24,0)),""),"") | H8: =IF(OR($E8="",$F8=""),"",MOD($F8-$E8,1)*24-$G8/60) | I8: =IF(NOT(OR($D8<>"",ISNUMBER($H8))),"",IF(OR($C8<>"",$D8="Urlaub",$D8="Krank",$D8="Feiertag"),0,IF(WEEKDAY($A8,2)<=Stammdaten!$C$9,Stammdaten!$C$8/Stammdaten!$C$9,0))) | J8: =IF($I8="","",IF(ISNUMBER($H8),$H8,0)-$I8) | K8: =IF(OR($D8="Urlaub",$D8="Krank",$D8="Feiertag",$D8="Frei"),"",IF(AND(ISNUMBER($H8),$H8<0),"Pause länger als die Anwesenheit. ","")&IF(AND(ISNUMBER($H8),$H8>8),"über 8 h (§ 3 ArbZG). ","")&IF(AND(ISNUMBER($H8),$H8>9),IF($G8<45,"Pause unter 45 min (§ 4 ArbZG). ",""),IF(AND(ISNUMBER($H8),$H8>6),IF($G8<30,"Pause unter 30 min (§ 4 ArbZG). ",""),""))&IF(AND(ISNUMBER($F7),ISNUMBER($E7),ISNUMBER($E8)),IF(IF($F7<$E7,($E8-$F7)*24,(1-$F7+$E8)*24)<11,"Ruhezeit unter 11 h (§ 5 ArbZG). ",""),""))
A9: 45933 | B9: Fr | C9: =IFERROR(IF(INDEX(Feiertage!$D$6:$S$24,MATCH($A9,Feiertage!$B$6:$B$24,0),MATCH(Stammdaten!$C$6,Feiertage!$D$5:$S$5,0))="x",INDEX(Feiertage!$C$6:$C$24,MATCH($A9,Feiertage!$B$6:$B$24,0)),""),"") | H9: =IF(OR($E9="",$F9=""),"",MOD($F9-$E9,1)*24-$G9/60) | I9: =IF(NOT(OR($D9<>"",ISNUMBER($H9))),"",IF(OR($C9<>"",$D9="Urlaub",$D9="Krank",$D9="Feiertag"),0,IF(WEEKDAY($A9,2)<=Stammdaten!$C$9,Stammdaten!$C$8/Stammdaten!$C$9,0))) | J9: =IF($I9="","",IF(ISNUMBER($H9),$H9,0)-$I9) | K9: =IF(OR($D9="Urlaub",$D9="Krank",$D9="Feiertag",$D9="Frei"),"",IF(AND(ISNUMBER($H9),$H9<0),"Pause länger als die Anwesenheit. ","")&IF(AND(ISNUMBER($H9),$H9>8),"über 8 h (§ 3 ArbZG). ","")&IF(AND(ISNUMBER($H9),$H9>9),IF($G9<45,"Pause unter 45 min (§ 4 ArbZG). ",""),IF(AND(ISNUMBER($H9),$H9>6),IF($G9<30,"Pause unter 30 min (§ 4 ArbZG). ",""),""))&IF(AND(ISNUMBER($F8),ISNUMBER($E8),ISNUMBER($E9)),IF(IF($F8<$E8,($E9-$F8)*24,(1-$F8+$E9)*24)<11,"Ruhezeit unter 11 h (§ 5 ArbZG). ",""),""))
A10: 45934 | B10: Sa | C10: =IFERROR(IF(INDEX(Feiertage!$D$6:$S$24,MATCH($A10,Feiertage!$B$6:$B$24,0),MATCH(Stammdaten!$C$6,Feiertage!$D$5:$S$5,0))="x",INDEX(Feiertage!$C$6:$C$24,MATCH($A10,Feiertage!$B$6:$B$24,0)),""),"") | H10: =IF(OR($E10="",$F10=""),"",MOD($F10-$E10,1)*24-$G10/60) | I10: =IF(NOT(OR($D10<>"",ISNUMBER($H10))),"",IF(OR($C10<>"",$D10="Urlaub",$D10="Krank",$D10="Feiertag"),0,IF(WEEKDAY($A10,2)<=Stammdaten!$C$9,Stammdaten!$C$8/Stammdaten!$C$9,0))) | J10: =IF($I10="","",IF(ISNUMBER($H10),$H10,0)-$I10) | K10: =IF(OR($D10="Urlaub",$D10="Krank",$D10="Feiertag",$D10="Frei"),"",IF(AND(ISNUMBER($H10),$H10<0),"Pause länger als die Anwesenheit. ","")&IF(AND(ISNUMBER($H10),$H10>8),"über 8 h (§ 3 ArbZG). ","")&IF(AND(ISNUMBER($H10),$H10>9),IF($G10<45,"Pause unter 45 min (§ 4 ArbZG). ",""),IF(AND(ISNUMBER($H10),$H10>6),IF($G10<30,"Pause unter 30 min (§ 4 ArbZG). ",""),""))&IF(AND(ISNUMBER($F9),ISNUMBER($E9),ISNUMBER($E10)),IF(IF($F9<$E9,($E10-$F9)*24,(1-$F9+$E10)*24)<11,"Ruhezeit unter 11 h (§ 5 ArbZG). ",""),""))
A11: 45935 | B11: So | C11: =IFERROR(IF(INDEX(Feiertage!$D$6:$S$24,MATCH($A11,Feiertage!$B$6:$B$24,0),MATCH(Stammdaten!$C$6,Feiertage!$D$5:$S$5,0))="x",INDEX(Feiertage!$C$6:$C$24,MATCH($A11,Feiertage!$B$6:$B$24,0)),""),"") | H11: =IF(OR($E11="",$F11=""),"",MOD($F11-$E11,1)*24-$G11/60) | I11: =IF(NOT(OR($D11<>"",ISNUMBER($H11))),"",IF(OR($C11<>"",$D11="Urlaub",$D11="Krank",$D11="Feiertag"),0,IF(WEEKDAY($A11,2)<=Stammdaten!$C$9,Stammdaten!$C$8/Stammdaten!$C$9,0))) | J11: =IF($I11="","",IF(ISNUMBER($H11),$H11,0)-$I11) | K11: =IF(OR($D11="Urlaub",$D11="Krank",$D11="Feiertag",$D11="Frei"),"",IF(AND(ISNUMBER($H11),$H11<0),"Pause länger als die Anwesenheit. ","")&IF(AND(ISNUMBER($H11),$H11>8),"über 8 h (§ 3 ArbZG). ","")&IF(AND(ISNUMBER($H11),$H11>9),IF($G11<45,"Pause unter 45 min (§ 4 ArbZG). ",""),IF(AND(ISNUMBER($H11),$H11>6),IF($G11<30,"Pause unter 30 min (§ 4 ArbZG). ",""),""))&IF(AND(ISNUMBER($F10),ISNUMBER($E10),ISNUMBER($E11)),IF(IF($F10<$E10,($E11-$F10)*24,(1-$F10+$E11)*24)<11,"Ruhezeit unter 11 h (§ 5 ArbZG). ",""),""))
A12: 45936 | B12: Mo | C12: =IFERROR(IF(INDEX(Feiertage!$D$6:$S$24,MATCH($A12,Feiertage!$B$6:$B$24,0),MATCH(Stammdaten!$C$6,Feiertage!$D$5:$S$5,0))="x",INDEX(Feiertage!$C$6:$C$24,MATCH($A12,Feiertage!$B$6:$B$24,0)),""),"") | H12: =IF(OR($E12="",$F12=""),"",MOD($F12-$E12,1)*24-$G12/60) | I12: =IF(NOT(OR($D12<>"",ISNUMBER($H12))),"",IF(OR($C12<>"",$D12="Urlaub",$D12="Krank",$D12="Feiertag"),0,IF(WEEKDAY($A12,2)<=Stammdaten!$C$9,Stammdaten!$C$8/Stammdaten!$C$9,0))) | J12: =IF($I12="","",IF(ISNUMBER($H12),$H12,0)-$I12) | K12: =IF(OR($D12="Urlaub",$D12="Krank",$D12="Feiertag",$D12="Frei"),"",IF(AND(ISNUMBER($H12),$H12<0),"Pause länger als die Anwesenheit. ","")&IF(AND(ISNUMBER($H12),$H12>8),"über 8 h (§ 3 ArbZG). ","")&IF(AND(ISNUMBER($H12),$H12>9),IF($G12<45,"Pause unter 45 min (§ 4 ArbZG). ",""),IF(AND(ISNUMBER($H12),$H12>6),IF($G12<30,"Pause unter 30 min (§ 4 ArbZG). ",""),""))&IF(AND(ISNUMBER($F11),ISNUMBER($E11),ISNUMBER($E12)),IF(IF($F11<$E11,($E12-$F11)*24,(1-$F11+$E12)*24)<11,"Ruhezeit unter 11 h (§ 5 ArbZG). ",""),""))
A13: 45937 | B13: Di | C13: =IFERROR(IF(INDEX(Feiertage!$D$6:$S$24,MATCH($A13,Feiertage!$B$6:$B$24,0),MATCH(Stammdaten!$C$6,Feiertage!$D$5:$S$5,0))="x",INDEX(Feiertage!$C$6:$C$24,MATCH($A13,Feiertage!$B$6:$B$24,0)),""),"") | H13: =IF(OR($E13="",$F13=""),"",MOD($F13-$E13,1)*24-$G13/60) | I13: =IF(NOT(OR($D13<>"",ISNUMBER($H13))),"",IF(OR($C13<>"",$D13="Urlaub",$D13="Krank",$D13="Feiertag"),0,IF(WEEKDAY($A13,2)<=Stammdaten!$C$9,Stammdaten!$C$8/Stammdaten!$C$9,0))) | J13: =IF($I13="","",IF(ISNUMBER($H13),$H13,0)-$I13) | K13: =IF(OR($D13="Urlaub",$D13="Krank",$D13="Feiertag",$D13="Frei"),"",IF(AND(ISNUMBER($H13),$H13<0),"Pause länger als die Anwesenheit. ","")&IF(AND(ISNUMBER($H13),$H13>8),"über 8 h (§ 3 ArbZG). ","")&IF(AND(ISNUMBER($H13),$H13>9),IF($G13<45,"Pause unter 45 min (§ 4 ArbZG). ",""),IF(AND(ISNUMBER($H13),$H13>6),IF($G13<30,"Pause unter 30 min (§ 4 ArbZG). ",""),""))&IF(AND(ISNUMBER($F12),ISNUMBER($E12),ISNUMBER($E13)),IF(IF($F12<$E12,($E13-$F12)*24,(1-$F12+$E13)*24)<11,"Ruhezeit unter 11 h (§ 5 ArbZG). ",""),""))
A14: 45938 | B14: Mi | C14: =IFERROR(IF(INDEX(Feiertage!$D$6:$S$24,MATCH($A14,Feiertage!$B$6:$B$24,0),MATCH(Stammdaten!$C$6,Feiertage!$D$5:$S$5,0))="x",INDEX(Feiertage!$C$6:$C$24,MATCH($A14,Feiertage!$B$6:$B$24,0)),""),"") | H14: =IF(OR($E14="",$F14=""),"",MOD($F14-$E14,1)*24-$G14/60) | I14: =IF(NOT(OR($D14<>"",ISNUMBER($H14))),"",IF(OR($C14<>"",$D14="Urlaub",$D14="Krank",$D14="Feiertag"),0,IF(WEEKDAY($A14,2)<=Stammdaten!$C$9,Stammdaten!$C$8/Stammdaten!$C$9,0))) | J14: =IF($I14="","",IF(ISNUMBER($H14),$H14,0)-$I14) | K14: =IF(OR($D14="Urlaub",$D14="Krank",$D14="Feiertag",$D14="Frei"),"",IF(AND(ISNUMBER($H14),$H14<0),"Pause länger als die Anwesenheit. ","")&IF(AND(ISNUMBER($H14),$H14>8),"über 8 h (§ 3 ArbZG). ","")&IF(AND(ISNUMBER($H14),$H14>9),IF($G14<45,"Pause unter 45 min (§ 4 ArbZG). ",""),IF(AND(ISNUMBER($H14),$H14>6),IF($G14<30,"Pause unter 30 min (§ 4 ArbZG). ",""),""))&IF(AND(ISNUMBER($F13),ISNUMBER($E13),ISNUMBER($E14)),IF(IF($F13<$E13,($E14-$F13)*24,(1-$F13+$E14)*24)<11,"Ruhezeit unter 11 h (§ 5 ArbZG). ",""),""))
A15: 45939 | B15: Do | C15: =IFERROR(IF(INDEX(Feiertage!$D$6:$S$24,MATCH($A15,Feiertage!$B$6:$B$24,0),MATCH(Stammdaten!$C$6,Feiertage!$D$5:$S$5,0))="x",INDEX(Feiertage!$C$6:$C$24,MATCH($A15,Feiertage!$B$6:$B$24,0)),""),"") | H15: =IF(OR($E15="",$F15=""),"",MOD($F15-$E15,1)*24-$G15/60) | I15: =IF(NOT(OR($D15<>"",ISNUMBER($H15))),"",IF(OR($C15<>"",$D15="Urlaub",$D15="Krank",$D15="Feiertag"),0,IF(WEEKDAY($A15,2)<=Stammdaten!$C$9,Stammdaten!$C$8/Stammdaten!$C$9,0))) | J15: =IF($I15="","",IF(ISNUMBER($H15),$H15,0)-$I15) | K15: =IF(OR($D15="Urlaub",$D15="Krank",$D15="Feiertag",$D15="Frei"),"",IF(AND(ISNUMBER($H15),$H15<0),"Pause länger als die Anwesenheit. ","")&IF(AND(ISNUMBER($H15),$H15>8),"über 8 h (§ 3 ArbZG). ","")&IF(AND(ISNUMBER($H15),$H15>9),IF($G15<45,"Pause unter 45 min (§ 4 ArbZG). ",""),IF(AND(ISNUMBER($H15),$H15>6),IF($G15<30,"Pause unter 30 min (§ 4 ArbZG). ",""),""))&IF(AND(ISNUMBER($F14),ISNUMBER($E14),ISNUMBER($E15)),IF(IF($F14<$E14,($E15-$F14)*24,(1-$F14+$E15)*24)<11,"Ruhezeit unter 11 h (§ 5 ArbZG). ",""),""))
A16: 45940 | B16: Fr | C16: =IFERROR(IF(INDEX(Feiertage!$D$6:$S$24,MATCH($A16,Feiertage!$B$6:$B$24,0),MATCH(Stammdaten!$C$6,Feiertage!$D$5:$S$5,0))="x",INDEX(Feiertage!$C$6:$C$24,MATCH($A16,Feiertage!$B$6:$B$24,0)),""),"") | H16: =IF(OR($E16="",$F16=""),"",MOD($F16-$E16,1)*24-$G16/60) | I16: =IF(NOT(OR($D16<>"",ISNUMBER($H16))),"",IF(OR($C16<>"",$D16="Urlaub",$D16="Krank",$D16="Feiertag"),0,IF(WEEKDAY($A16,2)<=Stammdaten!$C$9,Stammdaten!$C$8/Stammdaten!$C$9,0))) | J16: =IF($I16="","",IF(ISNUMBER($H16),$H16,0)-$I16) | K16: =IF(OR($D16="Urlaub",$D16="Krank",$D16="Feiertag",$D16="Frei"),"",IF(AND(ISNUMBER($H16),$H16<0),"Pause länger als die Anwesenheit. ","")&IF(AND(ISNUMBER($H16),$H16>8),"über 8 h (§ 3 ArbZG). ","")&IF(AND(ISNUMBER($H16),$H16>9),IF($G16<45,"Pause unter 45 min (§ 4 ArbZG). ",""),IF(AND(ISNUMBER($H16),$H16>6),IF($G16<30,"Pause unter 30 min (§ 4 ArbZG). ",""),""))&IF(AND(ISNUMBER($F15),ISNUMBER($E15),ISNUMBER($E16)),IF(IF($F15<$E15,($E16-$F15)*24,(1-$F15+$E16)*24)<11,"Ruhezeit unter 11 h (§ 5 ArbZG). ",""),""))
A17: 45941 | B17: Sa | C17: =IFERROR(IF(INDEX(Feiertage!$D$6:$S$24,MATCH($A17,Feiertage!$B$6:$B$24,0),MATCH(Stammdaten!$C$6,Feiertage!$D$5:$S$5,0))="x",INDEX(Feiertage!$C$6:$C$24,MATCH($A17,Feiertage!$B$6:$B$24,0)),""),"") | H17: =IF(OR($E17="",$F17=""),"",MOD($F17-$E17,1)*24-$G17/60) | I17: =IF(NOT(OR($D17<>"",ISNUMBER($H17))),"",IF(OR($C17<>"",$D17="Urlaub",$D17="Krank",$D17="Feiertag"),0,IF(WEEKDAY($A17,2)<=Stammdaten!$C$9,Stammdaten!$C$8/Stammdaten!$C$9,0))) | J17: =IF($I17="","",IF(ISNUMBER($H17),$H17,0)-$I17) | K17: =IF(OR($D17="Urlaub",$D17="Krank",$D17="Feiertag",$D17="Frei"),"",IF(AND(ISNUMBER($H17),$H17<0),"Pause länger als die Anwesenheit. ","")&IF(AND(ISNUMBER($H17),$H17>8),"über 8 h (§ 3 ArbZG). ","")&IF(AND(ISNUMBER($H17),$H17>9),IF($G17<45,"Pause unter 45 min (§ 4 ArbZG). ",""),IF(AND(ISNUMBER($H17),$H17>6),IF($G17<30,"Pause unter 30 min (§ 4 ArbZG). ",""),""))&IF(AND(ISNUMBER($F16),ISNUMBER($E16),ISNUMBER($E17)),IF(IF($F16<$E16,($E17-$F16)*24,(1-$F16+$E17)*24)<11,"Ruhezeit unter 11 h (§ 5 ArbZG). ",""),""))
A18: 45942 | B18: So | C18: =IFERROR(IF(INDEX(Feiertage!$D$6:$S$24,MATCH($A18,Feiertage!$B$6:$B$24,0),MATCH(Stammdaten!$C$6,Feiertage!$D$5:$S$5,0))="x",INDEX(Feiertage!$C$6:$C$24,MATCH($A18,Feiertage!$B$6:$B$24,0)),""),"") | H18: =IF(OR($E18="",$F18=""),"",MOD($F18-$E18,1)*24-$G18/60) | I18: =IF(NOT(OR($D18<>"",ISNUMBER($H18))),"",IF(OR($C18<>"",$D18="Urlaub",$D18="Krank",$D18="Feiertag"),0,IF(WEEKDAY($A18,2)<=Stammdaten!$C$9,Stammdaten!$C$8/Stammdaten!$C$9,0))) | J18: =IF($I18="","",IF(ISNUMBER($H18),$H18,0)-$I18) | K18: =IF(OR($D18="Urlaub",$D18="Krank",$D18="Feiertag",$D18="Frei"),"",IF(AND(ISNUMBER($H18),$H18<0),"Pause länger als die Anwesenheit. ","")&IF(AND(ISNUMBER($H18),$H18>8),"über 8 h (§ 3 ArbZG). ","")&IF(AND(ISNUMBER($H18),$H18>9),IF($G18<45,"Pause unter 45 min (§ 4 ArbZG). ",""),IF(AND(ISNUMBER($H18),$H18>6),IF($G18<30,"Pause unter 30 min (§ 4 ArbZG). ",""),""))&IF(AND(ISNUMBER($F17),ISNUMBER($E17),ISNUMBER($E18)),IF(IF($F17<$E17,($E18-$F17)*24,(1-$F17+$E18)*24)<11,"Ruhezeit unter 11 h (§ 5 ArbZG). ",""),""))
A19: 45943 | B19: Mo | C19: =IFERROR(IF(INDEX(Feiertage!$D$6:$S$24,MATCH($A19,Feiertage!$B$6:$B$24,0),MATCH(Stammdaten!$C$6,Feiertage!$D$5:$S$5,0))="x",INDEX(Feiertage!$C$6:$C$24,MATCH($A19,Feiertage!$B$6:$B$24,0)),""),"") | H19: =IF(OR($E19="",$F19=""),"",MOD($F19-$E19,1)*24-$G19/60) | I19: =IF(NOT(OR($D19<>"",ISNUMBER($H19))),"",IF(OR($C19<>"",$D19="Urlaub",$D19="Krank",$D19="Feiertag"),0,IF(WEEKDAY($A19,2)<=Stammdaten!$C$9,Stammdaten!$C$8/Stammdaten!$C$9,0))) | J19: =IF($I19="","",IF(ISNUMBER($H19),$H19,0)-$I19) | K19: =IF(OR($D19="Urlaub",$D19="Krank",$D19="Feiertag",$D19="Frei"),"",IF(AND(ISNUMBER($H19),$H19<0),"Pause länger als die Anwesenheit. ","")&IF(AND(ISNUMBER($H19),$H19>8),"über 8 h (§ 3 ArbZG). ","")&IF(AND(ISNUMBER($H19),$H19>9),IF($G19<45,"Pause unter 45 min (§ 4 ArbZG). ",""),IF(AND(ISNUMBER($H19),$H19>6),IF($G19<30,"Pause unter 30 min (§ 4 ArbZG). ",""),""))&IF(AND(ISNUMBER($F18),ISNUMBER($E18),ISNUMBER($E19)),IF(IF($F18<$E18,($E19-$F18)*24,(1-$F18+$E19)*24)<11,"Ruhezeit unter 11 h (§ 5 ArbZG). ",""),""))
... A37: 45961 | B37: Fr | C37: =IFERROR(IF(INDEX(Feiertage!$D$6:$S$24,MATCH($A37,Feiertage!$B$6:$B$24,0),MATCH(Stammdaten!$C$6,Feiertage!$D$5:$S$5,0))="x",INDEX(Feiertage!$C$6:$C$24,MATCH($A37,Feiertage!$B$6:$B$24,0)),""),"") | H37: =IF(OR($E37="",$F37=""),"",MOD($F37-$E37,1)*24-$G37/60) | I37: =IF(NOT(OR($D37<>"",ISNUMBER($H37))),"",IF(OR($C37<>"",$D37="Urlaub",$D37="Krank",$D37="Feiertag"),0,IF(WEEKDAY($A37,2)<=Stammdaten!$C$9,Stammdaten!$C$8/Stammdaten!$C$9,0))) | J37: =IF($I37="","",IF(ISNUMBER($H37),$H37,0)-$I37) | K37: =IF(OR($D37="Urlaub",$D37="Krank",$D37="Feiertag",$D37="Frei"),"",IF(AND(ISNUMBER($H37),$H37<0),"Pause länger als die Anwesenheit. ","")&IF(AND(ISNUMBER($H37),$H37>8),"über 8 h (§ 3 ArbZG). ","")&IF(AND(ISNUMBER($H37),$H37>9),IF($G37<45,"Pause unter 45 min (§ 4 ArbZG). ",""),IF(AND(ISNUMBER($H37),$H37>6),IF($G37<30,"Pause unter 30 min (§ 4 ArbZG). ",""),""))&IF(AND(ISNUMBER($F36),ISNUMBER($E36),ISNUMBER($E37)),IF(IF($F36<$E36,($E37-$F36)*24,(1-$F36+$E37)*24)<11,"Ruhezeit unter 11 h (§ 5 ArbZG). ",""),""))
A38: Summe | G38: =SUM($G$7:$G$37) | H38: =SUM($H$7:$H$37) | I38: =SUM($I$7:$I$37) | J38: =SUM($J$7:$J$37)
A39: Überstundenkonto am Monatsende | J39: =Auswertung!$H$15

Sheet November
A2: Arbeitszeitnachweis November 2025
A3: Betrieb | B3: =Stammdaten!$C$4
A4: Person | B4: =Stammdaten!$C$5
A6: Datum | B6: Tag | C6: Feiertag | D6: Art | E6: Beginn | F6: Ende | G6: Pause (min) | H6: Dauer (h) | I6: Soll (h) | J6: Saldo (h) | K6: Hinweis | L6: Bemerkung
A7: 45962 | B7: Sa | C7: =IFERROR(IF(INDEX(Feiertage!$D$6:$S$24,MATCH($A7,Feiertage!$B$6:$B$24,0),MATCH(Stammdaten!$C$6,Feiertage!$D$5:$S$5,0))="x",INDEX(Feiertage!$C$6:$C$24,MATCH($A7,Feiertage!$B$6:$B$24,0)),""),"") | H7: =IF(OR($E7="",$F7=""),"",MOD($F7-$E7,1)*24-$G7/60) | I7: =IF(NOT(OR($D7<>"",ISNUMBER($H7))),"",IF(OR($C7<>"",$D7="Urlaub",$D7="Krank",$D7="Feiertag"),0,IF(WEEKDAY($A7,2)<=Stammdaten!$C$9,Stammdaten!$C$8/Stammdaten!$C$9,0))) | J7: =IF($I7="","",IF(ISNUMBER($H7),$H7,0)-$I7) | K7: =IF(OR($D7="Urlaub",$D7="Krank",$D7="Feiertag",$D7="Frei"),"",IF(AND(ISNUMBER($H7),$H7<0),"Pause länger als die Anwesenheit. ","")&IF(AND(ISNUMBER($H7),$H7>8),"über 8 h (§ 3 ArbZG). ","")&IF(AND(ISNUMBER($H7),$H7>9),IF($G7<45,"Pause unter 45 min (§ 4 ArbZG). ",""),IF(AND(ISNUMBER($H7),$H7>6),IF($G7<30,"Pause unter 30 min (§ 4 ArbZG). ",""),"")))
A8: 45963 | B8: So | C8: =IFERROR(IF(INDEX(Feiertage!$D$6:$S$24,MATCH($A8,Feiertage!$B$6:$B$24,0),MATCH(Stammdaten!$C$6,Feiertage!$D$5:$S$5,0))="x",INDEX(Feiertage!$C$6:$C$24,MATCH($A8,Feiertage!$B$6:$B$24,0)),""),"") | H8: =IF(OR($E8="",$F8=""),"",MOD($F8-$E8,1)*24-$G8/60) | I8: =IF(NOT(OR($D8<>"",ISNUMBER($H8))),"",IF(OR($C8<>"",$D8="Urlaub",$D8="Krank",$D8="Feiertag"),0,IF(WEEKDAY($A8,2)<=Stammdaten!$C$9,Stammdaten!$C$8/Stammdaten!$C$9,0))) | J8: =IF($I8="","",IF(ISNUMBER($H8),$H8,0)-$I8) | K8: =IF(OR($D8="Urlaub",$D8="Krank",$D8="Feiertag",$D8="Frei"),"",IF(AND(ISNUMBER($H8),$H8<0),"Pause länger als die Anwesenheit. ","")&IF(AND(ISNUMBER($H8),$H8>8),"über 8 h (§ 3 ArbZG). ","")&IF(AND(ISNUMBER($H8),$H8>9),IF($G8<45,"Pause unter 45 min (§ 4 ArbZG). ",""),IF(AND(ISNUMBER($H8),$H8>6),IF($G8<30,"Pause unter 30 min (§ 4 ArbZG). ",""),""))&IF(AND(ISNUMBER($F7),ISNUMBER($E7),ISNUMBER($E8)),IF(IF($F7<$E7,($E8-$F7)*24,(1-$F7+$E8)*24)<11,"Ruhezeit unter 11 h (§ 5 ArbZG). ",""),""))
A9: 45964 | B9: Mo | C9: =IFERROR(IF(INDEX(Feiertage!$D$6:$S$24,MATCH($A9,Feiertage!$B$6:$B$24,0),MATCH(Stammdaten!$C$6,Feiertage!$D$5:$S$5,0))="x",INDEX(Feiertage!$C$6:$C$24,MATCH($A9,Feiertage!$B$6:$B$24,0)),""),"") | H9: =IF(OR($E9="",$F9=""),"",MOD($F9-$E9,1)*24-$G9/60) | I9: =IF(NOT(OR($D9<>"",ISNUMBER($H9))),"",IF(OR($C9<>"",$D9="Urlaub",$D9="Krank",$D9="Feiertag"),0,IF(WEEKDAY($A9,2)<=Stammdaten!$C$9,Stammdaten!$C$8/Stammdaten!$C$9,0))) | J9: =IF($I9="","",IF(ISNUMBER($H9),$H9,0)-$I9) | K9: =IF(OR($D9="Urlaub",$D9="Krank",$D9="Feiertag",$D9="Frei"),"",IF(AND(ISNUMBER($H9),$H9<0),"Pause länger als die Anwesenheit. ","")&IF(AND(ISNUMBER($H9),$H9>8),"über 8 h (§ 3 ArbZG). ","")&IF(AND(ISNUMBER($H9),$H9>9),IF($G9<45,"Pause unter 45 min (§ 4 ArbZG). ",""),IF(AND(ISNUMBER($H9),$H9>6),IF($G9<30,"Pause unter 30 min (§ 4 ArbZG). ",""),""))&IF(AND(ISNUMBER($F8),ISNUMBER($E8),ISNUMBER($E9)),IF(IF($F8<$E8,($E9-$F8)*24,(1-$F8+$E9)*24)<11,"Ruhezeit unter 11 h (§ 5 ArbZG). ",""),""))
A10: 45965 | B10: Di | C10: =IFERROR(IF(INDEX(Feiertage!$D$6:$S$24,MATCH($A10,Feiertage!$B$6:$B$24,0),MATCH(Stammdaten!$C$6,Feiertage!$D$5:$S$5,0))="x",INDEX(Feiertage!$C$6:$C$24,MATCH($A10,Feiertage!$B$6:$B$24,0)),""),"") | H10: =IF(OR($E10="",$F10=""),"",MOD($F10-$E10,1)*24-$G10/60) | I10: =IF(NOT(OR($D10<>"",ISNUMBER($H10))),"",IF(OR($C10<>"",$D10="Urlaub",$D10="Krank",$D10="Feiertag"),0,IF(WEEKDAY($A10,2)<=Stammdaten!$C$9,Stammdaten!$C$8/Stammdaten!$C$9,0))) | J10: =IF($I10="","",IF(ISNUMBER($H10),$H10,0)-$I10) | K10: =IF(OR($D10="Urlaub",$D10="Krank",$D10="Feiertag",$D10="Frei"),"",IF(AND(ISNUMBER($H10),$H10<0),"Pause länger als die Anwesenheit. ","")&IF(AND(ISNUMBER($H10),$H10>8),"über 8 h (§ 3 ArbZG). ","")&IF(AND(ISNUMBER($H10),$H10>9),IF($G10<45,"Pause unter 45 min (§ 4 ArbZG). ",""),IF(AND(ISNUMBER($H10),$H10>6),IF($G10<30,"Pause unter 30 min (§ 4 ArbZG). ",""),""))&IF(AND(ISNUMBER($F9),ISNUMBER($E9),ISNUMBER($E10)),IF(IF($F9<$E9,($E10-$F9)*24,(1-$F9+$E10)*24)<11,"Ruhezeit unter 11 h (§ 5 ArbZG). ",""),""))
A11: 45966 | B11: Mi | C11: =IFERROR(IF(INDEX(Feiertage!$D$6:$S$24,MATCH($A11,Feiertage!$B$6:$B$24,0),MATCH(Stammdaten!$C$6,Feiertage!$D$5:$S$5,0))="x",INDEX(Feiertage!$C$6:$C$24,MATCH($A11,Feiertage!$B$6:$B$24,0)),""),"") | H11: =IF(OR($E11="",$F11=""),"",MOD($F11-$E11,1)*24-$G11/60) | I11: =IF(NOT(OR($D11<>"",ISNUMBER($H11))),"",IF(OR($C11<>"",$D11="Urlaub",$D11="Krank",$D11="Feiertag"),0,IF(WEEKDAY($A11,2)<=Stammdaten!$C$9,Stammdaten!$C$8/Stammdaten!$C$9,0))) | J11: =IF($I11="","",IF(ISNUMBER($H11),$H11,0)-$I11) | K11: =IF(OR($D11="Urlaub",$D11="Krank",$D11="Feiertag",$D11="Frei"),"",IF(AND(ISNUMBER($H11),$H11<0),"Pause länger als die Anwesenheit. ","")&IF(AND(ISNUMBER($H11),$H11>8),"über 8 h (§ 3 ArbZG). ","")&IF(AND(ISNUMBER($H11),$H11>9),IF($G11<45,"Pause unter 45 min (§ 4 ArbZG). ",""),IF(AND(ISNUMBER($H11),$H11>6),IF($G11<30,"Pause unter 30 min (§ 4 ArbZG). ",""),""))&IF(AND(ISNUMBER($F10),ISNUMBER($E10),ISNUMBER($E11)),IF(IF($F10<$E10,($E11-$F10)*24,(1-$F10+$E11)*24)<11,"Ruhezeit unter 11 h (§ 5 ArbZG). ",""),""))
A12: 45967 | B12: Do | C12: =IFERROR(IF(INDEX(Feiertage!$D$6:$S$24,MATCH($A12,Feiertage!$B$6:$B$24,0),MATCH(Stammdaten!$C$6,Feiertage!$D$5:$S$5,0))="x",INDEX(Feiertage!$C$6:$C$24,MATCH($A12,Feiertage!$B$6:$B$24,0)),""),"") | H12: =IF(OR($E12="",$F12=""),"",MOD($F12-$E12,1)*24-$G12/60) | I12: =IF(NOT(OR($D12<>"",ISNUMBER($H12))),"",IF(OR($C12<>"",$D12="Urlaub",$D12="Krank",$D12="Feiertag"),0,IF(WEEKDAY($A12,2)<=Stammdaten!$C$9,Stammdaten!$C$8/Stammdaten!$C$9,0))) | J12: =IF($I12="","",IF(ISNUMBER($H12),$H12,0)-$I12) | K12: =IF(OR($D12="Urlaub",$D12="Krank",$D12="Feiertag",$D12="Frei"),"",IF(AND(ISNUMBER($H12),$H12<0),"Pause länger als die Anwesenheit. ","")&IF(AND(ISNUMBER($H12),$H12>8),"über 8 h (§ 3 ArbZG). ","")&IF(AND(ISNUMBER($H12),$H12>9),IF($G12<45,"Pause unter 45 min (§ 4 ArbZG). ",""),IF(AND(ISNUMBER($H12),$H12>6),IF($G12<30,"Pause unter 30 min (§ 4 ArbZG). ",""),""))&IF(AND(ISNUMBER($F11),ISNUMBER($E11),ISNUMBER($E12)),IF(IF($F11<$E11,($E12-$F11)*24,(1-$F11+$E12)*24)<11,"Ruhezeit unter 11 h (§ 5 ArbZG). ",""),""))
A13: 45968 | B13: Fr | C13: =IFERROR(IF(INDEX(Feiertage!$D$6:$S$24,MATCH($A13,Feiertage!$B$6:$B$24,0),MATCH(Stammdaten!$C$6,Feiertage!$D$5:$S$5,0))="x",INDEX(Feiertage!$C$6:$C$24,MATCH($A13,Feiertage!$B$6:$B$24,0)),""),"") | H13: =IF(OR($E13="",$F13=""),"",MOD($F13-$E13,1)*24-$G13/60) | I13: =IF(NOT(OR($D13<>"",ISNUMBER($H13))),"",IF(OR($C13<>"",$D13="Urlaub",$D13="Krank",$D13="Feiertag"),0,IF(WEEKDAY($A13,2)<=Stammdaten!$C$9,Stammdaten!$C$8/Stammdaten!$C$9,0))) | J13: =IF($I13="","",IF(ISNUMBER($H13),$H13,0)-$I13) | K13: =IF(OR($D13="Urlaub",$D13="Krank",$D13="Feiertag",$D13="Frei"),"",IF(AND(ISNUMBER($H13),$H13<0),"Pause länger als die Anwesenheit. ","")&IF(AND(ISNUMBER($H13),$H13>8),"über 8 h (§ 3 ArbZG). ","")&IF(AND(ISNUMBER($H13),$H13>9),IF($G13<45,"Pause unter 45 min (§ 4 ArbZG). ",""),IF(AND(ISNUMBER($H13),$H13>6),IF($G13<30,"Pause unter 30 min (§ 4 ArbZG). ",""),""))&IF(AND(ISNUMBER($F12),ISNUMBER($E12),ISNUMBER($E13)),IF(IF($F12<$E12,($E13-$F12)*24,(1-$F12+$E13)*24)<11,"Ruhezeit unter 11 h (§ 5 ArbZG). ",""),""))
A14: 45969 | B14: Sa | C14: =IFERROR(IF(INDEX(Feiertage!$D$6:$S$24,MATCH($A14,Feiertage!$B$6:$B$24,0),MATCH(Stammdaten!$C$6,Feiertage!$D$5:$S$5,0))="x",INDEX(Feiertage!$C$6:$C$24,MATCH($A14,Feiertage!$B$6:$B$24,0)),""),"") | H14: =IF(OR($E14="",$F14=""),"",MOD($F14-$E14,1)*24-$G14/60) | I14: =IF(NOT(OR($D14<>"",ISNUMBER($H14))),"",IF(OR($C14<>"",$D14="Urlaub",$D14="Krank",$D14="Feiertag"),0,IF(WEEKDAY($A14,2)<=Stammdaten!$C$9,Stammdaten!$C$8/Stammdaten!$C$9,0))) | J14: =IF($I14="","",IF(ISNUMBER($H14),$H14,0)-$I14) | K14: =IF(OR($D14="Urlaub",$D14="Krank",$D14="Feiertag",$D14="Frei"),"",IF(AND(ISNUMBER($H14),$H14<0),"Pause länger als die Anwesenheit. ","")&IF(AND(ISNUMBER($H14),$H14>8),"über 8 h (§ 3 ArbZG). ","")&IF(AND(ISNUMBER($H14),$H14>9),IF($G14<45,"Pause unter 45 min (§ 4 ArbZG). ",""),IF(AND(ISNUMBER($H14),$H14>6),IF($G14<30,"Pause unter 30 min (§ 4 ArbZG). ",""),""))&IF(AND(ISNUMBER($F13),ISNUMBER($E13),ISNUMBER($E14)),IF(IF($F13<$E13,($E14-$F13)*24,(1-$F13+$E14)*24)<11,"Ruhezeit unter 11 h (§ 5 ArbZG). ",""),""))
A15: 45970 | B15: So | C15: =IFERROR(IF(INDEX(Feiertage!$D$6:$S$24,MATCH($A15,Feiertage!$B$6:$B$24,0),MATCH(Stammdaten!$C$6,Feiertage!$D$5:$S$5,0))="x",INDEX(Feiertage!$C$6:$C$24,MATCH($A15,Feiertage!$B$6:$B$24,0)),""),"") | H15: =IF(OR($E15="",$F15=""),"",MOD($F15-$E15,1)*24-$G15/60) | I15: =IF(NOT(OR($D15<>"",ISNUMBER($H15))),"",IF(OR($C15<>"",$D15="Urlaub",$D15="Krank",$D15="Feiertag"),0,IF(WEEKDAY($A15,2)<=Stammdaten!$C$9,Stammdaten!$C$8/Stammdaten!$C$9,0))) | J15: =IF($I15="","",IF(ISNUMBER($H15),$H15,0)-$I15) | K15: =IF(OR($D15="Urlaub",$D15="Krank",$D15="Feiertag",$D15="Frei"),"",IF(AND(ISNUMBER($H15),$H15<0),"Pause länger als die Anwesenheit. ","")&IF(AND(ISNUMBER($H15),$H15>8),"über 8 h (§ 3 ArbZG). ","")&IF(AND(ISNUMBER($H15),$H15>9),IF($G15<45,"Pause unter 45 min (§ 4 ArbZG). ",""),IF(AND(ISNUMBER($H15),$H15>6),IF($G15<30,"Pause unter 30 min (§ 4 ArbZG). ",""),""))&IF(AND(ISNUMBER($F14),ISNUMBER($E14),ISNUMBER($E15)),IF(IF($F14<$E14,($E15-$F14)*24,(1-$F14+$E15)*24)<11,"Ruhezeit unter 11 h (§ 5 ArbZG). ",""),""))
A16: 45971 | B16: Mo | C16: =IFERROR(IF(INDEX(Feiertage!$D$6:$S$24,MATCH($A16,Feiertage!$B$6:$B$24,0),MATCH(Stammdaten!$C$6,Feiertage!$D$5:$S$5,0))="x",INDEX(Feiertage!$C$6:$C$24,MATCH($A16,Feiertage!$B$6:$B$24,0)),""),"") | H16: =IF(OR($E16="",$F16=""),"",MOD($F16-$E16,1)*24-$G16/60) | I16: =IF(NOT(OR($D16<>"",ISNUMBER($H16))),"",IF(OR($C16<>"",$D16="Urlaub",$D16="Krank",$D16="Feiertag"),0,IF(WEEKDAY($A16,2)<=Stammdaten!$C$9,Stammdaten!$C$8/Stammdaten!$C$9,0))) | J16: =IF($I16="","",IF(ISNUMBER($H16),$H16,0)-$I16) | K16: =IF(OR($D16="Urlaub",$D16="Krank",$D16="Feiertag",$D16="Frei"),"",IF(AND(ISNUMBER($H16),$H16<0),"Pause länger als die Anwesenheit. ","")&IF(AND(ISNUMBER($H16),$H16>8),"über 8 h (§ 3 ArbZG). ","")&IF(AND(ISNUMBER($H16),$H16>9),IF($G16<45,"Pause unter 45 min (§ 4 ArbZG). ",""),IF(AND(ISNUMBER($H16),$H16>6),IF($G16<30,"Pause unter 30 min (§ 4 ArbZG). ",""),""))&IF(AND(ISNUMBER($F15),ISNUMBER($E15),ISNUMBER($E16)),IF(IF($F15<$E15,($E16-$F15)*24,(1-$F15+$E16)*24)<11,"Ruhezeit unter 11 h (§ 5 ArbZG). ",""),""))
A17: 45972 | B17: Di | C17: =IFERROR(IF(INDEX(Feiertage!$D$6:$S$24,MATCH($A17,Feiertage!$B$6:$B$24,0),MATCH(Stammdaten!$C$6,Feiertage!$D$5:$S$5,0))="x",INDEX(Feiertage!$C$6:$C$24,MATCH($A17,Feiertage!$B$6:$B$24,0)),""),"") | H17: =IF(OR($E17="",$F17=""),"",MOD($F17-$E17,1)*24-$G17/60) | I17: =IF(NOT(OR($D17<>"",ISNUMBER($H17))),"",IF(OR($C17<>"",$D17="Urlaub",$D17="Krank",$D17="Feiertag"),0,IF(WEEKDAY($A17,2)<=Stammdaten!$C$9,Stammdaten!$C$8/Stammdaten!$C$9,0))) | J17: =IF($I17="","",IF(ISNUMBER($H17),$H17,0)-$I17) | K17: =IF(OR($D17="Urlaub",$D17="Krank",$D17="Feiertag",$D17="Frei"),"",IF(AND(ISNUMBER($H17),$H17<0),"Pause länger als die Anwesenheit. ","")&IF(AND(ISNUMBER($H17),$H17>8),"über 8 h (§ 3 ArbZG). ","")&IF(AND(ISNUMBER($H17),$H17>9),IF($G17<45,"Pause unter 45 min (§ 4 ArbZG). ",""),IF(AND(ISNUMBER($H17),$H17>6),IF($G17<30,"Pause unter 30 min (§ 4 ArbZG). ",""),""))&IF(AND(ISNUMBER($F16),ISNUMBER($E16),ISNUMBER($E17)),IF(IF($F16<$E16,($E17-$F16)*24,(1-$F16+$E17)*24)<11,"Ruhezeit unter 11 h (§ 5 ArbZG). ",""),""))
A18: 45973 | B18: Mi | C18: =IFERROR(IF(INDEX(Feiertage!$D$6:$S$24,MATCH($A18,Feiertage!$B$6:$B$24,0),MATCH(Stammdaten!$C$6,Feiertage!$D$5:$S$5,0))="x",INDEX(Feiertage!$C$6:$C$24,MATCH($A18,Feiertage!$B$6:$B$24,0)),""),"") | H18: =IF(OR($E18="",$F18=""),"",MOD($F18-$E18,1)*24-$G18/60) | I18: =IF(NOT(OR($D18<>"",ISNUMBER($H18))),"",IF(OR($C18<>"",$D18="Urlaub",$D18="Krank",$D18="Feiertag"),0,IF(WEEKDAY($A18,2)<=Stammdaten!$C$9,Stammdaten!$C$8/Stammdaten!$C$9,0))) | J18: =IF($I18="","",IF(ISNUMBER($H18),$H18,0)-$I18) | K18: =IF(OR($D18="Urlaub",$D18="Krank",$D18="Feiertag",$D18="Frei"),"",IF(AND(ISNUMBER($H18),$H18<0),"Pause länger als die Anwesenheit. ","")&IF(AND(ISNUMBER($H18),$H18>8),"über 8 h (§ 3 ArbZG). ","")&IF(AND(ISNUMBER($H18),$H18>9),IF($G18<45,"Pause unter 45 min (§ 4 ArbZG). ",""),IF(AND(ISNUMBER($H18),$H18>6),IF($G18<30,"Pause unter 30 min (§ 4 ArbZG). ",""),""))&IF(AND(ISNUMBER($F17),ISNUMBER($E17),ISNUMBER($E18)),IF(IF($F17<$E17,($E18-$F17)*24,(1-$F17+$E18)*24)<11,"Ruhezeit unter 11 h (§ 5 ArbZG). ",""),""))
A19: 45974 | B19: Do | C19: =IFERROR(IF(INDEX(Feiertage!$D$6:$S$24,MATCH($A19,Feiertage!$B$6:$B$24,0),MATCH(Stammdaten!$C$6,Feiertage!$D$5:$S$5,0))="x",INDEX(Feiertage!$C$6:$C$24,MATCH($A19,Feiertage!$B$6:$B$24,0)),""),"") | H19: =IF(OR($E19="",$F19=""),"",MOD($F19-$E19,1)*24-$G19/60) | I19: =IF(NOT(OR($D19<>"",ISNUMBER($H19))),"",IF(OR($C19<>"",$D19="Urlaub",$D19="Krank",$D19="Feiertag"),0,IF(WEEKDAY($A19,2)<=Stammdaten!$C$9,Stammdaten!$C$8/Stammdaten!$C$9,0))) | J19: =IF($I19="","",IF(ISNUMBER($H19),$H19,0)-$I19) | K19: =IF(OR($D19="Urlaub",$D19="Krank",$D19="Feiertag",$D19="Frei"),"",IF(AND(ISNUMBER($H19),$H19<0),"Pause länger als die Anwesenheit. ","")&IF(AND(ISNUMBER($H19),$H19>8),"über 8 h (§ 3 ArbZG). ","")&IF(AND(ISNUMBER($H19),$H19>9),IF($G19<45,"Pause unter 45 min (§ 4 ArbZG). ",""),IF(AND(ISNUMBER($H19),$H19>6),IF($G19<30,"Pause unter 30 min (§ 4 ArbZG). ",""),""))&IF(AND(ISNUMBER($F18),ISNUMBER($E18),ISNUMBER($E19)),IF(IF($F18<$E18,($E19-$F18)*24,(1-$F18+$E19)*24)<11,"Ruhezeit unter 11 h (§ 5 ArbZG). ",""),""))
... A36: 45991 | B36: So | C36: =IFERROR(IF(INDEX(Feiertage!$D$6:$S$24,MATCH($A36,Feiertage!$B$6:$B$24,0),MATCH(Stammdaten!$C$6,Feiertage!$D$5:$S$5,0))="x",INDEX(Feiertage!$C$6:$C$24,MATCH($A36,Feiertage!$B$6:$B$24,0)),""),"") | H36: =IF(OR($E36="",$F36=""),"",MOD($F36-$E36,1)*24-$G36/60) | I36: =IF(NOT(OR($D36<>"",ISNUMBER($H36))),"",IF(OR($C36<>"",$D36="Urlaub",$D36="Krank",$D36="Feiertag"),0,IF(WEEKDAY($A36,2)<=Stammdaten!$C$9,Stammdaten!$C$8/Stammdaten!$C$9,0))) | J36: =IF($I36="","",IF(ISNUMBER($H36),$H36,0)-$I36) | K36: =IF(OR($D36="Urlaub",$D36="Krank",$D36="Feiertag",$D36="Frei"),"",IF(AND(ISNUMBER($H36),$H36<0),"Pause länger als die Anwesenheit. ","")&IF(AND(ISNUMBER($H36),$H36>8),"über 8 h (§ 3 ArbZG). ","")&IF(AND(ISNUMBER($H36),$H36>9),IF($G36<45,"Pause unter 45 min (§ 4 ArbZG). ",""),IF(AND(ISNUMBER($H36),$H36>6),IF($G36<30,"Pause unter 30 min (§ 4 ArbZG). ",""),""))&IF(AND(ISNUMBER($F35),ISNUMBER($E35),ISNUMBER($E36)),IF(IF($F35<$E35,($E36-$F35)*24,(1-$F35+$E36)*24)<11,"Ruhezeit unter 11 h (§ 5 ArbZG). ",""),""))
A37: Summe | G37: =SUM($G$7:$G$36) | H37: =SUM($H$7:$H$36) | I37: =SUM($I$7:$I$36) | J37: =SUM($J$7:$J$36)
A38: Überstundenkonto am Monatsende | J38: =Auswertung!$H$16

Sheet Dezember
A2: Arbeitszeitnachweis Dezember 2025
A3: Betrieb | B3: =Stammdaten!$C$4
A4: Person | B4: =Stammdaten!$C$5
A6: Datum | B6: Tag | C6: Feiertag | D6: Art | E6: Beginn | F6: Ende | G6: Pause (min) | H6: Dauer (h) | I6: Soll (h) | J6: Saldo (h) | K6: Hinweis | L6: Bemerkung
A7: 45992 | B7: Mo | C7: =IFERROR(IF(INDEX(Feiertage!$D$6:$S$24,MATCH($A7,Feiertage!$B$6:$B$24,0),MATCH(Stammdaten!$C$6,Feiertage!$D$5:$S$5,0))="x",INDEX(Feiertage!$C$6:$C$24,MATCH($A7,Feiertage!$B$6:$B$24,0)),""),"") | H7: =IF(OR($E7="",$F7=""),"",MOD($F7-$E7,1)*24-$G7/60) | I7: =IF(NOT(OR($D7<>"",ISNUMBER($H7))),"",IF(OR($C7<>"",$D7="Urlaub",$D7="Krank",$D7="Feiertag"),0,IF(WEEKDAY($A7,2)<=Stammdaten!$C$9,Stammdaten!$C$8/Stammdaten!$C$9,0))) | J7: =IF($I7="","",IF(ISNUMBER($H7),$H7,0)-$I7) | K7: =IF(OR($D7="Urlaub",$D7="Krank",$D7="Feiertag",$D7="Frei"),"",IF(AND(ISNUMBER($H7),$H7<0),"Pause länger als die Anwesenheit. ","")&IF(AND(ISNUMBER($H7),$H7>8),"über 8 h (§ 3 ArbZG). ","")&IF(AND(ISNUMBER($H7),$H7>9),IF($G7<45,"Pause unter 45 min (§ 4 ArbZG). ",""),IF(AND(ISNUMBER($H7),$H7>6),IF($G7<30,"Pause unter 30 min (§ 4 ArbZG). ",""),"")))
A8: 45993 | B8: Di | C8: =IFERROR(IF(INDEX(Feiertage!$D$6:$S$24,MATCH($A8,Feiertage!$B$6:$B$24,0),MATCH(Stammdaten!$C$6,Feiertage!$D$5:$S$5,0))="x",INDEX(Feiertage!$C$6:$C$24,MATCH($A8,Feiertage!$B$6:$B$24,0)),""),"") | H8: =IF(OR($E8="",$F8=""),"",MOD($F8-$E8,1)*24-$G8/60) | I8: =IF(NOT(OR($D8<>"",ISNUMBER($H8))),"",IF(OR($C8<>"",$D8="Urlaub",$D8="Krank",$D8="Feiertag"),0,IF(WEEKDAY($A8,2)<=Stammdaten!$C$9,Stammdaten!$C$8/Stammdaten!$C$9,0))) | J8: =IF($I8="","",IF(ISNUMBER($H8),$H8,0)-$I8) | K8: =IF(OR($D8="Urlaub",$D8="Krank",$D8="Feiertag",$D8="Frei"),"",IF(AND(ISNUMBER($H8),$H8<0),"Pause länger als die Anwesenheit. ","")&IF(AND(ISNUMBER($H8),$H8>8),"über 8 h (§ 3 ArbZG). ","")&IF(AND(ISNUMBER($H8),$H8>9),IF($G8<45,"Pause unter 45 min (§ 4 ArbZG). ",""),IF(AND(ISNUMBER($H8),$H8>6),IF($G8<30,"Pause unter 30 min (§ 4 ArbZG). ",""),""))&IF(AND(ISNUMBER($F7),ISNUMBER($E7),ISNUMBER($E8)),IF(IF($F7<$E7,($E8-$F7)*24,(1-$F7+$E8)*24)<11,"Ruhezeit unter 11 h (§ 5 ArbZG). ",""),""))
A9: 45994 | B9: Mi | C9: =IFERROR(IF(INDEX(Feiertage!$D$6:$S$24,MATCH($A9,Feiertage!$B$6:$B$24,0),MATCH(Stammdaten!$C$6,Feiertage!$D$5:$S$5,0))="x",INDEX(Feiertage!$C$6:$C$24,MATCH($A9,Feiertage!$B$6:$B$24,0)),""),"") | H9: =IF(OR($E9="",$F9=""),"",MOD($F9-$E9,1)*24-$G9/60) | I9: =IF(NOT(OR($D9<>"",ISNUMBER($H9))),"",IF(OR($C9<>"",$D9="Urlaub",$D9="Krank",$D9="Feiertag"),0,IF(WEEKDAY($A9,2)<=Stammdaten!$C$9,Stammdaten!$C$8/Stammdaten!$C$9,0))) | J9: =IF($I9="","",IF(ISNUMBER($H9),$H9,0)-$I9) | K9: =IF(OR($D9="Urlaub",$D9="Krank",$D9="Feiertag",$D9="Frei"),"",IF(AND(ISNUMBER($H9),$H9<0),"Pause länger als die Anwesenheit. ","")&IF(AND(ISNUMBER($H9),$H9>8),"über 8 h (§ 3 ArbZG). ","")&IF(AND(ISNUMBER($H9),$H9>9),IF($G9<45,"Pause unter 45 min (§ 4 ArbZG). ",""),IF(AND(ISNUMBER($H9),$H9>6),IF($G9<30,"Pause unter 30 min (§ 4 ArbZG). ",""),""))&IF(AND(ISNUMBER($F8),ISNUMBER($E8),ISNUMBER($E9)),IF(IF($F8<$E8,($E9-$F8)*24,(1-$F8+$E9)*24)<11,"Ruhezeit unter 11 h (§ 5 ArbZG). ",""),""))
A10: 45995 | B10: Do | C10: =IFERROR(IF(INDEX(Feiertage!$D$6:$S$24,MATCH($A10,Feiertage!$B$6:$B$24,0),MATCH(Stammdaten!$C$6,Feiertage!$D$5:$S$5,0))="x",INDEX(Feiertage!$C$6:$C$24,MATCH($A10,Feiertage!$B$6:$B$24,0)),""),"") | H10: =IF(OR($E10="",$F10=""),"",MOD($F10-$E10,1)*24-$G10/60) | I10: =IF(NOT(OR($D10<>"",ISNUMBER($H10))),"",IF(OR($C10<>"",$D10="Urlaub",$D10="Krank",$D10="Feiertag"),0,IF(WEEKDAY($A10,2)<=Stammdaten!$C$9,Stammdaten!$C$8/Stammdaten!$C$9,0))) | J10: =IF($I10="","",IF(ISNUMBER($H10),$H10,0)-$I10) | K10: =IF(OR($D10="Urlaub",$D10="Krank",$D10="Feiertag",$D10="Frei"),"",IF(AND(ISNUMBER($H10),$H10<0),"Pause länger als die Anwesenheit. ","")&IF(AND(ISNUMBER($H10),$H10>8),"über 8 h (§ 3 ArbZG). ","")&IF(AND(ISNUMBER($H10),$H10>9),IF($G10<45,"Pause unter 45 min (§ 4 ArbZG). ",""),IF(AND(ISNUMBER($H10),$H10>6),IF($G10<30,"Pause unter 30 min (§ 4 ArbZG). ",""),""))&IF(AND(ISNUMBER($F9),ISNUMBER($E9),ISNUMBER($E10)),IF(IF($F9<$E9,($E10-$F9)*24,(1-$F9+$E10)*24)<11,"Ruhezeit unter 11 h (§ 5 ArbZG). ",""),""))
A11: 45996 | B11: Fr | C11: =IFERROR(IF(INDEX(Feiertage!$D$6:$S$24,MATCH($A11,Feiertage!$B$6:$B$24,0),MATCH(Stammdaten!$C$6,Feiertage!$D$5:$S$5,0))="x",INDEX(Feiertage!$C$6:$C$24,MATCH($A11,Feiertage!$B$6:$B$24,0)),""),"") | H11: =IF(OR($E11="",$F11=""),"",MOD($F11-$E11,1)*24-$G11/60) | I11: =IF(NOT(OR($D11<>"",ISNUMBER($H11))),"",IF(OR($C11<>"",$D11="Urlaub",$D11="Krank",$D11="Feiertag"),0,IF(WEEKDAY($A11,2)<=Stammdaten!$C$9,Stammdaten!$C$8/Stammdaten!$C$9,0))) | J11: =IF($I11="","",IF(ISNUMBER($H11),$H11,0)-$I11) | K11: =IF(OR($D11="Urlaub",$D11="Krank",$D11="Feiertag",$D11="Frei"),"",IF(AND(ISNUMBER($H11),$H11<0),"Pause länger als die Anwesenheit. ","")&IF(AND(ISNUMBER($H11),$H11>8),"über 8 h (§ 3 ArbZG). ","")&IF(AND(ISNUMBER($H11),$H11>9),IF($G11<45,"Pause unter 45 min (§ 4 ArbZG). ",""),IF(AND(ISNUMBER($H11),$H11>6),IF($G11<30,"Pause unter 30 min (§ 4 ArbZG). ",""),""))&IF(AND(ISNUMBER($F10),ISNUMBER($E10),ISNUMBER($E11)),IF(IF($F10<$E10,($E11-$F10)*24,(1-$F10+$E11)*24)<11,"Ruhezeit unter 11 h (§ 5 ArbZG). ",""),""))
A12: 45997 | B12: Sa | C12: =IFERROR(IF(INDEX(Feiertage!$D$6:$S$24,MATCH($A12,Feiertage!$B$6:$B$24,0),MATCH(Stammdaten!$C$6,Feiertage!$D$5:$S$5,0))="x",INDEX(Feiertage!$C$6:$C$24,MATCH($A12,Feiertage!$B$6:$B$24,0)),""),"") | H12: =IF(OR($E12="",$F12=""),"",MOD($F12-$E12,1)*24-$G12/60) | I12: =IF(NOT(OR($D12<>"",ISNUMBER($H12))),"",IF(OR($C12<>"",$D12="Urlaub",$D12="Krank",$D12="Feiertag"),0,IF(WEEKDAY($A12,2)<=Stammdaten!$C$9,Stammdaten!$C$8/Stammdaten!$C$9,0))) | J12: =IF($I12="","",IF(ISNUMBER($H12),$H12,0)-$I12) | K12: =IF(OR($D12="Urlaub",$D12="Krank",$D12="Feiertag",$D12="Frei"),"",IF(AND(ISNUMBER($H12),$H12<0),"Pause länger als die Anwesenheit. ","")&IF(AND(ISNUMBER($H12),$H12>8),"über 8 h (§ 3 ArbZG). ","")&IF(AND(ISNUMBER($H12),$H12>9),IF($G12<45,"Pause unter 45 min (§ 4 ArbZG). ",""),IF(AND(ISNUMBER($H12),$H12>6),IF($G12<30,"Pause unter 30 min (§ 4 ArbZG). ",""),""))&IF(AND(ISNUMBER($F11),ISNUMBER($E11),ISNUMBER($E12)),IF(IF($F11<$E11,($E12-$F11)*24,(1-$F11+$E12)*24)<11,"Ruhezeit unter 11 h (§ 5 ArbZG). ",""),""))
A13: 45998 | B13: So | C13: =IFERROR(IF(INDEX(Feiertage!$D$6:$S$24,MATCH($A13,Feiertage!$B$6:$B$24,0),MATCH(Stammdaten!$C$6,Feiertage!$D$5:$S$5,0))="x",INDEX(Feiertage!$C$6:$C$24,MATCH($A13,Feiertage!$B$6:$B$24,0)),""),"") | H13: =IF(OR($E13="",$F13=""),"",MOD($F13-$E13,1)*24-$G13/60) | I13: =IF(NOT(OR($D13<>"",ISNUMBER($H13))),"",IF(OR($C13<>"",$D13="Urlaub",$D13="Krank",$D13="Feiertag"),0,IF(WEEKDAY($A13,2)<=Stammdaten!$C$9,Stammdaten!$C$8/Stammdaten!$C$9,0))) | J13: =IF($I13="","",IF(ISNUMBER($H13),$H13,0)-$I13) | K13: =IF(OR($D13="Urlaub",$D13="Krank",$D13="Feiertag",$D13="Frei"),"",IF(AND(ISNUMBER($H13),$H13<0),"Pause länger als die Anwesenheit. ","")&IF(AND(ISNUMBER($H13),$H13>8),"über 8 h (§ 3 ArbZG). ","")&IF(AND(ISNUMBER($H13),$H13>9),IF($G13<45,"Pause unter 45 min (§ 4 ArbZG). ",""),IF(AND(ISNUMBER($H13),$H13>6),IF($G13<30,"Pause unter 30 min (§ 4 ArbZG). ",""),""))&IF(AND(ISNUMBER($F12),ISNUMBER($E12),ISNUMBER($E13)),IF(IF($F12<$E12,($E13-$F12)*24,(1-$F12+$E13)*24)<11,"Ruhezeit unter 11 h (§ 5 ArbZG). ",""),""))
A14: 45999 | B14: Mo | C14: =IFERROR(IF(INDEX(Feiertage!$D$6:$S$24,MATCH($A14,Feiertage!$B$6:$B$24,0),MATCH(Stammdaten!$C$6,Feiertage!$D$5:$S$5,0))="x",INDEX(Feiertage!$C$6:$C$24,MATCH($A14,Feiertage!$B$6:$B$24,0)),""),"") | H14: =IF(OR($E14="",$F14=""),"",MOD($F14-$E14,1)*24-$G14/60) | I14: =IF(NOT(OR($D14<>"",ISNUMBER($H14))),"",IF(OR($C14<>"",$D14="Urlaub",$D14="Krank",$D14="Feiertag"),0,IF(WEEKDAY($A14,2)<=Stammdaten!$C$9,Stammdaten!$C$8/Stammdaten!$C$9,0))) | J14: =IF($I14="","",IF(ISNUMBER($H14),$H14,0)-$I14) | K14: =IF(OR($D14="Urlaub",$D14="Krank",$D14="Feiertag",$D14="Frei"),"",IF(AND(ISNUMBER($H14),$H14<0),"Pause länger als die Anwesenheit. ","")&IF(AND(ISNUMBER($H14),$H14>8),"über 8 h (§ 3 ArbZG). ","")&IF(AND(ISNUMBER($H14),$H14>9),IF($G14<45,"Pause unter 45 min (§ 4 ArbZG). ",""),IF(AND(ISNUMBER($H14),$H14>6),IF($G14<30,"Pause unter 30 min (§ 4 ArbZG). ",""),""))&IF(AND(ISNUMBER($F13),ISNUMBER($E13),ISNUMBER($E14)),IF(IF($F13<$E13,($E14-$F13)*24,(1-$F13+$E14)*24)<11,"Ruhezeit unter 11 h (§ 5 ArbZG). ",""),""))
A15: 46000 | B15: Di | C15: =IFERROR(IF(INDEX(Feiertage!$D$6:$S$24,MATCH($A15,Feiertage!$B$6:$B$24,0),MATCH(Stammdaten!$C$6,Feiertage!$D$5:$S$5,0))="x",INDEX(Feiertage!$C$6:$C$24,MATCH($A15,Feiertage!$B$6:$B$24,0)),""),"") | H15: =IF(OR($E15="",$F15=""),"",MOD($F15-$E15,1)*24-$G15/60) | I15: =IF(NOT(OR($D15<>"",ISNUMBER($H15))),"",IF(OR($C15<>"",$D15="Urlaub",$D15="Krank",$D15="Feiertag"),0,IF(WEEKDAY($A15,2)<=Stammdaten!$C$9,Stammdaten!$C$8/Stammdaten!$C$9,0))) | J15: =IF($I15="","",IF(ISNUMBER($H15),$H15,0)-$I15) | K15: =IF(OR($D15="Urlaub",$D15="Krank",$D15="Feiertag",$D15="Frei"),"",IF(AND(ISNUMBER($H15),$H15<0),"Pause länger als die Anwesenheit. ","")&IF(AND(ISNUMBER($H15),$H15>8),"über 8 h (§ 3 ArbZG). ","")&IF(AND(ISNUMBER($H15),$H15>9),IF($G15<45,"Pause unter 45 min (§ 4 ArbZG). ",""),IF(AND(ISNUMBER($H15),$H15>6),IF($G15<30,"Pause unter 30 min (§ 4 ArbZG). ",""),""))&IF(AND(ISNUMBER($F14),ISNUMBER($E14),ISNUMBER($E15)),IF(IF($F14<$E14,($E15-$F14)*24,(1-$F14+$E15)*24)<11,"Ruhezeit unter 11 h (§ 5 ArbZG). ",""),""))
A16: 46001 | B16: Mi | C16: =IFERROR(IF(INDEX(Feiertage!$D$6:$S$24,MATCH($A16,Feiertage!$B$6:$B$24,0),MATCH(Stammdaten!$C$6,Feiertage!$D$5:$S$5,0))="x",INDEX(Feiertage!$C$6:$C$24,MATCH($A16,Feiertage!$B$6:$B$24,0)),""),"") | H16: =IF(OR($E16="",$F16=""),"",MOD($F16-$E16,1)*24-$G16/60) | I16: =IF(NOT(OR($D16<>"",ISNUMBER($H16))),"",IF(OR($C16<>"",$D16="Urlaub",$D16="Krank",$D16="Feiertag"),0,IF(WEEKDAY($A16,2)<=Stammdaten!$C$9,Stammdaten!$C$8/Stammdaten!$C$9,0))) | J16: =IF($I16="","",IF(ISNUMBER($H16),$H16,0)-$I16) | K16: =IF(OR($D16="Urlaub",$D16="Krank",$D16="Feiertag",$D16="Frei"),"",IF(AND(ISNUMBER($H16),$H16<0),"Pause länger als die Anwesenheit. ","")&IF(AND(ISNUMBER($H16),$H16>8),"über 8 h (§ 3 ArbZG). ","")&IF(AND(ISNUMBER($H16),$H16>9),IF($G16<45,"Pause unter 45 min (§ 4 ArbZG). ",""),IF(AND(ISNUMBER($H16),$H16>6),IF($G16<30,"Pause unter 30 min (§ 4 ArbZG). ",""),""))&IF(AND(ISNUMBER($F15),ISNUMBER($E15),ISNUMBER($E16)),IF(IF($F15<$E15,($E16-$F15)*24,(1-$F15+$E16)*24)<11,"Ruhezeit unter 11 h (§ 5 ArbZG). ",""),""))
A17: 46002 | B17: Do | C17: =IFERROR(IF(INDEX(Feiertage!$D$6:$S$24,MATCH($A17,Feiertage!$B$6:$B$24,0),MATCH(Stammdaten!$C$6,Feiertage!$D$5:$S$5,0))="x",INDEX(Feiertage!$C$6:$C$24,MATCH($A17,Feiertage!$B$6:$B$24,0)),""),"") | H17: =IF(OR($E17="",$F17=""),"",MOD($F17-$E17,1)*24-$G17/60) | I17: =IF(NOT(OR($D17<>"",ISNUMBER($H17))),"",IF(OR($C17<>"",$D17="Urlaub",$D17="Krank",$D17="Feiertag"),0,IF(WEEKDAY($A17,2)<=Stammdaten!$C$9,Stammdaten!$C$8/Stammdaten!$C$9,0))) | J17: =IF($I17="","",IF(ISNUMBER($H17),$H17,0)-$I17) | K17: =IF(OR($D17="Urlaub",$D17="Krank",$D17="Feiertag",$D17="Frei"),"",IF(AND(ISNUMBER($H17),$H17<0),"Pause länger als die Anwesenheit. ","")&IF(AND(ISNUMBER($H17),$H17>8),"über 8 h (§ 3 ArbZG). ","")&IF(AND(ISNUMBER($H17),$H17>9),IF($G17<45,"Pause unter 45 min (§ 4 ArbZG). ",""),IF(AND(ISNUMBER($H17),$H17>6),IF($G17<30,"Pause unter 30 min (§ 4 ArbZG). ",""),""))&IF(AND(ISNUMBER($F16),ISNUMBER($E16),ISNUMBER($E17)),IF(IF($F16<$E16,($E17-$F16)*24,(1-$F16+$E17)*24)<11,"Ruhezeit unter 11 h (§ 5 ArbZG). ",""),""))
A18: 46003 | B18: Fr | C18: =IFERROR(IF(INDEX(Feiertage!$D$6:$S$24,MATCH($A18,Feiertage!$B$6:$B$24,0),MATCH(Stammdaten!$C$6,Feiertage!$D$5:$S$5,0))="x",INDEX(Feiertage!$C$6:$C$24,MATCH($A18,Feiertage!$B$6:$B$24,0)),""),"") | H18: =IF(OR($E18="",$F18=""),"",MOD($F18-$E18,1)*24-$G18/60) | I18: =IF(NOT(OR($D18<>"",ISNUMBER($H18))),"",IF(OR($C18<>"",$D18="Urlaub",$D18="Krank",$D18="Feiertag"),0,IF(WEEKDAY($A18,2)<=Stammdaten!$C$9,Stammdaten!$C$8/Stammdaten!$C$9,0))) | J18: =IF($I18="","",IF(ISNUMBER($H18),$H18,0)-$I18) | K18: =IF(OR($D18="Urlaub",$D18="Krank",$D18="Feiertag",$D18="Frei"),"",IF(AND(ISNUMBER($H18),$H18<0),"Pause länger als die Anwesenheit. ","")&IF(AND(ISNUMBER($H18),$H18>8),"über 8 h (§ 3 ArbZG). ","")&IF(AND(ISNUMBER($H18),$H18>9),IF($G18<45,"Pause unter 45 min (§ 4 ArbZG). ",""),IF(AND(ISNUMBER($H18),$H18>6),IF($G18<30,"Pause unter 30 min (§ 4 ArbZG). ",""),""))&IF(AND(ISNUMBER($F17),ISNUMBER($E17),ISNUMBER($E18)),IF(IF($F17<$E17,($E18-$F17)*24,(1-$F17+$E18)*24)<11,"Ruhezeit unter 11 h (§ 5 ArbZG). ",""),""))
A19: 46004 | B19: Sa | C19: =IFERROR(IF(INDEX(Feiertage!$D$6:$S$24,MATCH($A19,Feiertage!$B$6:$B$24,0),MATCH(Stammdaten!$C$6,Feiertage!$D$5:$S$5,0))="x",INDEX(Feiertage!$C$6:$C$24,MATCH($A19,Feiertage!$B$6:$B$24,0)),""),"") | H19: =IF(OR($E19="",$F19=""),"",MOD($F19-$E19,1)*24-$G19/60) | I19: =IF(NOT(OR($D19<>"",ISNUMBER($H19))),"",IF(OR($C19<>"",$D19="Urlaub",$D19="Krank",$D19="Feiertag"),0,IF(WEEKDAY($A19,2)<=Stammdaten!$C$9,Stammdaten!$C$8/Stammdaten!$C$9,0))) | J19: =IF($I19="","",IF(ISNUMBER($H19),$H19,0)-$I19) | K19: =IF(OR($D19="Urlaub",$D19="Krank",$D19="Feiertag",$D19="Frei"),"",IF(AND(ISNUMBER($H19),$H19<0),"Pause länger als die Anwesenheit. ","")&IF(AND(ISNUMBER($H19),$H19>8),"über 8 h (§ 3 ArbZG). ","")&IF(AND(ISNUMBER($H19),$H19>9),IF($G19<45,"Pause unter 45 min (§ 4 ArbZG). ",""),IF(AND(ISNUMBER($H19),$H19>6),IF($G19<30,"Pause unter 30 min (§ 4 ArbZG). ",""),""))&IF(AND(ISNUMBER($F18),ISNUMBER($E18),ISNUMBER($E19)),IF(IF($F18<$E18,($E19-$F18)*24,(1-$F18+$E19)*24)<11,"Ruhezeit unter 11 h (§ 5 ArbZG). ",""),""))
... A37: 46022 | B37: Mi | C37: =IFERROR(IF(INDEX(Feiertage!$D$6:$S$24,MATCH($A37,Feiertage!$B$6:$B$24,0),MATCH(Stammdaten!$C$6,Feiertage!$D$5:$S$5,0))="x",INDEX(Feiertage!$C$6:$C$24,MATCH($A37,Feiertage!$B$6:$B$24,0)),""),"") | H37: =IF(OR($E37="",$F37=""),"",MOD($F37-$E37,1)*24-$G37/60) | I37: =IF(NOT(OR($D37<>"",ISNUMBER($H37))),"",IF(OR($C37<>"",$D37="Urlaub",$D37="Krank",$D37="Feiertag"),0,IF(WEEKDAY($A37,2)<=Stammdaten!$C$9,Stammdaten!$C$8/Stammdaten!$C$9,0))) | J37: =IF($I37="","",IF(ISNUMBER($H37),$H37,0)-$I37) | K37: =IF(OR($D37="Urlaub",$D37="Krank",$D37="Feiertag",$D37="Frei"),"",IF(AND(ISNUMBER($H37),$H37<0),"Pause länger als die Anwesenheit. ","")&IF(AND(ISNUMBER($H37),$H37>8),"über 8 h (§ 3 ArbZG). ","")&IF(AND(ISNUMBER($H37),$H37>9),IF($G37<45,"Pause unter 45 min (§ 4 ArbZG). ",""),IF(AND(ISNUMBER($H37),$H37>6),IF($G37<30,"Pause unter 30 min (§ 4 ArbZG). ",""),""))&IF(AND(ISNUMBER($F36),ISNUMBER($E36),ISNUMBER($E37)),IF(IF($F36<$E36,($E37-$F36)*24,(1-$F36+$E37)*24)<11,"Ruhezeit unter 11 h (§ 5 ArbZG). ",""),""))
A38: Summe | G38: =SUM($G$7:$G$37) | H38: =SUM($H$7:$H$37) | I38: =SUM($I$7:$I$37) | J38: =SUM($J$7:$J$37)
A39: Überstundenkonto am Monatsende | J39: =Auswertung!$H$17

Sheet Auswertung
B2: Auswertung 2025
B3: Gezählt wird, was in den Monatsblättern steht. Die Zahl der Hinweise ist keine Beanstandung, sondern eine Zahl zum Nachsehen.
B5: Monat | C5: Stunden | D5: Tage mit Aufzeichnung | E5: Hinweise | F5: Soll | G5: Saldo | H5: Überstundenkonto
B6: Januar | C6: ='Januar'!$H$38 | D6: =COUNTIF('Januar'!$D$7:$D$37,"Arbeit") | E6: =COUNTIF('Januar'!$K$7:$K$37,"?*") | F6: ='Januar'!$I$38 | G6: ='Januar'!$J$38 | H6: =Stammdaten!$C$10+SUM($G$6:G6)
B7: Februar | C7: ='Februar'!$H$35 | D7: =COUNTIF('Februar'!$D$7:$D$34,"Arbeit") | E7: =COUNTIF('Februar'!$K$7:$K$34,"?*") | F7: ='Februar'!$I$35 | G7: ='Februar'!$J$35 | H7: =Stammdaten!$C$10+SUM($G$6:G7)
B8: März | C8: ='März'!$H$38 | D8: =COUNTIF('März'!$D$7:$D$37,"Arbeit") | E8: =COUNTIF('März'!$K$7:$K$37,"?*") | F8: ='März'!$I$38 | G8: ='März'!$J$38 | H8: =Stammdaten!$C$10+SUM($G$6:G8)
B9: April | C9: ='April'!$H$37 | D9: =COUNTIF('April'!$D$7:$D$36,"Arbeit") | E9: =COUNTIF('April'!$K$7:$K$36,"?*") | F9: ='April'!$I$37 | G9: ='April'!$J$37 | H9: =Stammdaten!$C$10+SUM($G$6:G9)
B10: Mai | C10: ='Mai'!$H$38 | D10: =COUNTIF('Mai'!$D$7:$D$37,"Arbeit") | E10: =COUNTIF('Mai'!$K$7:$K$37,"?*") | F10: ='Mai'!$I$38 | G10: ='Mai'!$J$38 | H10: =Stammdaten!$C$10+SUM($G$6:G10)
B11: Juni | C11: ='Juni'!$H$37 | D11: =COUNTIF('Juni'!$D$7:$D$36,"Arbeit") | E11: =COUNTIF('Juni'!$K$7:$K$36,"?*") | F11: ='Juni'!$I$37 | G11: ='Juni'!$J$37 | H11: =Stammdaten!$C$10+SUM($G$6:G11)
B12: Juli | C12: ='Juli'!$H$38 | D12: =COUNTIF('Juli'!$D$7:$D$37,"Arbeit") | E12: =COUNTIF('Juli'!$K$7:$K$37,"?*") | F12: ='Juli'!$I$38 | G12: ='Juli'!$J$38 | H12: =Stammdaten!$C$10+SUM($G$6:G12)
B13: August | C13: ='August'!$H$38 | D13: =COUNTIF('August'!$D$7:$D$37,"Arbeit") | E13: =COUNTIF('August'!$K$7:$K$37,"?*") | F13: ='August'!$I$38 | G13: ='August'!$J$38 | H13: =Stammdaten!$C$10+SUM($G$6:G13)
B14: September | C14: ='September'!$H$37 | D14: =COUNTIF('September'!$D$7:$D$36,"Arbeit") | E14: =COUNTIF('September'!$K$7:$K$36,"?*") | F14: ='September'!$I$37 | G14: ='September'!$J$37 | H14: =Stammdaten!$C$10+SUM($G$6:G14)
B15: Oktober | C15: ='Oktober'!$H$38 | D15: =COUNTIF('Oktober'!$D$7:$D$37,"Arbeit") | E15: =COUNTIF('Oktober'!$K$7:$K$37,"?*") | F15: ='Oktober'!$I$38 | G15: ='Oktober'!$J$38 | H15: =Stammdaten!$C$10+SUM($G$6:G15)
B16: November | C16: ='November'!$H$37 | D16: =COUNTIF('November'!$D$7:$D$36,"Arbeit") | E16: =COUNTIF('November'!$K$7:$K$36,"?*") | F16: ='November'!$I$37 | G16: ='November'!$J$37 | H16: =Stammdaten!$C$10+SUM($G$6:G16)
B17: Dezember | C17: ='Dezember'!$H$38 | D17: =COUNTIF('Dezember'!$D$7:$D$37,"Arbeit") | E17: =COUNTIF('Dezember'!$K$7:$K$37,"?*") | F17: ='Dezember'!$I$38 | G17: ='Dezember'!$J$38 | H17: =Stammdaten!$C$10+SUM($G$6:G17)
B18: Jahr | C18: =SUM(C6:C17) | D18: =SUM(D6:D17) | E18: =SUM(E6:E17) | F18: =SUM(F6:F17) | G18: =SUM(G6:G17) | H18: =H17
B20: Vereinbart | C20: =Stammdaten!$C$8*52 | D20: Wochenstunden mal 52 Wochen

Sheet Feiertage
B2: Gesetzliche Feiertage 2025
B3: Quelle sind die Feiertagsgesetze der Länder. Diese Tabelle wird von den Monatsblättern gelesen und nicht von Hand geändert.
B5: Datum | C5: Feiertag | D5: BB | E5: BE | F5: BW | G5: BY | H5: HB | I5: HE | J5: HH | K5: MV | L5: NI | M5: NW | N5: RP | O5: SH | P5: SL | Q5: SN | R5: ST | S5: TH
B6: 45658 | C6: Neujahr | D6: x | E6: x | F6: x | G6: x | H6: x | I6: x | J6: x | K6: x | L6: x | M6: x | N6: x | O6: x | P6: x | Q6: x | R6: x | S6: x
B7: 45663 | C7: Heilige Drei Könige | F7: x | G7: x | R7: x
B8: 45724 | C8: Internationaler Frauentag | E8: x | K8: x
B9: 45765 | C9: Karfreitag | D9: x | E9: x | F9: x | G9: x | H9: x | I9: x | J9: x | K9: x | L9: x | M9: x | N9: x | O9: x | P9: x | Q9: x | R9: x | S9: x
B10: 45767 | C10: Ostersonntag | D10: x
B11: 45768 | C11: Ostermontag | D11: x | E11: x | F11: x | G11: x | H11: x | I11: x | J11: x | K11: x | L11: x | M11: x | N11: x | O11: x | P11: x | Q11: x | R11: x | S11: x
B12: 45778 | C12: Tag der Arbeit | D12: x | E12: x | F12: x | G12: x | H12: x | I12: x | J12: x | K12: x | L12: x | M12: x | N12: x | O12: x | P12: x | Q12: x | R12: x | S12: x
B13: 45806 | C13: Christi Himmelfahrt | D13: x | E13: x | F13: x | G13: x | H13: x | I13: x | J13: x | K13: x | L13: x | M13: x | N13: x | O13: x | P13: x | Q13: x | R13: x | S13: x
B14: 45816 | C14: Pfingstsonntag | D14: x
B15: 45817 | C15: Pfingstmontag | D15: x | E15: x | F15: x | G15: x | H15: x | I15: x | J15: x | K15: x | L15: x | M15: x | N15: x | O15: x | P15: x | Q15: x | R15: x | S15: x
B16: 45827 | C16: Fronleichnam | F16: x | G16: x | I16: x | M16: x | N16: x | P16: x
B17: 45884 | C17: Mariä Himmelfahrt | P17: x
B18: 45920 | C18: Weltkindertag | S18: x
B19: 45933 | C19: Tag der Deutschen Einheit | D19: x | E19: x | F19: x | G19: x | H19: x | I19: x | J19: x | K19: x | L19: x | M19: x | N19: x | O19: x | P19: x | Q19: x | R19: x | S19: x
B20: 45961 | C20: Reformationstag | D20: x | H20: x | J20: x | K20: x | L20: x | O20: x | Q20: x | R20: x | S20: x
B21: 45962 | C21: Allerheiligen | F21: x | G21: x | M21: x | N21: x | P21: x
B22: 45980 | C22: Buß- und Bettag | Q22: x
B23: 46016 | C23: Erster Weihnachtstag | D23: x | E23: x | F23: x | G23: x | H23: x | I23: x | J23: x | K23: x | L23: x | M23: x | N23: x | O23: x | P23: x | Q23: x | R23: x | S23: x
B24: 46017 | C24: Zweiter Weihnachtstag | D24: x | E24: x | F24: x | G24: x | H24: x | I24: x | J24: x | K24: x | L24: x | M24: x | N24: x | O24: x | P24: x | Q24: x | R24: x | S24: x
